Workbook
Name _1._DUOMENYS_APIE_ĮMONES__ĮSTAIGAS__ORGANIZACIJAS: #REF!
Name _3._SPORTO_BAZĖS: '[1]Sporto bazės'!#REF!
Name _3._SPORTO_BAZĖS: '[2]Sp.sp.š.'!#REF!
Name _4.2._KITŲ_ORGANIZACIJŲ_LĖŠOS: '[3]Sporto org. lėšos'!$B$1:$IV$1
Name Akmenės: '2.3Sportuojantieji ir tr.'!#REF!
Name Alytaus: '2.3Sportuojantieji ir tr.'!#REF!
Name Alytus: '2.3Sportuojantieji ir tr.'!#REF!
Name Anykščių: '2.3Sportuojantieji ir tr.'!#REF!
Name Birštonas: '2.3Sportuojantieji ir tr.'!#REF!
Name Biržų: '2.3Sportuojantieji ir tr.'!#REF!
Name Druskininkai: '2.3Sportuojantieji ir tr.'!#REF!
Name Elektrėnų: '2.3Sportuojantieji ir tr.'!#REF!
Name Ignalinos: '2.3Sportuojantieji ir tr.'!#REF!
Name Jonavos: '2.3Sportuojantieji ir tr.'!#REF!
Name Joniškio: '2.3Sportuojantieji ir tr.'!#REF!
Name Jurbarko: '2.3Sportuojantieji ir tr.'!#REF!
Name Kaišiadorių: '2.3Sportuojantieji ir tr.'!#REF!
Name Kalvarijos: '2.3Sportuojantieji ir tr.'!#REF!
Name Kaunas: '2.3Sportuojantieji ir tr.'!#REF!
Name Kauno: '2.3Sportuojantieji ir tr.'!#REF!
Name Kazlų_Rūdos: '2.3Sportuojantieji ir tr.'!#REF!
Name Kėdainių: '2.3Sportuojantieji ir tr.'!#REF!
Name Kelmės: '2.3Sportuojantieji ir tr.'!#REF!
Name Klaipėda: '2.3Sportuojantieji ir tr.'!#REF!
Name Klaipėdos: '2.3Sportuojantieji ir tr.'!#REF!
Name Kretingos: '2.3Sportuojantieji ir tr.'!#REF!
Name Kupiškio: '2.3Sportuojantieji ir tr.'!#REF!
Name Lazdijų: '2.3Sportuojantieji ir tr.'!#REF!
Name Marijampolė: '2.3Sportuojantieji ir tr.'!#REF!
Name Mažeikių: '2.3Sportuojantieji ir tr.'!#REF!
Name Molėtų: '2.3Sportuojantieji ir tr.'!#REF!
Name Neringa: '2.3Sportuojantieji ir tr.'!#REF!
Name OLE_LINK7: '4.1.-4.2.Finansai'!#REF!
Name Pagėgių: '2.3Sportuojantieji ir tr.'!#REF!
Name Pakruojo: '2.3Sportuojantieji ir tr.'!#REF!
Name Palanga: '2.3Sportuojantieji ir tr.'!#REF!
Name Panevėžio: '2.3Sportuojantieji ir tr.'!#REF!
Name Panevėžys: '2.3Sportuojantieji ir tr.'!#REF!
Name Pasvalio: '2.3Sportuojantieji ir tr.'!#REF!
Name Plungės: '2.3Sportuojantieji ir tr.'!#REF!
Name Prienų: '2.3Sportuojantieji ir tr.'!#REF!
Name Radviliškio: '2.3Sportuojantieji ir tr.'!#REF!
Name Raseinių: '2.3Sportuojantieji ir tr.'!#REF!
Name Rietavo: '2.3Sportuojantieji ir tr.'!#REF!
Name Rokiškio: '2.3Sportuojantieji ir tr.'!#REF!
Name Skuodo: '2.3Sportuojantieji ir tr.'!#REF!
Name Šakių: '2.3Sportuojantieji ir tr.'!#REF!
Name Šalčininkų: '2.3Sportuojantieji ir tr.'!#REF!
Name Šiauliai: '2.3Sportuojantieji ir tr.'!#REF!
Name Šiaulių: '2.3Sportuojantieji ir tr.'!#REF!
Name Šilalės: '2.3Sportuojantieji ir tr.'!#REF!
Name Šilutės: '2.3Sportuojantieji ir tr.'!#REF!
Name Širvintų: '2.3Sportuojantieji ir tr.'!#REF!
Name Švenčionių: '2.3Sportuojantieji ir tr.'!#REF!
Name Tauragės: '2.3Sportuojantieji ir tr.'!#REF!
Name Telšių: '2.3Sportuojantieji ir tr.'!#REF!
Name Trakų: '2.3Sportuojantieji ir tr.'!#REF!
Name Ukmergės: '2.3Sportuojantieji ir tr.'!#REF!
Name Utenos: '2.3Sportuojantieji ir tr.'!#REF!
Name Varėnos: '2.3Sportuojantieji ir tr.'!#REF!

Sheet SUC1_B. duomenys
A1: Kodas registre | C1: 2 | D1: 9 | E1: 0 | F1: 4 | G1: 5 | H1: 8 | I1: 0 | J1: 7 | K1: 0 | N1: Forma Nr. SUC-1
N2: PATVIRTINTA
N3: Lietuvos sporto centro direktoriaus 2025 m. sausio 27 d.
N4: įsakymu Nr. V-8
N5: SUDERINTA
N6: Valstybės duomenų agentūros 2024 m. sausio 18 d. raštu Nr. SD-64
N8: Pateikiama:
A9: Pasiteirauti: tel. +370 619 28 206, el. p. statistika@lscentras.lt. | N9: 1. Miesto, rajono, savivaldybės sporto padaliniui kasmet
N10: 2. Lietuvos sporto centrui kasmet
A13: BĮ KLAIPĖDOS MIESTO LENGVOSIOS ATLETIKOS MOKYKLA, BĮ KLAIPĖDOS „GINTARO“ SPORTO CENTRAS, BĮ KLAIPĖDOS VLADO KNAŠIAUS KREPŠINIO MOKYKLA, BĮ KLAIPĖDOS "VIESULO" SPORTO CENTRAS, BĮ KLAIPĖDOS MIESTO SPORTO BAZIŲ VALDYMO CENTRAS.
A14: (Sportininkų ugdymo centro(-ų) pavadinimas(-ai))
A17: (adresas, telefonas, el. paštas)
A19: Klaipėdos miesto savivaldybės administracijos Kultūros, sporto ir turizmo departamento Sporto, jaunimo ir bendruomeninių reikalų skyrius
A20: (miesto, rajono, savivaldybės sporto padalinio padalinio pavadinimas)
A21: Liepų g. 11, Klaipėda +370 40 17 22, Viktorija.Butkeviciene@klaipeda.lt
A22: (adresas, telefonas, el. paštas)
A23: SPORTININKŲ UGDYMO CENTRŲ SUVESTINĖ METINĖ 2024 M. STATISTINĖ ATASKAITA
A25: 1. Bendrieji duomenys
A26: Eil. Nr. | B26: Sporto šaka (ir/arba disciplina) | C26: Moksleivių (sportininkų) skaičius kalendorinių metų pabaigoje | H26: Mokomųjų grupių skaičius kalendorinių metų pabaigoje | M26: Meistriškumo pakopų (MP) rodikliai metų pabaigoje
C27: 18 metų ir jaunesni | D27: 19-29 metų | E27: 30 ir daugiau metų | F27: Iš viso | G27: Iš jų merginų, moterų | H27: Pradinio rengimo, neformalaus ugdymo | I27: Meistriškumo ugdymo | J27: Meistriškumo tobulinimo | K27: Aukšto meistriškumo | L27: Iš viso
M28: MP7-9 | N28: MP6 | O28: MP5 | P28: MP4 | Q28: MP3 | R28: MP2 | S28: MP1 | T28: Iš viso
B29: 2 | C29: 3 | D29: 4 | E29: 5 | F29: 6 | G29: 7 | H29: 8 | I29: 9 | J29: 10 | K29: 11 | L29: 12 | M29: 13 | N29: 14 | O29: 15 | P29: 16 | Q29: 17 | R29: 18 | S29: 19 | T29: 20
B30: Į olimpinių žaidynių programą įtrauktos sporto šakos
A31: 1 | B31: Badmintonas | C31: 7 | D31: 2 | F31: =SUM(C31:E31) -> 9 | G31: 4 | J31: 1 | L31: =SUM(H31:K31) -> 1 | Q31: 4 | T31: =SUM(M31:S31) -> 4 | V31: =IF(G31>F31,"Klaida! Negali būti moterų daugiau nei iš viso buvo sportininkų!",IF(T31>F31,"Klaida! Negali būti meistriškumo pakopų daugiau nei iš viso buvo sportininkų!",""))
A32: 2 | B32: Baidarių ir kanojų irklavimas | F32: =SUM(C32:E32) -> 0 | L32: =SUM(H32:K32) -> 0 | T32: =SUM(M32:S32) -> 0 | V32: =IF(G32>F32,"Klaida! Negali būti moterų daugiau nei iš viso buvo sportininkų!",IF(T32>F32,"Klaida! Negali būti meistriškumo pakopų daugiau nei iš viso buvo sportininkų!",""))
A33: 3 | B33: Banglenčių sportas | F33: =SUM(C33:E33) -> 0 | L33: =SUM(H33:K33) -> 0 | T33: =SUM(M33:S33) -> 0 | V33: =IF(G33>F33,"Klaida! Negali būti moterų daugiau nei iš viso buvo sportininkų!",IF(T33>F33,"Klaida! Negali būti meistriškumo pakopų daugiau nei iš viso buvo sportininkų!",""))
A34: 4 | B34: Beisbolas* | F34: =SUM(C34:E34) -> 0 | L34: =SUM(H34:K34) -> 0 | T34: =SUM(M34:S34) -> 0 | V34: =IF(G34>F34,"Klaida! Negali būti moterų daugiau nei iš viso buvo sportininkų!",IF(T34>F34,"Klaida! Negali būti meistriškumo pakopų daugiau nei iš viso buvo sportininkų!",""))
A35: 5 | B35: Beisbolas (softbolas)* | F35: =SUM(C35:E35) -> 0 | L35: =SUM(H35:K35) -> 0 | T35: =SUM(M35:S35) -> 0 | V35: =IF(G35>F35,"Klaida! Negali būti moterų daugiau nei iš viso buvo sportininkų!",IF(T35>F35,"Klaida! Negali būti meistriškumo pakopų daugiau nei iš viso buvo sportininkų!",""))
A36: 6 | B36: Biatlonas | F36: =SUM(C36:E36) -> 0 | L36: =SUM(H36:K36) -> 0 | T36: =SUM(M36:S36) -> 0 | V36: =IF(G36>F36,"Klaida! Negali būti moterų daugiau nei iš viso buvo sportininkų!",IF(T36>F36,"Klaida! Negali būti meistriškumo pakopų daugiau nei iš viso buvo sportininkų!",""))
A37: 7 | B37: Bobslėjus | F37: =SUM(C37:E37) -> 0 | L37: =SUM(H37:K37) -> 0 | T37: =SUM(M37:S37) -> 0 | V37: =IF(G37>F37,"Klaida! Negali būti moterų daugiau nei iš viso buvo sportininkų!",IF(T37>F37,"Klaida! Negali būti meistriškumo pakopų daugiau nei iš viso buvo sportininkų!",""))
A38: 8 | B38: Boksas | C38: 46 | D38: 4 | F38: =SUM(C38:E38) -> 50 | G38: 5 | H38: 3 | I38: 3 | J38: 2 | L38: =SUM(H38:K38) -> 8 | O38: 2 | P38: 13 | Q38: 4 | R38: 1 | T38: =SUM(M38:S38) -> 20 | V38: =IF(G38>F38,"Klaida! Negali būti moterų daugiau nei iš viso buvo sportininkų!",IF(T38>F38,"Klaida! Negali būti meistriškumo pakopų daugiau nei iš viso buvo sportininkų!",""))
A39: 9 | B39: Breikas | F39: =SUM(C39:E39) -> 0 | L39: =SUM(H39:K39) -> 0 | T39: =SUM(M39:S39) -> 0
A40: 10 | B40: Buriavimas | F40: =SUM(C40:E40) -> 0 | L40: =SUM(H40:K40) -> 0 | T40: =SUM(M40:S40) -> 0 | V40: =IF(G40>F40,"Klaida! Negali būti moterų daugiau nei iš viso buvo sportininkų!",IF(T40>F40,"Klaida! Negali būti meistriškumo pakopų daugiau nei iš viso buvo sportininkų!",""))
A41: 11 | B41: Čiuožimas (dailusis) | F41: =SUM(C41:E41) -> 0 | L41: =SUM(H41:K41) -> 0 | T41: =SUM(M41:S41) -> 0 | V41: =IF(G41>F41,"Klaida! Negali būti moterų daugiau nei iš viso buvo sportininkų!",IF(T41>F41,"Klaida! Negali būti meistriškumo pakopų daugiau nei iš viso buvo sportininkų!",""))
A42: 12 | B42: Čiuožimas (greitasis) | F42: =SUM(C42:E42) -> 0 | L42: =SUM(H42:K42) -> 0 | T42: =SUM(M42:S42) -> 0 | V42: =IF(G42>F42,"Klaida! Negali būti moterų daugiau nei iš viso buvo sportininkų!",IF(T42>F42,"Klaida! Negali būti meistriškumo pakopų daugiau nei iš viso buvo sportininkų!",""))
A43: 13 | B43: Dviračių sportas (plentas) | C43: 70 | F43: =SUM(C43:E43) -> 70 | G43: 10 | H43: 3 | I43: 3 | J43: 2 | L43: =SUM(H43:K43) -> 8 | O43: 3 | P43: 6 | T43: =SUM(M43:S43) -> 9 | V43: =IF(G43>F43,"Klaida! Negali būti moterų daugiau nei iš viso buvo sportininkų!",IF(T43>F43,"Klaida! Negali būti meistriškumo pakopų daugiau nei iš viso buvo sportininkų!",""))
A44: 14 | B44: Dviračių sportas (trekas) | F44: =SUM(C44:E44) -> 0 | L44: =SUM(H44:K44) -> 0 | T44: =SUM(M44:S44) -> 0 | V44: =IF(G44>F44,"Klaida! Negali būti moterų daugiau nei iš viso buvo sportininkų!",IF(T44>F44,"Klaida! Negali būti meistriškumo pakopų daugiau nei iš viso buvo sportininkų!",""))
A45: 15 | B45: Dviračių sportas (kalnų) | F45: =SUM(C45:E45) -> 0 | L45: =SUM(H45:K45) -> 0 | T45: =SUM(M45:S45) -> 0 | V45: =IF(G45>F45,"Klaida! Negali būti moterų daugiau nei iš viso buvo sportininkų!",IF(T45>F45,"Klaida! Negali būti meistriškumo pakopų daugiau nei iš viso buvo sportininkų!",""))
A46: 16 | B46: Dviračių sportas (mažųjų dviračių kroso) | F46: =SUM(C46:E46) -> 0 | L46: =SUM(H46:K46) -> 0 | T46: =SUM(M46:S46) -> 0 | V46: =IF(G46>F46,"Klaida! Negali būti moterų daugiau nei iš viso buvo sportininkų!",IF(T46>F46,"Klaida! Negali būti meistriškumo pakopų daugiau nei iš viso buvo sportininkų!",""))
A47: 17 | B47: Dziudo | C47: 46 | F47: =SUM(C47:E47) -> 46 | G47: 7 | H47: 1 | I47: 3 | J47: 1 | L47: =SUM(H47:K47) -> 5 | O47: 3 | P47: 6 | T47: =SUM(M47:S47) -> 9 | V47: =IF(G47>F47,"Klaida! Negali būti moterų daugiau nei iš viso buvo sportininkų!",IF(T47>F47,"Klaida! Negali būti meistriškumo pakopų daugiau nei iš viso buvo sportininkų!",""))
...

Sheet SUC1_Treneriai
A1: =IF('SUC1_B. duomenys'!A13:U13="","",'SUC1_B. duomenys'!A13:U13) -> BĮ KLAIPĖDOS MIESTO LENGVOSIOS ATLETIKOS MOKYKLA, BĮ KLAIPĖDOS „GINTARO“ SPORTO CENTRAS, BĮ KLAIPĖDOS VLADO KNAŠIAUS KREPŠINIO MOKYKLA, BĮ KLAIPĖDOS "VIESULO" SPORTO CENTRAS, BĮ KLAIPĖDOS MIESTO SPORTO BAZIŲ VALDYMO CENTRAS.
A2: (Sportininkų ugdymo centro(-ų) pavadinimas(-ai))
A3: 2. 2024 M. AUKŠTO MEISTRIŠKUMO IR FIZINIO AKTYVUMO TRENERIAI IR INSTRUKTORIAI | AF3: Forma Nr. SUC-1
A4: Eil. Nr. | B4: Sporto šaka (ir/arba disciplina) | C4: Aukštasis meistriškumas (AM) | U4: Fizinis aktyvumas (FA) | AF4: Savanoriai
C5: AM Sporto treneriai | O5: AM Sporto instruktoriai | U5: FA treneriai | Z5: FA instruktoriai
C6: Iš viso | D6: Iš jų moterų | E6: Neturi kvalifikacinės kategorijos | F6: Turi kvalifikacines kategorijas | L6: Turi aukštąjį sporto studijų krypties išsilavinimą | M6: Baigęs mokymus aukštojoje mokykloje | N6: Turi veiklos leidimą | O6: Iš viso | P6: Iš jų moterų | Q6: Turi aukštąjį sporto studijų krypties išsilavinimą | R6: Baigęs mokymus aukštojoje mokykloje | S6: Studijuojantis sporto arba fiz. aktyvumo krypties studijų programą | T6: Turi veiklos leidimą | U6: Iš viso | V6: Iš jų moterų | W6: Turi aukštąjį sporto studijų krypties išsilavinimą | X6: Baigęs mokymus aukštojoje mokykloje | Y6: Turi veiklos leidimą | Z6: Iš viso | AA6: Iš jų moterų | AB6: Turi aukštąjį sporto studijų krypties išsilavinimą | AC6: Baigęs mokymus aukštojoje mokykloje | AD6: Studijuojantis sporto arba fiz. aktyvumo krypties studijų programą | AE6: Turi veiklos leidimą
F7: Pirma | G7: Antra | H7: Trečia | I7: Ketvirta | J7: Penkta | K7: Šešta
A9: 1 | B9: 2 | C9: 3 | D9: 4 | E9: 5 | F9: 6 | G9: 7 | H9: 8 | I9: 9 | J9: 10 | K9: 11 | L9: 12 | M9: 13 | N9: 14 | O9: 15 | P9: 16 | Q9: 17 | R9: 18 | S9: 19 | T9: 20 | U9: 21 | V9: 22 | W9: 23 | X9: 24 | Y9: 25 | Z9: 26 | AA9: 27 | AB9: 28 | AC9: 29 | AD9: 30 | AE9: 31 | AF9: 32
B10: Į olimpinių žaidynių programą įtrauktos sporto šakos
A11: ='SUC1_B. duomenys'!A31 -> 1 | B11: ='SUC1_B. duomenys'!B31 -> Badmintonas | C11: 1 | E11: =C11-(F11+G11+H11+I11+J11+K11) -> 0 | K11: 1 | L11: 1 | O11: =Q11+R11+S11+T11 -> 0 | U11: =W11+X11+Y11 -> 0 | Z11: =AB11+AC11+AD11+AE11 -> 0 | AH11: =IF(D11>C11,"Klaida! Negali būti moterų daugiau nei iš viso trenerių/AM sp. specialistų!",IF(F11+G11+H11+I11+J11+K11>C11,"Klaida! Negali būti kategorijų daugiau negu trenerių/AM sp. specialistų!",IF(L11+N11>C11,"Klaida! Negali būti išsilavinimų, veiklos leidimų ir t.t. daugiau negu trenerių/AM sp. specialistų!",IF(P11>O11,"Klaida! Negali būti moterų daugiau nei iš viso AM instruktorių!",IF(Q11+R11+S11+T11>O11,"Klaida! Negali būti išsilavinimų, veiklos leidimų ir t.t. daugiau negu AM instruktorių!",IF(V11>U11,"Klaida! Negali būti moterų daugiau nei iš viso FA specialistų!",IF(W11+X11+Y11>U11,"Klaida! Negali būti išsilavinimų, veiklos leidimų ir t.t. daugiau negu FA specialistų!",IF(AA11>Z11,"Klaida! Negali būti moterų daugiau nei iš viso FA instruktorių!",IF(AB11+AC11+AD11+AE11>Z11,"Klaida! Negali būti išsilavinimų, veiklos leidimų ir t.t. daugiau negu FA instruktorių!","")))))))))
A12: ='SUC1_B. duomenys'!A32 -> 2 | B12: ='SUC1_B. duomenys'!B32 -> Baidarių ir kanojų irklavimas | C12: =L12+M12+N12 -> 0 | E12: =C12-(F12+G12+H12+I12+J12+K12) -> 0 | O12: =Q12+R12+S12+T12 -> 0 | U12: =W12+X12+Y12 -> 0 | Z12: =AB12+AC12+AD12+AE12 -> 0 | AH12: =IF(D12>C12,"Klaida! Negali būti moterų daugiau nei iš viso trenerių/AM sp. specialistų!",IF(F12+G12+H12+I12+J12+K12>C12,"Klaida! Negali būti kategorijų daugiau negu trenerių/AM sp. specialistų!",IF(L12+N12>C12,"Klaida! Negali būti išsilavinimų, veiklos leidimų ir t.t. daugiau negu trenerių/AM sp. specialistų!",IF(P12>O12,"Klaida! Negali būti moterų daugiau nei iš viso AM instruktorių!",IF(Q12+R12+S12+T12>O12,"Klaida! Negali būti išsilavinimų, veiklos leidimų ir t.t. daugiau negu AM instruktorių!",IF(V12>U12,"Klaida! Negali būti moterų daugiau nei iš viso FA specialistų!",IF(W12+X12+Y12>U12,"Klaida! Negali būti išsilavinimų, veiklos leidimų ir t.t. daugiau negu FA specialistų!",IF(AA12>Z12,"Klaida! Negali būti moterų daugiau nei iš viso FA instruktorių!",IF(AB12+AC12+AD12+AE12>Z12,"Klaida! Negali būti išsilavinimų, veiklos leidimų ir t.t. daugiau negu FA instruktorių!","")))))))))
A13: ='SUC1_B. duomenys'!A33 -> 3 | B13: ='SUC1_B. duomenys'!B33 -> Banglenčių sportas | C13: =L13+M13+N13 -> 0 | E13: =C13-(F13+G13+H13+I13+J13+K13) -> 0 | O13: =Q13+R13+S13+T13 -> 0 | U13: =W13+X13+Y13 -> 0 | Z13: =AB13+AC13+AD13+AE13 -> 0 | AH13: =IF(D13>C13,"Klaida! Negali būti moterų daugiau nei iš viso trenerių/AM sp. specialistų!",IF(F13+G13+H13+I13+J13+K13>C13,"Klaida! Negali būti kategorijų daugiau negu trenerių/AM sp. specialistų!",IF(L13+N13>C13,"Klaida! Negali būti išsilavinimų, veiklos leidimų ir t.t. daugiau negu trenerių/AM sp. specialistų!",IF(P13>O13,"Klaida! Negali būti moterų daugiau nei iš viso AM instruktorių!",IF(Q13+R13+S13+T13>O13,"Klaida! Negali būti išsilavinimų, veiklos leidimų ir t.t. daugiau negu AM instruktorių!",IF(V13>U13,"Klaida! Negali būti moterų daugiau nei iš viso FA specialistų!",IF(W13+X13+Y13>U13,"Klaida! Negali būti išsilavinimų, veiklos leidimų ir t.t. daugiau negu FA specialistų!",IF(AA13>Z13,"Klaida! Negali būti moterų daugiau nei iš viso FA instruktorių!",IF(AB13+AC13+AD13+AE13>Z13,"Klaida! Negali būti išsilavinimų, veiklos leidimų ir t.t. daugiau negu FA instruktorių!","")))))))))
A14: ='SUC1_B. duomenys'!A34 -> 4 | B14: ='SUC1_B. duomenys'!B34 -> Beisbolas* | C14: =L14+M14+N14 -> 0 | E14: =C14-(F14+G14+H14+I14+J14+K14) -> 0 | O14: =Q14+R14+S14+T14 -> 0 | U14: =W14+X14+Y14 -> 0 | Z14: =AB14+AC14+AD14+AE14 -> 0 | AH14: =IF(D14>C14,"Klaida! Negali būti moterų daugiau nei iš viso trenerių/AM sp. specialistų!",IF(F14+G14+H14+I14+J14+K14>C14,"Klaida! Negali būti kategorijų daugiau negu trenerių/AM sp. specialistų!",IF(L14+N14>C14,"Klaida! Negali būti išsilavinimų, veiklos leidimų ir t.t. daugiau negu trenerių/AM sp. specialistų!",IF(P14>O14,"Klaida! Negali būti moterų daugiau nei iš viso AM instruktorių!",IF(Q14+R14+S14+T14>O14,"Klaida! Negali būti išsilavinimų, veiklos leidimų ir t.t. daugiau negu AM instruktorių!",IF(V14>U14,"Klaida! Negali būti moterų daugiau nei iš viso FA specialistų!",IF(W14+X14+Y14>U14,"Klaida! Negali būti išsilavinimų, veiklos leidimų ir t.t. daugiau negu FA specialistų!",IF(AA14>Z14,"Klaida! Negali būti moterų daugiau nei iš viso FA instruktorių!",IF(AB14+AC14+AD14+AE14>Z14,"Klaida! Negali būti išsilavinimų, veiklos leidimų ir t.t. daugiau negu FA instruktorių!","")))))))))
A15: ='SUC1_B. duomenys'!A35 -> 5 | B15: ='SUC1_B. duomenys'!B35 -> Beisbolas (softbolas)* | C15: =L15+M15+N15 -> 0 | E15: =C15-(F15+G15+H15+I15+J15+K15) -> 0 | O15: =Q15+R15+S15+T15 -> 0 | U15: =W15+X15+Y15 -> 0 | Z15: =AB15+AC15+AD15+AE15 -> 0 | AH15: =IF(D15>C15,"Klaida! Negali būti moterų daugiau nei iš viso trenerių/AM sp. specialistų!",IF(F15+G15+H15+I15+J15+K15>C15,"Klaida! Negali būti kategorijų daugiau negu trenerių/AM sp. specialistų!",IF(L15+N15>C15,"Klaida! Negali būti išsilavinimų, veiklos leidimų ir t.t. daugiau negu trenerių/AM sp. specialistų!",IF(P15>O15,"Klaida! Negali būti moterų daugiau nei iš viso AM instruktorių!",IF(Q15+R15+S15+T15>O15,"Klaida! Negali būti išsilavinimų, veiklos leidimų ir t.t. daugiau negu AM instruktorių!",IF(V15>U15,"Klaida! Negali būti moterų daugiau nei iš viso FA specialistų!",IF(W15+X15+Y15>U15,"Klaida! Negali būti išsilavinimų, veiklos leidimų ir t.t. daugiau negu FA specialistų!",IF(AA15>Z15,"Klaida! Negali būti moterų daugiau nei iš viso FA instruktorių!",IF(AB15+AC15+AD15+AE15>Z15,"Klaida! Negali būti išsilavinimų, veiklos leidimų ir t.t. daugiau negu FA instruktorių!","")))))))))
A16: ='SUC1_B. duomenys'!A36 -> 6 | B16: ='SUC1_B. duomenys'!B36 -> Biatlonas | C16: =L16+M16+N16 -> 0 | E16: =C16-(F16+G16+H16+I16+J16+K16) -> 0 | O16: =Q16+R16+S16+T16 -> 0 | U16: =W16+X16+Y16 -> 0 | Z16: =AB16+AC16+AD16+AE16 -> 0 | AH16: =IF(D16>C16,"Klaida! Negali būti moterų daugiau nei iš viso trenerių/AM sp. specialistų!",IF(F16+G16+H16+I16+J16+K16>C16,"Klaida! Negali būti kategorijų daugiau negu trenerių/AM sp. specialistų!",IF(L16+N16>C16,"Klaida! Negali būti išsilavinimų, veiklos leidimų ir t.t. daugiau negu trenerių/AM sp. specialistų!",IF(P16>O16,"Klaida! Negali būti moterų daugiau nei iš viso AM instruktorių!",IF(Q16+R16+S16+T16>O16,"Klaida! Negali būti išsilavinimų, veiklos leidimų ir t.t. daugiau negu AM instruktorių!",IF(V16>U16,"Klaida! Negali būti moterų daugiau nei iš viso FA specialistų!",IF(W16+X16+Y16>U16,"Klaida! Negali būti išsilavinimų, veiklos leidimų ir t.t. daugiau negu FA specialistų!",IF(AA16>Z16,"Klaida! Negali būti moterų daugiau nei iš viso FA instruktorių!",IF(AB16+AC16+AD16+AE16>Z16,"Klaida! Negali būti išsilavinimų, veiklos leidimų ir t.t. daugiau negu FA instruktorių!","")))))))))
A17: ='SUC1_B. duomenys'!A37 -> 7 | B17: ='SUC1_B. duomenys'!B37 -> Bobslėjus | C17: =L17+M17+N17 -> 0 | E17: =C17-(F17+G17+H17+I17+J17+K17) -> 0 | O17: =Q17+R17+S17+T17 -> 0 | U17: =W17+X17+Y17 -> 0 | Z17: =AB17+AC17+AD17+AE17 -> 0 | AH17: =IF(D17>C17,"Klaida! Negali būti moterų daugiau nei iš viso trenerių/AM sp. specialistų!",IF(F17+G17+H17+I17+J17+K17>C17,"Klaida! Negali būti kategorijų daugiau negu trenerių/AM sp. specialistų!",IF(L17+N17>C17,"Klaida! Negali būti išsilavinimų, veiklos leidimų ir t.t. daugiau negu trenerių/AM sp. specialistų!",IF(P17>O17,"Klaida! Negali būti moterų daugiau nei iš viso AM instruktorių!",IF(Q17+R17+S17+T17>O17,"Klaida! Negali būti išsilavinimų, veiklos leidimų ir t.t. daugiau negu AM instruktorių!",IF(V17>U17,"Klaida! Negali būti moterų daugiau nei iš viso FA specialistų!",IF(W17+X17+Y17>U17,"Klaida! Negali būti išsilavinimų, veiklos leidimų ir t.t. daugiau negu FA specialistų!",IF(AA17>Z17,"Klaida! Negali būti moterų daugiau nei iš viso FA instruktorių!",IF(AB17+AC17+AD17+AE17>Z17,"Klaida! Negali būti išsilavinimų, veiklos leidimų ir t.t. daugiau negu FA instruktorių!","")))))))))
A18: ='SUC1_B. duomenys'!A38 -> 8 | B18: ='SUC1_B. duomenys'!B38 -> Boksas | C18: =L18+M18+N18 -> 4 | E18: =C18-(F18+G18+H18+I18+J18+K18) -> 0 | G18: 2 | H18: 2 | L18: 4 | O18: =Q18+R18+S18+T18 -> 0 | U18: =W18+X18+Y18 -> 0 | Z18: =AB18+AC18+AD18+AE18 -> 0 | AH18: =IF(D18>C18,"Klaida! Negali būti moterų daugiau nei iš viso trenerių/AM sp. specialistų!",IF(F18+G18+H18+I18+J18+K18>C18,"Klaida! Negali būti kategorijų daugiau negu trenerių/AM sp. specialistų!",IF(L18+N18>C18,"Klaida! Negali būti išsilavinimų, veiklos leidimų ir t.t. daugiau negu trenerių/AM sp. specialistų!",IF(P18>O18,"Klaida! Negali būti moterų daugiau nei iš viso AM instruktorių!",IF(Q18+R18+S18+T18>O18,"Klaida! Negali būti išsilavinimų, veiklos leidimų ir t.t. daugiau negu AM instruktorių!",IF(V18>U18,"Klaida! Negali būti moterų daugiau nei iš viso FA specialistų!",IF(W18+X18+Y18>U18,"Klaida! Negali būti išsilavinimų, veiklos leidimų ir t.t. daugiau negu FA specialistų!",IF(AA18>Z18,"Klaida! Negali būti moterų daugiau nei iš viso FA instruktorių!",IF(AB18+AC18+AD18+AE18>Z18,"Klaida! Negali būti išsilavinimų, veiklos leidimų ir t.t. daugiau negu FA instruktorių!","")))))))))
A19: 9 | B19: Breikas | C19: =L19+M19+N19 -> 0 | E19: =C19-(F19+G19+H19+I19+J19+K19) -> 0 | O19: =Q19+R19+S19+T19 -> 0 | U19: =W19+X19+Y19 -> 0 | Z19: =AB19+AC19+AD19+AE19 -> 0 | AH19: =IF(D19>C19,"Klaida! Negali būti moterų daugiau nei iš viso trenerių/AM sp. specialistų!",IF(F19+G19+H19+I19+J19+K19>C19,"Klaida! Negali būti kategorijų daugiau negu trenerių/AM sp. specialistų!",IF(L19+N19>C19,"Klaida! Negali būti išsilavinimų, veiklos leidimų ir t.t. daugiau negu trenerių/AM sp. specialistų!",IF(P19>O19,"Klaida! Negali būti moterų daugiau nei iš viso AM instruktorių!",IF(Q19+R19+S19+T19>O19,"Klaida! Negali būti išsilavinimų, veiklos leidimų ir t.t. daugiau negu AM instruktorių!",IF(V19>U19,"Klaida! Negali būti moterų daugiau nei iš viso FA specialistų!",IF(W19+X19+Y19>U19,"Klaida! Negali būti išsilavinimų, veiklos leidimų ir t.t. daugiau negu FA specialistų!",IF(AA19>Z19,"Klaida! Negali būti moterų daugiau nei iš viso FA instruktorių!",IF(AB19+AC19+AD19+AE19>Z19,"Klaida! Negali būti išsilavinimų, veiklos leidimų ir t.t. daugiau negu FA instruktorių!","")))))))))
A20: ='SUC1_B. duomenys'!A40 -> 10 | B20: ='SUC1_B. duomenys'!B40 -> Buriavimas | C20: =L20+M20+N20 -> 0 | E20: =C20-(F20+G20+H20+I20+J20+K20) -> 0 | O20: =Q20+R20+S20+T20 -> 0 | U20: =W20+X20+Y20 -> 0 | Z20: =AB20+AC20+AD20+AE20 -> 0 | AH20: =IF(D20>C20,"Klaida! Negali būti moterų daugiau nei iš viso trenerių/AM sp. specialistų!",IF(F20+G20+H20+I20+J20+K20>C20,"Klaida! Negali būti kategorijų daugiau negu trenerių/AM sp. specialistų!",IF(L20+N20>C20,"Klaida! Negali būti išsilavinimų, veiklos leidimų ir t.t. daugiau negu trenerių/AM sp. specialistų!",IF(P20>O20,"Klaida! Negali būti moterų daugiau nei iš viso AM instruktorių!",IF(Q20+R20+S20+T20>O20,"Klaida! Negali būti išsilavinimų, veiklos leidimų ir t.t. daugiau negu AM instruktorių!",IF(V20>U20,"Klaida! Negali būti moterų daugiau nei iš viso FA specialistų!",IF(W20+X20+Y20>U20,"Klaida! Negali būti išsilavinimų, veiklos leidimų ir t.t. daugiau negu FA specialistų!",IF(AA20>Z20,"Klaida! Negali būti moterų daugiau nei iš viso FA instruktorių!",IF(AB20+AC20+AD20+AE20>Z20,"Klaida! Negali būti išsilavinimų, veiklos leidimų ir t.t. daugiau negu FA instruktorių!","")))))))))
A21: ='SUC1_B. duomenys'!A41 -> 11 | B21: ='SUC1_B. duomenys'!B41 -> Čiuožimas (dailusis) | C21: =L21+M21+N21 -> 0 | E21: =C21-(F21+G21+H21+I21+J21+K21) -> 0 | O21: =Q21+R21+S21+T21 -> 0 | U21: =W21+X21+Y21 -> 0 | Z21: =AB21+AC21+AD21+AE21 -> 0 | AH21: =IF(D21>C21,"Klaida! Negali būti moterų daugiau nei iš viso trenerių/AM sp. specialistų!",IF(F21+G21+H21+I21+J21+K21>C21,"Klaida! Negali būti kategorijų daugiau negu trenerių/AM sp. specialistų!",IF(L21+N21>C21,"Klaida! Negali būti išsilavinimų, veiklos leidimų ir t.t. daugiau negu trenerių/AM sp. specialistų!",IF(P21>O21,"Klaida! Negali būti moterų daugiau nei iš viso AM instruktorių!",IF(Q21+R21+S21+T21>O21,"Klaida! Negali būti išsilavinimų, veiklos leidimų ir t.t. daugiau negu AM instruktorių!",IF(V21>U21,"Klaida! Negali būti moterų daugiau nei iš viso FA specialistų!",IF(W21+X21+Y21>U21,"Klaida! Negali būti išsilavinimų, veiklos leidimų ir t.t. daugiau negu FA specialistų!",IF(AA21>Z21,"Klaida! Negali būti moterų daugiau nei iš viso FA instruktorių!",IF(AB21+AC21+AD21+AE21>Z21,"Klaida! Negali būti išsilavinimų, veiklos leidimų ir t.t. daugiau negu FA instruktorių!","")))))))))
A22: ='SUC1_B. duomenys'!A42 -> 12 | B22: ='SUC1_B. duomenys'!B42 -> Čiuožimas (greitasis) | C22: =L22+M22+N22 -> 0 | E22: =C22-(F22+G22+H22+I22+J22+K22) -> 0 | O22: =Q22+R22+S22+T22 -> 0 | U22: =W22+X22+Y22 -> 0 | Z22: =AB22+AC22+AD22+AE22 -> 0 | AH22: =IF(D22>C22,"Klaida! Negali būti moterų daugiau nei iš viso trenerių/AM sp. specialistų!",IF(F22+G22+H22+I22+J22+K22>C22,"Klaida! Negali būti kategorijų daugiau negu trenerių/AM sp. specialistų!",IF(L22+N22>C22,"Klaida! Negali būti išsilavinimų, veiklos leidimų ir t.t. daugiau negu trenerių/AM sp. specialistų!",IF(P22>O22,"Klaida! Negali būti moterų daugiau nei iš viso AM instruktorių!",IF(Q22+R22+S22+T22>O22,"Klaida! Negali būti išsilavinimų, veiklos leidimų ir t.t. daugiau negu AM instruktorių!",IF(V22>U22,"Klaida! Negali būti moterų daugiau nei iš viso FA specialistų!",IF(W22+X22+Y22>U22,"Klaida! Negali būti išsilavinimų, veiklos leidimų ir t.t. daugiau negu FA specialistų!",IF(AA22>Z22,"Klaida! Negali būti moterų daugiau nei iš viso FA instruktorių!",IF(AB22+AC22+AD22+AE22>Z22,"Klaida! Negali būti išsilavinimų, veiklos leidimų ir t.t. daugiau negu FA instruktorių!","")))))))))
A23: ='SUC1_B. duomenys'!A43 -> 13 | B23: ='SUC1_B. duomenys'!B43 -> Dviračių sportas (plentas) | C23: 3 | D23: 1 | E23: =C23-(F23+G23+H23+I23+J23+K23) -> 0 | H23: 3 | L23: 3 | O23: =Q23+R23+S23+T23 -> 0 | U23: =W23+X23+Y23 -> 0 | Z23: =AB23+AC23+AD23+AE23 -> 0 | AH23: =IF(D23>C23,"Klaida! Negali būti moterų daugiau nei iš viso trenerių/AM sp. specialistų!",IF(F23+G23+H23+I23+J23+K23>C23,"Klaida! Negali būti kategorijų daugiau negu trenerių/AM sp. specialistų!",IF(L23+N23>C23,"Klaida! Negali būti išsilavinimų, veiklos leidimų ir t.t. daugiau negu trenerių/AM sp. specialistų!",IF(P23>O23,"Klaida! Negali būti moterų daugiau nei iš viso AM instruktorių!",IF(Q23+R23+S23+T23>O23,"Klaida! Negali būti išsilavinimų, veiklos leidimų ir t.t. daugiau negu AM instruktorių!",IF(V23>U23,"Klaida! Negali būti moterų daugiau nei iš viso FA specialistų!",IF(W23+X23+Y23>U23,"Klaida! Negali būti išsilavinimų, veiklos leidimų ir t.t. daugiau negu FA specialistų!",IF(AA23>Z23,"Klaida! Negali būti moterų daugiau nei iš viso FA instruktorių!",IF(AB23+AC23+AD23+AE23>Z23,"Klaida! Negali būti išsilavinimų, veiklos leidimų ir t.t. daugiau negu FA instruktorių!","")))))))))
A24: ='SUC1_B. duomenys'!A44 -> 14 | B24: ='SUC1_B. duomenys'!B44 -> Dviračių sportas (trekas) | C24: =L24+M24+N24 -> 0 | E24: =C24-(F24+G24+H24+I24+J24+K24) -> 0 | O24: =Q24+R24+S24+T24 -> 0 | U24: =W24+X24+Y24 -> 0 | Z24: =AB24+AC24+AD24+AE24 -> 0 | AH24: =IF(D24>C24,"Klaida! Negali būti moterų daugiau nei iš viso trenerių/AM sp. specialistų!",IF(F24+G24+H24+I24+J24+K24>C24,"Klaida! Negali būti kategorijų daugiau negu trenerių/AM sp. specialistų!",IF(L24+N24>C24,"Klaida! Negali būti išsilavinimų, veiklos leidimų ir t.t. daugiau negu trenerių/AM sp. specialistų!",IF(P24>O24,"Klaida! Negali būti moterų daugiau nei iš viso AM instruktorių!",IF(Q24+R24+S24+T24>O24,"Klaida! Negali būti išsilavinimų, veiklos leidimų ir t.t. daugiau negu AM instruktorių!",IF(V24>U24,"Klaida! Negali būti moterų daugiau nei iš viso FA specialistų!",IF(W24+X24+Y24>U24,"Klaida! Negali būti išsilavinimų, veiklos leidimų ir t.t. daugiau negu FA specialistų!",IF(AA24>Z24,"Klaida! Negali būti moterų daugiau nei iš viso FA instruktorių!",IF(AB24+AC24+AD24+AE24>Z24,"Klaida! Negali būti išsilavinimų, veiklos leidimų ir t.t. daugiau negu FA instruktorių!","")))))))))
A25: ='SUC1_B. duomenys'!A45 -> 15 | B25: ='SUC1_B. duomenys'!B45 -> Dviračių sportas (kalnų) | C25: =L25+M25+N25 -> 0 | E25: =C25-(F25+G25+H25+I25+J25+K25) -> 0 | O25: =Q25+R25+S25+T25 -> 0 | U25: =W25+X25+Y25 -> 0 | Z25: =AB25+AC25+AD25+AE25 -> 0 | AH25: =IF(D25>C25,"Klaida! Negali būti moterų daugiau nei iš viso trenerių/AM sp. specialistų!",IF(F25+G25+H25+I25+J25+K25>C25,"Klaida! Negali būti kategorijų daugiau negu trenerių/AM sp. specialistų!",IF(L25+N25>C25,"Klaida! Negali būti išsilavinimų, veiklos leidimų ir t.t. daugiau negu trenerių/AM sp. specialistų!",IF(P25>O25,"Klaida! Negali būti moterų daugiau nei iš viso AM instruktorių!",IF(Q25+R25+S25+T25>O25,"Klaida! Negali būti išsilavinimų, veiklos leidimų ir t.t. daugiau negu AM instruktorių!",IF(V25>U25,"Klaida! Negali būti moterų daugiau nei iš viso FA specialistų!",IF(W25+X25+Y25>U25,"Klaida! Negali būti išsilavinimų, veiklos leidimų ir t.t. daugiau negu FA specialistų!",IF(AA25>Z25,"Klaida! Negali būti moterų daugiau nei iš viso FA instruktorių!",IF(AB25+AC25+AD25+AE25>Z25,"Klaida! Negali būti išsilavinimų, veiklos leidimų ir t.t. daugiau negu FA instruktorių!","")))))))))
A26: ='SUC1_B. duomenys'!A46 -> 16 | B26: ='SUC1_B. duomenys'!B46 -> Dviračių sportas (mažųjų dviračių kroso) | C26: =L26+M26+N26 -> 0 | E26: =C26-(F26+G26+H26+I26+J26+K26) -> 0 | O26: =Q26+R26+S26+T26 -> 0 | U26: =W26+X26+Y26 -> 0 | Z26: =AB26+AC26+AD26+AE26 -> 0 | AH26: =IF(D26>C26,"Klaida! Negali būti moterų daugiau nei iš viso trenerių/AM sp. specialistų!",IF(F26+G26+H26+I26+J26+K26>C26,"Klaida! Negali būti kategorijų daugiau negu trenerių/AM sp. specialistų!",IF(L26+N26>C26,"Klaida! Negali būti išsilavinimų, veiklos leidimų ir t.t. daugiau negu trenerių/AM sp. specialistų!",IF(P26>O26,"Klaida! Negali būti moterų daugiau nei iš viso AM instruktorių!",IF(Q26+R26+S26+T26>O26,"Klaida! Negali būti išsilavinimų, veiklos leidimų ir t.t. daugiau negu AM instruktorių!",IF(V26>U26,"Klaida! Negali būti moterų daugiau nei iš viso FA specialistų!",IF(W26+X26+Y26>U26,"Klaida! Negali būti išsilavinimų, veiklos leidimų ir t.t. daugiau negu FA specialistų!",IF(AA26>Z26,"Klaida! Negali būti moterų daugiau nei iš viso FA instruktorių!",IF(AB26+AC26+AD26+AE26>Z26,"Klaida! Negali būti išsilavinimų, veiklos leidimų ir t.t. daugiau negu FA instruktorių!","")))))))))
A27: ='SUC1_B. duomenys'!A47 -> 17 | B27: ='SUC1_B. duomenys'!B47 -> Dziudo | C27: 2 | E27: =C27-(F27+G27+H27+I27+J27+K27) -> 0 | H27: 2 | L27: 2 | O27: =Q27+R27+S27+T27 -> 0 | U27: =W27+X27+Y27 -> 0 | Z27: =AB27+AC27+AD27+AE27 -> 0 | AH27: =IF(D27>C27,"Klaida! Negali būti moterų daugiau nei iš viso trenerių/AM sp. specialistų!",IF(F27+G27+H27+I27+J27+K27>C27,"Klaida! Negali būti kategorijų daugiau negu trenerių/AM sp. specialistų!",IF(L27+N27>C27,"Klaida! Negali būti išsilavinimų, veiklos leidimų ir t.t. daugiau negu trenerių/AM sp. specialistų!",IF(P27>O27,"Klaida! Negali būti moterų daugiau nei iš viso AM instruktorių!",IF(Q27+R27+S27+T27>O27,"Klaida! Negali būti išsilavinimų, veiklos leidimų ir t.t. daugiau negu AM instruktorių!",IF(V27>U27,"Klaida! Negali būti moterų daugiau nei iš viso FA specialistų!",IF(W27+X27+Y27>U27,"Klaida! Negali būti išsilavinimų, veiklos leidimų ir t.t. daugiau negu FA specialistų!",IF(AA27>Z27,"Klaida! Negali būti moterų daugiau nei iš viso FA instruktorių!",IF(AB27+AC27+AD27+AE27>Z27,"Klaida! Negali būti išsilavinimų, veiklos leidimų ir t.t. daugiau negu FA instruktorių!","")))))))))
A28: ='SUC1_B. duomenys'!A48 -> 18 | B28: ='SUC1_B. duomenys'!B48 -> Fechtavimasis | C28: =L28+M28+N28 -> 0 | E28: =C28-(F28+G28+H28+I28+J28+K28) -> 0 | O28: =Q28+R28+S28+T28 -> 0 | U28: =W28+X28+Y28 -> 0 | Z28: =AB28+AC28+AD28+AE28 -> 0 | AH28: =IF(D28>C28,"Klaida! Negali būti moterų daugiau nei iš viso trenerių/AM sp. specialistų!",IF(F28+G28+H28+I28+J28+K28>C28,"Klaida! Negali būti kategorijų daugiau negu trenerių/AM sp. specialistų!",IF(L28+N28>C28,"Klaida! Negali būti išsilavinimų, veiklos leidimų ir t.t. daugiau negu trenerių/AM sp. specialistų!",IF(P28>O28,"Klaida! Negali būti moterų daugiau nei iš viso AM instruktorių!",IF(Q28+R28+S28+T28>O28,"Klaida! Negali būti išsilavinimų, veiklos leidimų ir t.t. daugiau negu AM instruktorių!",IF(V28>U28,"Klaida! Negali būti moterų daugiau nei iš viso FA specialistų!",IF(W28+X28+Y28>U28,"Klaida! Negali būti išsilavinimų, veiklos leidimų ir t.t. daugiau negu FA specialistų!",IF(AA28>Z28,"Klaida! Negali būti moterų daugiau nei iš viso FA instruktorių!",IF(AB28+AC28+AD28+AE28>Z28,"Klaida! Negali būti išsilavinimų, veiklos leidimų ir t.t. daugiau negu FA instruktorių!","")))))))))
A29: ='SUC1_B. duomenys'!A49 -> 19 | B29: ='SUC1_B. duomenys'!B49 -> Futbolas | C29: =L29+M29+N29 -> 0 | E29: =C29-(F29+G29+H29+I29+J29+K29) -> 0 | O29: =Q29+R29+S29+T29 -> 0 | U29: =W29+X29+Y29 -> 0 | Z29: =AB29+AC29+AD29+AE29 -> 0 | AH29: =IF(D29>C29,"Klaida! Negali būti moterų daugiau nei iš viso trenerių/AM sp. specialistų!",IF(F29+G29+H29+I29+J29+K29>C29,"Klaida! Negali būti kategorijų daugiau negu trenerių/AM sp. specialistų!",IF(L29+N29>C29,"Klaida! Negali būti išsilavinimų, veiklos leidimų ir t.t. daugiau negu trenerių/AM sp. specialistų!",IF(P29>O29,"Klaida! Negali būti moterų daugiau nei iš viso AM instruktorių!",IF(Q29+R29+S29+T29>O29,"Klaida! Negali būti išsilavinimų, veiklos leidimų ir t.t. daugiau negu AM instruktorių!",IF(V29>U29,"Klaida! Negali būti moterų daugiau nei iš viso FA specialistų!",IF(W29+X29+Y29>U29,"Klaida! Negali būti išsilavinimų, veiklos leidimų ir t.t. daugiau negu FA specialistų!",IF(AA29>Z29,"Klaida! Negali būti moterų daugiau nei iš viso FA instruktorių!",IF(AB29+AC29+AD29+AE29>Z29,"Klaida! Negali būti išsilavinimų, veiklos leidimų ir t.t. daugiau negu FA instruktorių!","")))))))))
A30: ='SUC1_B. duomenys'!A50 -> 20 | B30: ='SUC1_B. duomenys'!B50 -> Gimnastika (sportinė) | C30: 4 | D30: 3 | E30: =C30-(F30+G30+H30+I30+J30+K30) -> 0 | G30: 4 | L30: 4 | O30: =Q30+R30+S30+T30 -> 0 | U30: =W30+X30+Y30 -> 0 | Z30: =AB30+AC30+AD30+AE30 -> 0 | AH30: =IF(D30>C30,"Klaida! Negali būti moterų daugiau nei iš viso trenerių/AM sp. specialistų!",IF(F30+G30+H30+I30+J30+K30>C30,"Klaida! Negali būti kategorijų daugiau negu trenerių/AM sp. specialistų!",IF(L30+N30>C30,"Klaida! Negali būti išsilavinimų, veiklos leidimų ir t.t. daugiau negu trenerių/AM sp. specialistų!",IF(P30>O30,"Klaida! Negali būti moterų daugiau nei iš viso AM instruktorių!",IF(Q30+R30+S30+T30>O30,"Klaida! Negali būti išsilavinimų, veiklos leidimų ir t.t. daugiau negu AM instruktorių!",IF(V30>U30,"Klaida! Negali būti moterų daugiau nei iš viso FA specialistų!",IF(W30+X30+Y30>U30,"Klaida! Negali būti išsilavinimų, veiklos leidimų ir t.t. daugiau negu FA specialistų!",IF(AA30>Z30,"Klaida! Negali būti moterų daugiau nei iš viso FA instruktorių!",IF(AB30+AC30+AD30+AE30>Z30,"Klaida! Negali būti išsilavinimų, veiklos leidimų ir t.t. daugiau negu FA instruktorių!","")))))))))
A31: ='SUC1_B. duomenys'!A51 -> 21 | B31: ='SUC1_B. duomenys'!B51 -> Gimnastika (meninė) | C31: 11 | D31: 10 | E31: =C31-(F31+G31+H31+I31+J31+K31) -> 0 | G31: 7 | I31: 4 | L31: 11 | O31: =Q31+R31+S31+T31 -> 0 | U31: =W31+X31+Y31 -> 0 | Z31: =AB31+AC31+AD31+AE31 -> 0 | AF31: 5 | AH31: =IF(D31>C31,"Klaida! Negali būti moterų daugiau nei iš viso trenerių/AM sp. specialistų!",IF(F31+G31+H31+I31+J31+K31>C31,"Klaida! Negali būti kategorijų daugiau negu trenerių/AM sp. specialistų!",IF(L31+N31>C31,"Klaida! Negali būti išsilavinimų, veiklos leidimų ir t.t. daugiau negu trenerių/AM sp. specialistų!",IF(P31>O31,"Klaida! Negali būti moterų daugiau nei iš viso AM instruktorių!",IF(Q31+R31+S31+T31>O31,"Klaida! Negali būti išsilavinimų, veiklos leidimų ir t.t. daugiau negu AM instruktorių!",IF(V31>U31,"Klaida! Negali būti moterų daugiau nei iš viso FA specialistų!",IF(W31+X31+Y31>U31,"Klaida! Negali būti išsilavinimų, veiklos leidimų ir t.t. daugiau negu FA specialistų!",IF(AA31>Z31,"Klaida! Negali būti moterų daugiau nei iš viso FA instruktorių!",IF(AB31+AC31+AD31+AE31>Z31,"Klaida! Negali būti išsilavinimų, veiklos leidimų ir t.t. daugiau negu FA instruktorių!","")))))))))
A32: ='SUC1_B. duomenys'!A52 -> 22 | B32: ='SUC1_B. duomenys'!B52 -> Gimnastika (akr. šuoliai ant batuto) | C32: =L32+M32+N32 -> 0 | E32: =C32-(F32+G32+H32+I32+J32+K32) -> 0 | O32: =Q32+R32+S32+T32 -> 0 | U32: =W32+X32+Y32 -> 0 | Z32: =AB32+AC32+AD32+AE32 -> 0 | AH32: =IF(D32>C32,"Klaida! Negali būti moterų daugiau nei iš viso trenerių/AM sp. specialistų!",IF(F32+G32+H32+I32+J32+K32>C32,"Klaida! Negali būti kategorijų daugiau negu trenerių/AM sp. specialistų!",IF(L32+N32>C32,"Klaida! Negali būti išsilavinimų, veiklos leidimų ir t.t. daugiau negu trenerių/AM sp. specialistų!",IF(P32>O32,"Klaida! Negali būti moterų daugiau nei iš viso AM instruktorių!",IF(Q32+R32+S32+T32>O32,"Klaida! Negali būti išsilavinimų, veiklos leidimų ir t.t. daugiau negu AM instruktorių!",IF(V32>U32,"Klaida! Negali būti moterų daugiau nei iš viso FA specialistų!",IF(W32+X32+Y32>U32,"Klaida! Negali būti išsilavinimų, veiklos leidimų ir t.t. daugiau negu FA specialistų!",IF(AA32>Z32,"Klaida! Negali būti moterų daugiau nei iš viso FA instruktorių!",IF(AB32+AC32+AD32+AE32>Z32,"Klaida! Negali būti išsilavinimų, veiklos leidimų ir t.t. daugiau negu FA instruktorių!","")))))))))
A33: ='SUC1_B. duomenys'!A53 -> 23 | B33: ='SUC1_B. duomenys'!B53 -> Golfas | C33: =L33+M33+N33 -> 0 | E33: =C33-(F33+G33+H33+I33+J33+K33) -> 0 | O33: =Q33+R33+S33+T33 -> 0 | U33: =W33+X33+Y33 -> 0 | Z33: =AB33+AC33+AD33+AE33 -> 0 | AH33: =IF(D33>C33,"Klaida! Negali būti moterų daugiau nei iš viso trenerių/AM sp. specialistų!",IF(F33+G33+H33+I33+J33+K33>C33,"Klaida! Negali būti kategorijų daugiau negu trenerių/AM sp. specialistų!",IF(L33+N33>C33,"Klaida! Negali būti išsilavinimų, veiklos leidimų ir t.t. daugiau negu trenerių/AM sp. specialistų!",IF(P33>O33,"Klaida! Negali būti moterų daugiau nei iš viso AM instruktorių!",IF(Q33+R33+S33+T33>O33,"Klaida! Negali būti išsilavinimų, veiklos leidimų ir t.t. daugiau negu AM instruktorių!",IF(V33>U33,"Klaida! Negali būti moterų daugiau nei iš viso FA specialistų!",IF(W33+X33+Y33>U33,"Klaida! Negali būti išsilavinimų, veiklos leidimų ir t.t. daugiau negu FA specialistų!",IF(AA33>Z33,"Klaida! Negali būti moterų daugiau nei iš viso FA instruktorių!",IF(AB33+AC33+AD33+AE33>Z33,"Klaida! Negali būti išsilavinimų, veiklos leidimų ir t.t. daugiau negu FA instruktorių!","")))))))))
A34: ='SUC1_B. duomenys'!A54 -> 24 | B34: ='SUC1_B. duomenys'!B54 -> Imtynės (graikų ir romėnų) | C34: 6 | D34: 1 | E34: =C34-(F34+G34+H34+I34+J34+K34) -> 2 | H34: 3 | K34: 1 | L34: 6 | O34: =Q34+R34+S34+T34 -> 0 | U34: =W34+X34+Y34 -> 0 | Z34: =AB34+AC34+AD34+AE34 -> 0 | AF34: 2 | AH34: =IF(D34>C34,"Klaida! Negali būti moterų daugiau nei iš viso trenerių/AM sp. specialistų!",IF(F34+G34+H34+I34+J34+K34>C34,"Klaida! Negali būti kategorijų daugiau negu trenerių/AM sp. specialistų!",IF(L34+N34>C34,"Klaida! Negali būti išsilavinimų, veiklos leidimų ir t.t. daugiau negu trenerių/AM sp. specialistų!",IF(P34>O34,"Klaida! Negali būti moterų daugiau nei iš viso AM instruktorių!",IF(Q34+R34+S34+T34>O34,"Klaida! Negali būti išsilavinimų, veiklos leidimų ir t.t. daugiau negu AM instruktorių!",IF(V34>U34,"Klaida! Negali būti moterų daugiau nei iš viso FA specialistų!",IF(W34+X34+Y34>U34,"Klaida! Negali būti išsilavinimų, veiklos leidimų ir t.t. daugiau negu FA specialistų!",IF(AA34>Z34,"Klaida! Negali būti moterų daugiau nei iš viso FA instruktorių!",IF(AB34+AC34+AD34+AE34>Z34,"Klaida! Negali būti išsilavinimų, veiklos leidimų ir t.t. daugiau negu FA instruktorių!","")))))))))
A35: ='SUC1_B. duomenys'!A55 -> 25 | B35: ='SUC1_B. duomenys'!B55 -> Imtynės (laisvosios) | C35: 6 | E35: =C35-(F35+G35+H35+I35+J35+K35) -> 2 | G35: 1 | H35: 2 | I35: 1 | L35: 4 | N35: 2 | O35: =Q35+R35+S35+T35 -> 0 | U35: =W35+X35+Y35 -> 0 | Z35: =AB35+AC35+AD35+AE35 -> 0 | AF35: 1 | AH35: =IF(D35>C35,"Klaida! Negali būti moterų daugiau nei iš viso trenerių/AM sp. specialistų!",IF(F35+G35+H35+I35+J35+K35>C35,"Klaida! Negali būti kategorijų daugiau negu trenerių/AM sp. specialistų!",IF(L35+N35>C35,"Klaida! Negali būti išsilavinimų, veiklos leidimų ir t.t. daugiau negu trenerių/AM sp. specialistų!",IF(P35>O35,"Klaida! Negali būti moterų daugiau nei iš viso AM instruktorių!",IF(Q35+R35+S35+T35>O35,"Klaida! Negali būti išsilavinimų, veiklos leidimų ir t.t. daugiau negu AM instruktorių!",IF(V35>U35,"Klaida! Negali būti moterų daugiau nei iš viso FA specialistų!",IF(W35+X35+Y35>U35,"Klaida! Negali būti išsilavinimų, veiklos leidimų ir t.t. daugiau negu FA specialistų!",IF(AA35>Z35,"Klaida! Negali būti moterų daugiau nei iš viso FA instruktorių!",IF(AB35+AC35+AD35+AE35>Z35,"Klaida! Negali būti išsilavinimų, veiklos leidimų ir t.t. daugiau negu FA instruktorių!","")))))))))
A36: ='SUC1_B. duomenys'!A56 -> 26 | B36: ='SUC1_B. duomenys'!B56 -> Imtynės (moterų) | C36: =L36+M36+N36 -> 0 | E36: =C36-(F36+G36+H36+I36+J36+K36) -> 0 | O36: =Q36+R36+S36+T36 -> 0 | U36: =W36+X36+Y36 -> 0 | Z36: =AB36+AC36+AD36+AE36 -> 0 | AH36: =IF(D36>C36,"Klaida! Negali būti moterų daugiau nei iš viso trenerių/AM sp. specialistų!",IF(F36+G36+H36+I36+J36+K36>C36,"Klaida! Negali būti kategorijų daugiau negu trenerių/AM sp. specialistų!",IF(L36+N36>C36,"Klaida! Negali būti išsilavinimų, veiklos leidimų ir t.t. daugiau negu trenerių/AM sp. specialistų!",IF(P36>O36,"Klaida! Negali būti moterų daugiau nei iš viso AM instruktorių!",IF(Q36+R36+S36+T36>O36,"Klaida! Negali būti išsilavinimų, veiklos leidimų ir t.t. daugiau negu AM instruktorių!",IF(V36>U36,"Klaida! Negali būti moterų daugiau nei iš viso FA specialistų!",IF(W36+X36+Y36>U36,"Klaida! Negali būti išsilavinimų, veiklos leidimų ir t.t. daugiau negu FA specialistų!",IF(AA36>Z36,"Klaida! Negali būti moterų daugiau nei iš viso FA instruktorių!",IF(AB36+AC36+AD36+AE36>Z36,"Klaida! Negali būti išsilavinimų, veiklos leidimų ir t.t. daugiau negu FA instruktorių!","")))))))))
A37: ='SUC1_B. duomenys'!A57 -> 27 | B37: ='SUC1_B. duomenys'!B57 -> Irklavimas | C37: =L37+M37+N37 -> 0 | E37: =C37-(F37+G37+H37+I37+J37+K37) -> 0 | O37: =Q37+R37+S37+T37 -> 0 | U37: =W37+X37+Y37 -> 0 | Z37: =AB37+AC37+AD37+AE37 -> 0 | AH37: =IF(D37>C37,"Klaida! Negali būti moterų daugiau nei iš viso trenerių/AM sp. specialistų!",IF(F37+G37+H37+I37+J37+K37>C37,"Klaida! Negali būti kategorijų daugiau negu trenerių/AM sp. specialistų!",IF(L37+N37>C37,"Klaida! Negali būti išsilavinimų, veiklos leidimų ir t.t. daugiau negu trenerių/AM sp. specialistų!",IF(P37>O37,"Klaida! Negali būti moterų daugiau nei iš viso AM instruktorių!",IF(Q37+R37+S37+T37>O37,"Klaida! Negali būti išsilavinimų, veiklos leidimų ir t.t. daugiau negu AM instruktorių!",IF(V37>U37,"Klaida! Negali būti moterų daugiau nei iš viso FA specialistų!",IF(W37+X37+Y37>U37,"Klaida! Negali būti išsilavinimų, veiklos leidimų ir t.t. daugiau negu FA specialistų!",IF(AA37>Z37,"Klaida! Negali būti moterų daugiau nei iš viso FA instruktorių!",IF(AB37+AC37+AD37+AE37>Z37,"Klaida! Negali būti išsilavinimų, veiklos leidimų ir t.t. daugiau negu FA instruktorių!","")))))))))
A38: ='SUC1_B. duomenys'!A58 -> 28 | B38: ='SUC1_B. duomenys'!B58 -> Karatė (WKF) | C38: =L38+M38+N38 -> 0 | E38: =C38-(F38+G38+H38+I38+J38+K38) -> 0 | O38: =Q38+R38+S38+T38 -> 0 | U38: =W38+X38+Y38 -> 0 | Z38: =AB38+AC38+AD38+AE38 -> 0 | AH38: =IF(D38>C38,"Klaida! Negali būti moterų daugiau nei iš viso trenerių/AM sp. specialistų!",IF(F38+G38+H38+I38+J38+K38>C38,"Klaida! Negali būti kategorijų daugiau negu trenerių/AM sp. specialistų!",IF(L38+N38>C38,"Klaida! Negali būti išsilavinimų, veiklos leidimų ir t.t. daugiau negu trenerių/AM sp. specialistų!",IF(P38>O38,"Klaida! Negali būti moterų daugiau nei iš viso AM instruktorių!",IF(Q38+R38+S38+T38>O38,"Klaida! Negali būti išsilavinimų, veiklos leidimų ir t.t. daugiau negu AM instruktorių!",IF(V38>U38,"Klaida! Negali būti moterų daugiau nei iš viso FA specialistų!",IF(W38+X38+Y38>U38,"Klaida! Negali būti išsilavinimų, veiklos leidimų ir t.t. daugiau negu FA specialistų!",IF(AA38>Z38,"Klaida! Negali būti moterų daugiau nei iš viso FA instruktorių!",IF(AB38+AC38+AD38+AE38>Z38,"Klaida! Negali būti išsilavinimų, veiklos leidimų ir t.t. daugiau negu FA instruktorių!","")))))))))
A39: ='SUC1_B. duomenys'!A59 -> 29 | B39: ='SUC1_B. duomenys'!B59 -> Kerlingas (akmenslydis) | C39: =L39+M39+N39 -> 0 | E39: =C39-(F39+G39+H39+I39+J39+K39) -> 0 | O39: =Q39+R39+S39+T39 -> 0 | U39: =W39+X39+Y39 -> 0 | Z39: =AB39+AC39+AD39+AE39 -> 0 | AH39: =IF(D39>C39,"Klaida! Negali būti moterų daugiau nei iš viso trenerių/AM sp. specialistų!",IF(F39+G39+H39+I39+J39+K39>C39,"Klaida! Negali būti kategorijų daugiau negu trenerių/AM sp. specialistų!",IF(L39+N39>C39,"Klaida! Negali būti išsilavinimų, veiklos leidimų ir t.t. daugiau negu trenerių/AM sp. specialistų!",IF(P39>O39,"Klaida! Negali būti moterų daugiau nei iš viso AM instruktorių!",IF(Q39+R39+S39+T39>O39,"Klaida! Negali būti išsilavinimų, veiklos leidimų ir t.t. daugiau negu AM instruktorių!",IF(V39>U39,"Klaida! Negali būti moterų daugiau nei iš viso FA specialistų!",IF(W39+X39+Y39>U39,"Klaida! Negali būti išsilavinimų, veiklos leidimų ir t.t. daugiau negu FA specialistų!",IF(AA39>Z39,"Klaida! Negali būti moterų daugiau nei iš viso FA instruktorių!",IF(AB39+AC39+AD39+AE39>Z39,"Klaida! Negali būti išsilavinimų, veiklos leidimų ir t.t. daugiau negu FA instruktorių!","")))))))))
A40: ='SUC1_B. duomenys'!A60 -> 30 | B40: ='SUC1_B. duomenys'!B60 -> Krepšinis | C40: 21 | D40: 4 | E40: =C40-(F40+G40+H40+I40+J40+K40) -> 8 | F40: 1 | G40: 2 | H40: 3 | I40: 4 | J40: 3 | L40: 16 | N40: 5 | O40: 1 | Q40: 1 | U40: =W40+X40+Y40 -> 0 | Z40: =AB40+AC40+AD40+AE40 -> 0 | AH40: =IF(D40>C40,"Klaida! Negali būti moterų daugiau nei iš viso trenerių/AM sp. specialistų!",IF(F40+G40+H40+I40+J40+K40>C40,"Klaida! Negali būti kategorijų daugiau negu trenerių/AM sp. specialistų!",IF(L40+N40>C40,"Klaida! Negali būti išsilavinimų, veiklos leidimų ir t.t. daugiau negu trenerių/AM sp. specialistų!",IF(P40>O40,"Klaida! Negali būti moterų daugiau nei iš viso AM instruktorių!",IF(Q40+R40+S40+T40>O40,"Klaida! Negali būti išsilavinimų, veiklos leidimų ir t.t. daugiau negu AM instruktorių!",IF(V40>U40,"Klaida! Negali būti moterų daugiau nei iš viso FA specialistų!",IF(W40+X40+Y40>U40,"Klaida! Negali būti išsilavinimų, veiklos leidimų ir t.t. daugiau negu FA specialistų!",IF(AA40>Z40,"Klaida! Negali būti moterų daugiau nei iš viso FA instruktorių!",IF(AB40+AC40+AD40+AE40>Z40,"Klaida! Negali būti išsilavinimų, veiklos leidimų ir t.t. daugiau negu FA instruktorių!","")))))))))
A41: ='SUC1_B. duomenys'!A61 -> 31 | B41: ='SUC1_B. duomenys'!B61 -> Laipiojimo sportas | C41: =L41+M41+N41 -> 0 | E41: =C41-(F41+G41+H41+I41+J41+K41) -> 0 | O41: =Q41+R41+S41+T41 -> 0 | U41: =W41+X41+Y41 -> 0 | Z41: =AB41+AC41+AD41+AE41 -> 0 | AH41: =IF(D41>C41,"Klaida! Negali būti moterų daugiau nei iš viso trenerių/AM sp. specialistų!",IF(F41+G41+H41+I41+J41+K41>C41,"Klaida! Negali būti kategorijų daugiau negu trenerių/AM sp. specialistų!",IF(L41+N41>C41,"Klaida! Negali būti išsilavinimų, veiklos leidimų ir t.t. daugiau negu trenerių/AM sp. specialistų!",IF(P41>O41,"Klaida! Negali būti moterų daugiau nei iš viso AM instruktorių!",IF(Q41+R41+S41+T41>O41,"Klaida! Negali būti išsilavinimų, veiklos leidimų ir t.t. daugiau negu AM instruktorių!",IF(V41>U41,"Klaida! Negali būti moterų daugiau nei iš viso FA specialistų!",IF(W41+X41+Y41>U41,"Klaida! Negali būti išsilavinimų, veiklos leidimų ir t.t. daugiau negu FA specialistų!",IF(AA41>Z41,"Klaida! Negali būti moterų daugiau nei iš viso FA instruktorių!",IF(AB41+AC41+AD41+AE41>Z41,"Klaida! Negali būti išsilavinimų, veiklos leidimų ir t.t. daugiau negu FA instruktorių!","")))))))))
...

Sheet SUC1_Kiti duom.
A1: =IF('SUC1_B. duomenys'!A13:U13="","",'SUC1_B. duomenys'!A13:U13) -> BĮ KLAIPĖDOS MIESTO LENGVOSIOS ATLETIKOS MOKYKLA, BĮ KLAIPĖDOS „GINTARO“ SPORTO CENTRAS, BĮ KLAIPĖDOS VLADO KNAŠIAUS KREPŠINIO MOKYKLA, BĮ KLAIPĖDOS "VIESULO" SPORTO CENTRAS, BĮ KLAIPĖDOS MIESTO SPORTO BAZIŲ VALDYMO CENTRAS.
A2: (Sportininkų ugdymo centro(-ų) pavadinimas(-ai))
A3: 3. 2024 M. KITI DUOMENYS IR VEIKLOS REZULTATAI | AC3: Forma Nr. SUC-1
A4: 3.1. Darbuotojai, varžybos, stovyklos ir perengti sportininkai
A5: Eil. Nr. | B5: Sporto mokymo įstaigų priklausomybė | C5: Darbuotojai (be trenerių, aukšto meistriškumo ir fizinio aktyvumo specialistų, instruktorių) | J5: SURENGTA | U5: Išmokyta plaukti**** | V5: Parengta sportininkų | AA5: Yra teisėjų
C6: Iš viso | D6: Iš jų moterų | E6: Sporto vadybininkai (organizatoriai) | H6: Kiti | J6: Aukšto meistriškumo sporto varžybų* | M6: Fizinio aktyvumo renginių** | P6: Aukšto meistriškumo stovyklų | S6: Kvalifikacijos kėlimo seminarų, konferencijų | AA6: Nacionalinės kategorijos | AB6: Tarptautinės kategorijos | AC6: Kitų kategorijų
E7: Iš viso | F7: Iš jų moterų | G7: Turi aukštąjį sporto studijų krypties išsilavinimą | H7: Iš viso | I7: Iš jų moterų | S7: Kvalifikacijos kėlimo seminarų, konferencijų | V7: Olimpinės rinktinės narių***** | W7: Olimpinės rinktinės kandidatų | X7: Nacionalinės rinktinės narių | Y7: Jaunimo rinktinės narių | Z7: Jaunių rinktinės narių
J8: Varžybų sk. | K8: Dalyvių sk. | L8: Iš jų moterų | M8: Renginių sk. | N8: Dalyvių sk. | O8: Iš jų moterų | P8: Stovyklų sk. | Q8: Dienų sk. | R8: Dalyvių sk.*** | S8: Renginių sk. | T8: Dalyvių sk.
A9: 1 | B9: 2 | C9: 3 | D9: 4 | E9: 5 | F9: 6 | G9: 7 | H9: 8 | I9: 9 | J9: 10 | K9: 11 | L9: 12 | M9: 13 | N9: 14 | O9: 15 | P9: 16 | Q9: 17 | R9: 18 | S9: 19 | T9: 20 | U9: 21 | V9: 22 | W9: 23 | X9: 24 | Y9: 25 | Z9: 26 | AA9: 27 | AB9: 28 | AC9: 29
A10: 1. | B10: Sporto padalinio SUC | C10: =E10+H10 -> 142 | D10: =SUM(F10+I10) -> 70 | E10: 76 | F10: 27 | G10: 3 | H10: 66 | I10: 43 | J10: 263 | K10: 5567 | L10: 2153 | M10: 28 | N10: 10147 | O10: 5019 | P10: 108 | Q10: 644 | R10: 3255 | S10: 72 | T10: 345 | U10: 450 | X10: 40 | Y10: 75 | Z10: 54 | AA10: 14 | AB10: 12 | AC10: 21 | AE10: =IF(D10>C10,"Klaida! Negali būti moterų daugiau nei iš viso buvo darbuotojų!",IF(L10>K10,"Klaida! Negali būti daugiau moterų nei iš viso buvo dalyvių aukšto meistriškumo varžybose!",IF(O10>N10,"Klaida! Negali būti daugiau moterų nei iš viso buvo dalyvių fizinio aktyvumo renginuose!","")))
A11: 2. | B11: Švietimo padalinio SUC | C11: =E11+H11 -> 0 | D11: =SUM(F11+I11) -> 0 | AE11: =IF(D11>C11,"Klaida! Negali būti moterų daugiau nei iš viso buvo darbuotojų!",IF(L11>K11,"Klaida! Negali būti daugiau moterų nei iš viso buvo dalyvių aukšto meistriškumo varžybose!",IF(O11>N11,"Klaida! Negali būti daugiau moterų nei iš viso buvo dalyvių fizinio aktyvumo renginuose!","")))
A12: 3. | B12: Privačių asmenų SUC | C12: =E12+H12 -> 0 | D12: =SUM(F12+I12) -> 0 | AE12: =IF(D12>C12,"Klaida! Negali būti moterų daugiau nei iš viso buvo darbuotojų!",IF(L12>K12,"Klaida! Negali būti daugiau moterų nei iš viso buvo dalyvių aukšto meistriškumo varžybose!",IF(O12>N12,"Klaida! Negali būti daugiau moterų nei iš viso buvo dalyvių fizinio aktyvumo renginuose!","")))
B13: Iš viso: | C13: =E13+H13 -> 142 | D13: =SUM(D10:D12) -> 70 | E13: =SUM(E10:E12) -> 76 | F13: =SUM(F10:F12) -> 27 | G13: =SUM(G10:G12) -> 3 | H13: =SUM(H10:H12) -> 66 | I13: =SUM(I10:I12) -> 43 | J13: =SUM(J10:J12) -> 263 | K13: =SUM(K10:K12) -> 5567 | ... AC13: =SUM(AC10:AC12) -> 21
A15: * – Aukšto meistriškumo sporto varžybos (toliau – sporto varžybos) – sporto šakos federacijos, kuri yra tarptautinės (pasaulio) sporto šakos federacijos narė, arba jos įgalioto juridinio asmens organizuojamas jaunių, jaunimo ar suaugusiųjų, išskyrus veteranus, amžiaus grupės sporto renginys arba tarptautinės aukšto meistriškumo sporto varžybos ar tarptautinių subjektų organizuojamos tarptautinės aukšto meistriškumo sporto varžybos, organizuojami kaip tos sporto šakos sporto varžybų sistemos sudedamoji dalis ir vykdomi pagal iš anksto paskelbtus nuostatus ir tarptautinės nevyriausybinės sporto organizacijos ar sporto šakos federacijos patvirtintas sporto šakos (-ų) taisykles (tiek, kiek tai neprieštarauja tarptautinės sporto šakos federacijos patvirtintoms taisyklėms).
A16: ** – Fizinio aktyvumo renginiai – mėgėjų sporto varžybos, sporto festivaliai, šventės, konkursai ir kitos visapusiško ugdymo, sveikatos stiprinimo ir palaikymo, ligų profilaktikos priemonės, skirtos įvairių socialinių grupių gyventojams (vaikams, mokiniams, studentams, neįgaliesiems, darbininkams, tarnautojams, pagyvenusiems žmonėms, veteranams), šių renginių pagrindinis tikslas yra ne sportinių rezultatų siekimas, o dalyvavimas. Renginiai susije su fizine veikla, kuria siekiama stiprinti sveikatą, tobulinti fizines ir psichines savybes bei įgūdžius neturint tikslo pasirengti aukšto meistriškumo sporto varžyboms ir (ar) dalyvauti jose, taip pat veikla šviečiant visuomenę sporto, fizinio aktyvumo ir jais pasiekiamo sveikatos stiprinimo klausimais.
A17: *** – stovyklose dalyvavusiųjų skaičius, kur tas pats asmuo kiekvieną dieną laikomas atskiru dalyviu (pvz. 2 dienų stovykloje dalyvavo 48 asmenys
A18: tokiu atveju iš viso būtų 96 dalyviai, o jei 5 d. dalyvavo 3 asmenys, iš viso būtų 15 dalyvių).
A19: Aukšto meistriškumo sporto treniruočių stovyklos – aukšto meistriškumo sporto pratybų proceso dalis, kai vykdomas tikslingas apibrėžtos trukmės sportininko rengimas, siekiant įvertinti sportininko pasiektą parengtumo lygį ir šį lygį pakelti prieš konkrečias aukšto meistriškumo sporto varžybas.
A20: **** | B20: – dalyvavę mokymo plaukti pratybose ir išmokę nuplaukti 25 m.
A21: ***** | B21: – pildoma tik už metus, kai vyko Olimpinės žaidynės.

Sheet SUC1_Finansai
A1: =IF('SUC1_B. duomenys'!A13:U13="","",'SUC1_B. duomenys'!A13:U13) -> BĮ KLAIPĖDOS MIESTO LENGVOSIOS ATLETIKOS MOKYKLA, BĮ KLAIPĖDOS „GINTARO“ SPORTO CENTRAS, BĮ KLAIPĖDOS VLADO KNAŠIAUS KREPŠINIO MOKYKLA, BĮ KLAIPĖDOS "VIESULO" SPORTO CENTRAS, BĮ KLAIPĖDOS MIESTO SPORTO BAZIŲ VALDYMO CENTRAS.
A2: (Sportininkų ugdymo centro(-ų) pavadinimas(-ai))
A3: 4. 2024 M. FINANSAI (tūkst. eurų) | V3: Forma Nr. SUC-1
A4: Eil. Nr. | B4: Sporto mokymo įstaigų priklausomybė | C4: Finansavimas (tūkst. eurų)
C5: Pajamų šaltiniai | L5: Išlaidos
C6: Valstybės biudžetas | F6: Savivaldybės biudžetas | G6: Surinkta iš SUC moksleivių | H6: Ūkinė komercinė veikla | I6: Lietuvos tautinis olimpinis komitetas (LTOK) | J6: Rėmėjai ir kiti šaltiniai | K6: Iš viso pajamų | L6: Darbo užmokesčiui treneriams | M6: Darbo užmokesčiui kitiems darbuotojams | N6: Mokomajam sportiniam darbui ir varžyboms | O6: Įsigijimams | Q6: Sporto bazių ir kitų patalpų nuomai | R6: Draudimas | S6: Transportas | T6: Komunalinės paslaugos | U6: Kitos išlaidos | V6: Iš viso išlaidų
C7: LR Švietimo, mokslo ir sporto ministerija | D7: Sporto rėmimo fondas | E7: Kitos ministerijos ir valstybės institucijos | O7: Inventoriaus ir ilgalaikio turto | P7: Medikamentams ir maisto papildams
A8: 1 | B8: 2 | C8: 3 | D8: 4 | E8: 5 | F8: 6 | G8: 7 | H8: 8 | I8: 9 | J8: 10 | K8: 11 | L8: 12 | M8: 13 | N8: 14 | O8: 15 | P8: 16 | Q8: 17 | R8: 18 | S8: 19 | T8: 20 | U8: 21 | V8: 22
A9: 1. | B9: Sporto padalinio SUC | C9: 102.6 | E9: 69.3 | F9: 9258.5 | G9: 209.6 | H9: 286.94 | J9: 134.1 | K9: =SUM(C9:J9) -> 10061.04 | L9: 4272.67 | M9: 3040.97 | N9: 552.58 | O9: 374.12 | P9: 4.18 | Q9: 410.91 | R9: 7.86 | S9: 62.29 | T9: 8.27 | U9: 1069.94 | V9: =SUM(L9:U9) -> 9803.79 | W9: =IF(K9=V9,"",K9-V9) -> 257.25 | X9: =IF(W9="","",IF(W9=0,"",IF(W9>0,"Nepanaudotos lėšos",IF(W9<0,"Išleista daugiau negu buvo gauta lėšų","")))) -> Nepanaudotos lėšos
A10: 2. | B10: Švietimo padalinio SUC | K10: =SUM(C10:J10) -> 0 | V10: =SUM(L10:U10) -> 0 | W10: =IF(K10=V10,"",K10-V10) | X10: =IF(W10="","",IF(W10=0,"",IF(W10>0,"Nepanaudotos lėšos",IF(W10<0,"Išleista daugiau negu buvo gauta lėšų",""))))
A11: 3. | B11: Privačių asmenų SUC | K11: =SUM(C11:J11) -> 0 | V11: =SUM(L11:U11) -> 0 | W11: =IF(K11=V11,"",K11-V11) | X11: =IF(W11="","",IF(W11=0,"",IF(W11>0,"Nepanaudotos lėšos",IF(W11<0,"Išleista daugiau negu buvo gauta lėšų",""))))
B12: Iš viso: | C12: =SUM(C9:C11) -> 102.6 | D12: =SUM(D9:D11) -> 0 | E12: =SUM(E9:E11) -> 69.3 | F12: =SUM(F9:F11) -> 9258.5 | G12: =SUM(G9:G11) -> 209.6 | H12: =SUM(H9:H11) -> 286.94 | I12: =SUM(I9:I11) -> 0 | J12: =SUM(J9:J11) -> 134.1 | K12: =SUM(C12:J12) -> 10061.04 | L12: =SUM(L9:L11) -> 4272.67 | M12: =SUM(M9:M11) -> 3040.97 | N12: =SUM(N9:N11) -> 552.58 | O12: =SUM(O9:O11) -> 374.12 | P12: =SUM(P9:P11) -> 4.18 | Q12: =SUM(Q9:Q11) -> 410.91 | R12: =SUM(R9:R11) -> 7.86 | S12: =SUM(S9:S11) -> 62.29 | ... U12: =SUM(U9:U11) -> 1069.94 | V12: =SUM(L12:U12) -> 9803.79 | X12: =IF(W12="","",IF(W12=0,"",IF(W12>0,"Nepanaudotos lėšos",IF(W12<0,"Išleista daugiau negu buvo gauta lėšų",""))))

Sheet SUC1_Bazės
A1: =IF('SUC1_B. duomenys'!A13:U13="","",'SUC1_B. duomenys'!A13:U13) -> BĮ KLAIPĖDOS MIESTO LENGVOSIOS ATLETIKOS MOKYKLA, BĮ KLAIPĖDOS „GINTARO“ SPORTO CENTRAS, BĮ KLAIPĖDOS VLADO KNAŠIAUS KREPŠINIO MOKYKLA, BĮ KLAIPĖDOS "VIESULO" SPORTO CENTRAS, BĮ KLAIPĖDOS MIESTO SPORTO BAZIŲ VALDYMO CENTRAS.
A2: (Sportininkų ugdymo centro(-ų) pavadinimas(-ai))
A3: 5. 2024 M. SPORTO BAZĖS (nuosavos) | AN3: Forma Nr. SUC-1
A4: Eil. Nr. | B4: Sporto mokymo įstaigų priklausomybė | C4: Universalios sporto arenos | D4: Sporto kompleksai | E4: Stadionai | G4: Lengvosios atletikos maniežai | H4: Futbolo maniežai | I4: Baseinai | L4: Salės | O4: Irklavimo sporto bazės | P4: Buriavimo sporto bazės | Q4: Žirgų sporto maniežai | R4: Dviračių trekai | S4: Aerodromai | T4: Ledo arenos | U4: Šaudyklos | W4: Atviros sporto bazės | AK4: Uždaros ir atviros slidinėjimo trasos | AN4: Dviračių takai (km.)
E5: Su 3000 ir daugiau vietų tribūnomis | F5: Kiti | I5: 50 m | J5: 25 m | K5: Kiti (12,5-25 m.) | L5: 15x30 m ir didesnės | M5: 24x12 m – 15x30 m | N5: Kitos | U5: atviros | V5: uždaros | W5: Krepšinio aikštelės | X5: Tinklinio aikštelės | Y5: Futbolo aikštės | Z5: Rankinio aikštelės | AA5: Teniso aikštelės | AB5: Automobilių kroso trasos | AC5: Motokroso trasos | AD5: Slidžių ir riedučių trasos | AE5: BMX dviračių trasos | AF5: Beisbolo aikštės | AG5: Golfo aikštynai | AH5: Hipodromai | AI5: Kartodromai | AJ5: Universalios dirbtinės dangos sporto aikštelės | AL5: Žolės riedulio aikštės | AM5: Regbio aikštės
A6: 1 | B6: 2 | C6: 3 | D6: 4 | E6: 5.1. | F6: 5.2. | G6: 6 | H6: 7 | I6: 8.1. | J6: 8.2. | K6: 8.3. | L6: 9.1. | M6: 9.2. | N6: 9.3. | O6: 10 | P6: 11 | Q6: 12 | R6: 13 | S6: 14 | T6: 15 | U6: 16.1. | V6: 16.2. | W6: 17 | X6: 18 | Y6: 19 | Z6: 20 | AA6: 21 | AB6: 22 | AC6: 23 | AD6: 24 | AE6: 25 | AF6: 26 | AG6: 27 | AH6: 28 | AI6: 29 | AJ6: 30 | AK6: 31 | AL6: 32 | AM6: 33 | AN6: 34
A7: 1. | B7: Sporto padalinio SUC | E7: 1 | F7: 1 | G7: 1 | J7: 1 | L7: 4 | M7: 2 | N7: 12 | W7: 13 | X7: 8 | Y7: 11 | AA7: 3 | AE7: 5 | AG7: 1 | AJ7: 4 | AM7: 1
A8: 2. | B8: Švietimo padalinio SUC
A9: 3. | B9: Privačių asmenų SUC
B10: Iš viso: | C10: =SUM(C7:C9) -> 0 | D10: =SUM(D7:D9) -> 0 | E10: =SUM(E7:E9) -> 1 | F10: =SUM(F7:F9) -> 1 | G10: =SUM(G7:G9) -> 1 | H10: =SUM(H7:H9) -> 0 | I10: =SUM(I7:I9) -> 0 | J10: =SUM(J7:J9) -> 1 | ... AN10: =SUM(AN7:AN9) -> 0
A12: Prašome nurodyti, kiek laiko skyrėte statistiniams duomenims parengti ir statistinei formai užpildyti (valandomis):
B15: Sportininkų ugdymo centro vadovas (-ai)
I16: (parašas, vardas, pavardė)
D17: =TODAY() -> 45786
D18: (data)
C20: Savivaldybės sporto padalinio vadovas
I21: (parašas, vardas, pavardė)
D22: =TODAY() -> 45786
D23: (data)

Sheet SUC-1 informacinis priedas
B2: Sportininkų ugdymo centrų statistinės
C3: ataskaitos SUC-1 (metinės) priedas
A5: INFORMACIJA DĖL FIZINIO AKTYVUMO IR SPORTO STATISTINIO TYRIMO
A6: (VEIKLOS STATISTINĖ ATASKAITA SUC-1 (METINĖ))
B8: TEISINIS STATISTINIO TYRIMO PAGRINDAS | C8: Lietuvos Respublikos sporto įstatymas, 5 straipsnio 2 punktas.
