Workbook
Name _1._DUOMENYS_APIE_ĮMONES__ĮSTAIGAS__ORGANIZACIJAS: #REF!
Name _3._SPORTO_BAZĖS: '[1]Sporto bazės'!#REF!
Name _3._SPORTO_BAZĖS: '[2]Sp.sp.š.'!#REF!
Name _4.2._KITŲ_ORGANIZACIJŲ_LĖŠOS: '[3]Sporto org. lėšos'!$B$1:$IV$1
Name Akmenės: '2.3Sportuojantieji ir tr.'!#REF!
Name Alytaus: '2.3Sportuojantieji ir tr.'!#REF!
Name Alytus: '2.3Sportuojantieji ir tr.'!#REF!
Name Anykščių: '2.3Sportuojantieji ir tr.'!#REF!
Name Birštonas: '2.3Sportuojantieji ir tr.'!#REF!
Name Biržų: '2.3Sportuojantieji ir tr.'!#REF!
Name Druskininkai: '2.3Sportuojantieji ir tr.'!#REF!
Name Elektrėnų: '2.3Sportuojantieji ir tr.'!#REF!
Name Ignalinos: '2.3Sportuojantieji ir tr.'!#REF!
Name Jonavos: '2.3Sportuojantieji ir tr.'!#REF!
Name Joniškio: '2.3Sportuojantieji ir tr.'!#REF!
Name Jurbarko: '2.3Sportuojantieji ir tr.'!#REF!
Name Kaišiadorių: '2.3Sportuojantieji ir tr.'!#REF!
Name Kalvarijos: '2.3Sportuojantieji ir tr.'!#REF!
Name Kaunas: '2.3Sportuojantieji ir tr.'!#REF!
Name Kauno: '2.3Sportuojantieji ir tr.'!#REF!
Name Kazlų_Rūdos: '2.3Sportuojantieji ir tr.'!#REF!
Name Kėdainių: '2.3Sportuojantieji ir tr.'!#REF!
Name Kelmės: '2.3Sportuojantieji ir tr.'!#REF!
Name Klaipėda: '2.3Sportuojantieji ir tr.'!#REF!
Name Klaipėdos: '2.3Sportuojantieji ir tr.'!#REF!
Name Kretingos: '2.3Sportuojantieji ir tr.'!#REF!
Name Kupiškio: '2.3Sportuojantieji ir tr.'!#REF!
Name Lazdijų: '2.3Sportuojantieji ir tr.'!#REF!
Name Marijampolė: '2.3Sportuojantieji ir tr.'!#REF!
Name Mažeikių: '2.3Sportuojantieji ir tr.'!#REF!
Name Molėtų: '2.3Sportuojantieji ir tr.'!#REF!
Name Neringa: '2.3Sportuojantieji ir tr.'!#REF!
Name OLE_LINK7: '4.1.-4.2.Finansai'!#REF!
Name Pagėgių: '2.3Sportuojantieji ir tr.'!#REF!
Name Pakruojo: '2.3Sportuojantieji ir tr.'!#REF!
Name Palanga: '2.3Sportuojantieji ir tr.'!#REF!
Name Panevėžio: '2.3Sportuojantieji ir tr.'!#REF!
Name Panevėžys: '2.3Sportuojantieji ir tr.'!#REF!
Name Pasvalio: '2.3Sportuojantieji ir tr.'!#REF!
Name Plungės: '2.3Sportuojantieji ir tr.'!#REF!
Name Prienų: '2.3Sportuojantieji ir tr.'!#REF!
Name Radviliškio: '2.3Sportuojantieji ir tr.'!#REF!
Name Raseinių: '2.3Sportuojantieji ir tr.'!#REF!
Name Rietavo: '2.3Sportuojantieji ir tr.'!#REF!
Name Rokiškio: '2.3Sportuojantieji ir tr.'!#REF!
Name Skuodo: '2.3Sportuojantieji ir tr.'!#REF!
Name Šakių: '2.3Sportuojantieji ir tr.'!#REF!
Name Šalčininkų: '2.3Sportuojantieji ir tr.'!#REF!
Name Šiauliai: '2.3Sportuojantieji ir tr.'!#REF!
Name Šiaulių: '2.3Sportuojantieji ir tr.'!#REF!
Name Šilalės: '2.3Sportuojantieji ir tr.'!#REF!
Name Šilutės: '2.3Sportuojantieji ir tr.'!#REF!
Name Širvintų: '2.3Sportuojantieji ir tr.'!#REF!
Name Švenčionių: '2.3Sportuojantieji ir tr.'!#REF!
Name Tauragės: '2.3Sportuojantieji ir tr.'!#REF!
Name Telšių: '2.3Sportuojantieji ir tr.'!#REF!
Name Trakų: '2.3Sportuojantieji ir tr.'!#REF!
Name Ukmergės: '2.3Sportuojantieji ir tr.'!#REF!
Name Utenos: '2.3Sportuojantieji ir tr.'!#REF!
Name Varėnos: '2.3Sportuojantieji ir tr.'!#REF!

Sheet SUC1_B. duomenys
A1: Kodas registre | C1: 2 | D1: 9 | E1: 0 | F1: 4 | G1: 5 | H1: 8 | I1: 0 | J1: 7 | K1: 0 | N1: Forma Nr. SUC-1
N2: PATVIRTINTA
N3: Lietuvos sporto centro direktoriaus 2025 m. sausio 27 d.
N4: įsakymu Nr. V-8
N5: SUDERINTA
N6: Valstybės duomenų agentūros 2024 m. sausio 18 d. raštu Nr. SD-64
N8: Pateikiama:
A9: Pasiteirauti: tel. +370 619 28 206, el. p. statistika@lscentras.lt. | N9: 1. Miesto, rajono, savivaldybės sporto padaliniui kasmet
N10: 2. Lietuvos sporto centrui kasmet
A13: BĮ KLAIPĖDOS MIESTO LENGVOSIOS ATLETIKOS MOKYKLA, BĮ KLAIPĖDOS „GINTARO“ SPORTO CENTRAS, BĮ KLAIPĖDOS VLADO KNAŠIAUS KREPŠINIO MOKYKLA, BĮ KLAIPĖDOS "VIESULO" SPORTO CENTRAS, BĮ KLAIPĖDOS MIESTO SPORTO BAZIŲ VALDYMO CENTRAS.
A14: (Sportininkų ugdymo centro(-ų) pavadinimas(-ai))
A17: (adresas, telefonas, el. paštas)
A19: Klaipėdos miesto savivaldybės administracijos Kultūros, sporto ir turizmo departamento Sporto, jaunimo ir bendruomeninių reikalų skyrius
A20: (miesto, rajono, savivaldybės sporto padalinio padalinio pavadinimas)
A21: Liepų g. 11, Klaipėda +370 40 17 22, Viktorija.Butkeviciene@klaipeda.lt
A22: (adresas, telefonas, el. paštas)
A23: SPORTININKŲ UGDYMO CENTRŲ SUVESTINĖ METINĖ 2024 M. STATISTINĖ ATASKAITA
A25: 1. Bendrieji duomenys
A26: Eil. Nr. | B26: Sporto šaka (ir/arba disciplina) | C26: Moksleivių (sportininkų) skaičius kalendorinių metų pabaigoje | H26: Mokomųjų grupių skaičius kalendorinių metų pabaigoje | M26: Meistriškumo pakopų (MP) rodikliai metų pabaigoje
C27: 18 metų ir jaunesni | D27: 19-29 metų | E27: 30 ir daugiau metų | F27: Iš viso | G27: Iš jų merginų, moterų | H27: Pradinio rengimo, neformalaus ugdymo | I27: Meistriškumo ugdymo | J27: Meistriškumo tobulinimo | K27: Aukšto meistriškumo | L27: Iš viso
M28: MP7-9 | N28: MP6 | O28: MP5 | P28: MP4 | Q28: MP3 | R28: MP2 | S28: MP1 | T28: Iš viso
B29: 2 | C29: 3 | D29: 4 | E29: 5 | F29: 6 | G29: 7 | H29: 8 | I29: 9 | J29: 10 | K29: 11 | L29: 12 | M29: 13 | N29: 14 | O29: 15 | P29: 16 | Q29: 17 | R29: 18 | S29: 19 | T29: 20
B30: Į olimpinių žaidynių programą įtrauktos sporto šakos
A31: 1 | B31: Badmintonas | C31: 7 | D31: 2 | F31: =SUM(C31:E31) -> 9 | G31: 4 | J31: 1 | L31: =SUM(H31:K31) -> 1 | Q31: 4 | T31: =SUM(M31:S31) -> 4 | V31: =IF(G31>F31,"Klaida! Negali būti moterų daugiau nei iš viso buvo sportininkų!",IF(T31>F31,"Klaida! Negali būti meistriškumo pakopų daugiau nei iš viso buvo sportininkų!",""))
A32: 2 | B32: Baidarių ir kanojų irklavimas | F32: =SUM(C32:E32) -> 0 | L32: =SUM(H32:K32) -> 0 | T32: =SUM(M32:S32) -> 0 | V32: =IF(G32>F32,"Klaida! Negali būti moterų daugiau nei iš viso buvo sportininkų!",IF(T32>F32,"Klaida! Negali būti meistriškumo pakopų daugiau nei iš viso buvo sportininkų!",""))
A33: 3 | B33: Banglenčių sportas | F33: =SUM(C33:E33) -> 0 | L33: =SUM(H33:K33) -> 0 | T33: =SUM(M33:S33) -> 0 | V33: =IF(G33>F33,"Klaida! Negali būti moterų daugiau nei iš viso buvo sportininkų!",IF(T33>F33,"Klaida! Negali būti meistriškumo pakopų daugiau nei iš viso buvo sportininkų!",""))
A34: 4 | B34: Beisbolas* | F34: =SUM(C34:E34) -> 0 | L34: =SUM(H34:K34) -> 0 | T34: =SUM(M34:S34) -> 0 | V34: =IF(G34>F34,"Klaida! Negali būti moterų daugiau nei iš viso buvo sportininkų!",IF(T34>F34,"Klaida! Negali būti meistriškumo pakopų daugiau nei iš viso buvo sportininkų!",""))
A35: 5 | B35: Beisbolas (softbolas)* | F35: =SUM(C35:E35) -> 0 | L35: =SUM(H35:K35) -> 0 | T35: =SUM(M35:S35) -> 0 | V35: =IF(G35>F35,"Klaida! Negali būti moterų daugiau nei iš viso buvo sportininkų!",IF(T35>F35,"Klaida! Negali būti meistriškumo pakopų daugiau nei iš viso buvo sportininkų!",""))
A36: 6 | B36: Biatlonas | F36: =SUM(C36:E36) -> 0 | L36: =SUM(H36:K36) -> 0 | T36: =SUM(M36:S36) -> 0 | V36: =IF(G36>F36,"Klaida! Negali būti moterų daugiau nei iš viso buvo sportininkų!",IF(T36>F36,"Klaida! Negali būti meistriškumo pakopų daugiau nei iš viso buvo sportininkų!",""))
A37: 7 | B37: Bobslėjus | F37: =SUM(C37:E37) -> 0 | L37: =SUM(H37:K37) -> 0 | T37: =SUM(M37:S37) -> 0 | V37: =IF(G37>F37,"Klaida! Negali būti moterų daugiau nei iš viso buvo sportininkų!",IF(T37>F37,"Klaida! Negali būti meistriškumo pakopų daugiau nei iš viso buvo sportininkų!",""))
A38: 8 | B38: Boksas | C38: 46 | D38: 4 | F38: =SUM(C38:E38) -> 50 | G38: 5 | H38: 3 | I38: 3 | J38: 2 | L38: =SUM(H38:K38) -> 8 | O38: 2 | P38: 13 | Q38: 4 | R38: 1 | T38: =SUM(M38:S38) -> 20 | V38: =IF(G38>F38,"Klaida! Negali būti moterų daugiau nei iš viso buvo sportininkų!",IF(T38>F38,"Klaida! Negali būti meistriškumo pakopų daugiau nei iš viso buvo sportininkų!",""))
A39: 9 | B39: Breikas | F39: =SUM(C39:E39) -> 0 | L39: =SUM(H39:K39) -> 0 | T39: =SUM(M39:S39) -> 0
A40: 10 | B40: Buriavimas | F40: =SUM(C40:E40) -> 0 | L40: =SUM(H40:K40) -> 0 | T40: =SUM(M40:S40) -> 0 | V40: =IF(G40>F40,"Klaida! Negali būti moterų daugiau nei iš viso buvo sportininkų!",IF(T40>F40,"Klaida! Negali būti meistriškumo pakopų daugiau nei iš viso buvo sportininkų!",""))
A41: 11 | B41: Čiuožimas (dailusis) | F41: =SUM(C41:E41) -> 0 | L41: =SUM(H41:K41) -> 0 | T41: =SUM(M41:S41) -> 0 | V41: =IF(G41>F41,"Klaida! Negali būti moterų daugiau nei iš viso buvo sportininkų!",IF(T41>F41,"Klaida! Negali būti meistriškumo pakopų daugiau nei iš viso buvo sportininkų!",""))
A42: 12 | B42: Čiuožimas (greitasis) | F42: =SUM(C42:E42) -> 0 | L42: =SUM(H42:K42) -> 0 | T42: =SUM(M42:S42) -> 0 | V42: =IF(G42>F42,"Klaida! Negali būti moterų daugiau nei iš viso buvo sportininkų!",IF(T42>F42,"Klaida! Negali būti meistriškumo pakopų daugiau nei iš viso buvo sportininkų!",""))
A43: 13 | B43: Dviračių sportas (plentas) | C43: 70 | F43: =SUM(C43:E43) -> 70 | G43: 10 | H43: 3 | I43: 3 | J43: 2 | L43: =SUM(H43:K43) -> 8 | O43: 3 | P43: 6 | T43: =SUM(M43:S43) -> 9 | V43: =IF(G43>F43,"Klaida! Negali būti moterų daugiau nei iš viso buvo sportininkų!",IF(T43>F43,"Klaida! Negali būti meistriškumo pakopų daugiau nei iš viso buvo sportininkų!",""))
A44: 14 | B44: Dviračių sportas (trekas) | F44: =SUM(C44:E44) -> 0 | L44: =SUM(H44:K44) -> 0 | T44: =SUM(M44:S44) -> 0 | V44: =IF(G44>F44,"Klaida! Negali būti moterų daugiau nei iš viso buvo sportininkų!",IF(T44>F44,"Klaida! Negali būti meistriškumo pakopų daugiau nei iš viso buvo sportininkų!",""))
A45: 15 | B45: Dviračių sportas (kalnų) | F45: =SUM(C45:E45) -> 0 | L45: =SUM(H45:K45) -> 0 | T45: =SUM(M45:S45) -> 0 | V45: =IF(G45>F45,"Klaida! Negali būti moterų daugiau nei iš viso buvo sportininkų!",IF(T45>F45,"Klaida! Negali būti meistriškumo pakopų daugiau nei iš viso buvo sportininkų!",""))
A46: 16 | B46: Dviračių sportas (mažųjų dviračių kroso) | F46: =SUM(C46:E46) -> 0 | L46: =SUM(H46:K46) -> 0 | T46: =SUM(M46:S46) -> 0 | V46: =IF(G46>F46,"Klaida! Negali būti moterų daugiau nei iš viso buvo sportininkų!",IF(T46>F46,"Klaida! Negali būti meistriškumo pakopų daugiau nei iš viso buvo sportininkų!",""))
A47: 17 | B47: Dziudo | C47: 46 | F47: =SUM(C47:E47) -> 46 | G47: 7 | H47: 1 | I47: 3 | J47: 1 | L47: =SUM(H47:K47) -> 5 | O47: 3 | P47: 6 | T47: =SUM(M47:S47) -> 9 | V47: =IF(G47>F47,"Klaida! Negali būti moterų daugiau nei iš viso buvo sportininkų!",IF(T47>F47,"Klaida! Negali būti meistriškumo pakopų daugiau nei iš viso buvo sportininkų!",""))
A48: 18 | B48: Fechtavimasis | F48: =SUM(C48:E48) -> 0 | L48: =SUM(H48:K48) -> 0 | T48: =SUM(M48:S48) -> 0 | V48: =IF(G48>F48,"Klaida! Negali būti moterų daugiau nei iš viso buvo sportininkų!",IF(T48>F48,"Klaida! Negali būti meistriškumo pakopų daugiau nei iš viso buvo sportininkų!",""))
A49: 19 | B49: Futbolas | F49: =SUM(C49:E49) -> 0 | L49: =SUM(H49:K49) -> 0 | T49: =SUM(M49:S49) -> 0 | V49: =IF(G49>F49,"Klaida! Negali būti moterų daugiau nei iš viso buvo sportininkų!",IF(T49>F49,"Klaida! Negali būti meistriškumo pakopų daugiau nei iš viso buvo sportininkų!",""))
A50: 20 | B50: Gimnastika (sportinė) | C50: 119 | F50: =SUM(C50:E50) -> 119 | G50: 60 | H50: 2 | I50: 6 | J50: 4 | L50: =SUM(H50:K50) -> 12 | M50: 2 | N50: 2 | O50: 11 | P50: 17 | Q50: 2 | T50: =SUM(M50:S50) -> 34 | V50: =IF(G50>F50,"Klaida! Negali būti moterų daugiau nei iš viso buvo sportininkų!",IF(T50>F50,"Klaida! Negali būti meistriškumo pakopų daugiau nei iš viso buvo sportininkų!",""))
A51: 21 | B51: Gimnastika (meninė) | C51: 181 | F51: =SUM(C51:E51) -> 181 | G51: 181 | H51: 4 | I51: 12 | J51: 2 | K51: 3 | L51: =SUM(H51:K51) -> 21 | M51: 5 | N51: 10 | O51: 15 | P51: 9 | Q51: 3 | R51: 5 | T51: =SUM(M51:S51) -> 47 | V51: =IF(G51>F51,"Klaida! Negali būti moterų daugiau nei iš viso buvo sportininkų!",IF(T51>F51,"Klaida! Negali būti meistriškumo pakopų daugiau nei iš viso buvo sportininkų!",""))
A52: 22 | B52: Gimnastika (akr. šuoliai ant batuto) | F52: =SUM(C52:E52) -> 0 | L52: =SUM(H52:K52) -> 0 | T52: =SUM(M52:S52) -> 0 | V52: =IF(G52>F52,"Klaida! Negali būti moterų daugiau nei iš viso buvo sportininkų!",IF(T52>F52,"Klaida! Negali būti meistriškumo pakopų daugiau nei iš viso buvo sportininkų!",""))
A53: 23 | B53: Golfas | F53: =SUM(C53:E53) -> 0 | L53: =SUM(H53:K53) -> 0 | T53: =SUM(M53:S53) -> 0 | V53: =IF(G53>F53,"Klaida! Negali būti moterų daugiau nei iš viso buvo sportininkų!",IF(T53>F53,"Klaida! Negali būti meistriškumo pakopų daugiau nei iš viso buvo sportininkų!",""))
A54: 24 | B54: Imtynės (graikų ir romėnų) | C54: 100 | D54: 6 | F54: =SUM(C54:E54) -> 106 | G54: 8 | H54: 3 | I54: 4 | J54: 4 | L54: =SUM(H54:K54) -> 11 | P54: 6 | Q54: 10 | R54: 2 | T54: =SUM(M54:S54) -> 18 | V54: =IF(G54>F54,"Klaida! Negali būti moterų daugiau nei iš viso buvo sportininkų!",IF(T54>F54,"Klaida! Negali būti meistriškumo pakopų daugiau nei iš viso buvo sportininkų!",""))
A55: 25 | B55: Imtynės (laisvosios) | C55: 95 | D55: 3 | F55: =SUM(C55:E55) -> 98 | G55: 1 | H55: 4 | I55: 2 | J55: 4 | K55: 1 | L55: =SUM(H55:K55) -> 11 | O55: 2 | P55: 15 | Q55: 10 | R55: 1 | T55: =SUM(M55:S55) -> 28 | V55: =IF(G55>F55,"Klaida! Negali būti moterų daugiau nei iš viso buvo sportininkų!",IF(T55>F55,"Klaida! Negali būti meistriškumo pakopų daugiau nei iš viso buvo sportininkų!",""))
A56: 26 | B56: Imtynės (moterų) | F56: =SUM(C56:E56) -> 0 | L56: =SUM(H56:K56) -> 0 | T56: =SUM(M56:S56) -> 0 | V56: =IF(G56>F56,"Klaida! Negali būti moterų daugiau nei iš viso buvo sportininkų!",IF(T56>F56,"Klaida! Negali būti meistriškumo pakopų daugiau nei iš viso buvo sportininkų!",""))
A57: 27 | B57: Irklavimas | F57: =SUM(C57:E57) -> 0 | L57: =SUM(H57:K57) -> 0 | T57: =SUM(M57:S57) -> 0 | V57: =IF(G57>F57,"Klaida! Negali būti moterų daugiau nei iš viso buvo sportininkų!",IF(T57>F57,"Klaida! Negali būti meistriškumo pakopų daugiau nei iš viso buvo sportininkų!",""))
A58: 28 | B58: Karatė (WKF) | F58: =SUM(C58:E58) -> 0 | L58: =SUM(H58:K58) -> 0 | T58: =SUM(M58:S58) -> 0 | V58: =IF(G58>F58,"Klaida! Negali būti moterų daugiau nei iš viso buvo sportininkų!",IF(T58>F58,"Klaida! Negali būti meistriškumo pakopų daugiau nei iš viso buvo sportininkų!",""))
A59: 29 | B59: Kerlingas (akmenslydis) | F59: =SUM(C59:E59) -> 0 | L59: =SUM(H59:K59) -> 0 | T59: =SUM(M59:S59) -> 0 | V59: =IF(G59>F59,"Klaida! Negali būti moterų daugiau nei iš viso buvo sportininkų!",IF(T59>F59,"Klaida! Negali būti meistriškumo pakopų daugiau nei iš viso buvo sportininkų!",""))
A60: 30 | B60: Krepšinis | C60: 813 | F60: =SUM(C60:E60) -> 813 | H60: 19 | I60: 15 | J60: 4 | L60: =SUM(H60:K60) -> 38 | O60: 1 | P60: 2 | Q60: 3 | R60: 4 | S60: 8 | T60: =SUM(M60:S60) -> 18 | V60: =IF(G60>F60,"Klaida! Negali būti moterų daugiau nei iš viso buvo sportininkų!",IF(T60>F60,"Klaida! Negali būti meistriškumo pakopų daugiau nei iš viso buvo sportininkų!",""))
A61: 31 | B61: Laipiojimo sportas | F61: =SUM(C61:E61) -> 0 | L61: =SUM(H61:K61) -> 0 | T61: =SUM(M61:S61) -> 0 | V61: =IF(G61>F61,"Klaida! Negali būti moterų daugiau nei iš viso buvo sportininkų!",IF(T61>F61,"Klaida! Negali būti meistriškumo pakopų daugiau nei iš viso buvo sportininkų!",""))
A62: 32 | B62: Ledo ritulys | F62: =SUM(C62:E62) -> 0 | L62: =SUM(H62:K62) -> 0 | T62: =SUM(M62:S62) -> 0 | V62: =IF(G62>F62,"Klaida! Negali būti moterų daugiau nei iš viso buvo sportininkų!",IF(T62>F62,"Klaida! Negali būti meistriškumo pakopų daugiau nei iš viso buvo sportininkų!",""))
A63: 33 | B63: Lengvoji atletika | C63: 458 | D63: 10 | F63: =SUM(C63:E63) -> 468 | G63: 263 | H63: 16 | I63: 4 | J63: 19 | K63: 2 | L63: =SUM(H63:K63) -> 41 | M63: 90 | N63: 69 | O63: 42 | P63: 29 | Q63: 8 | R63: 6 | T63: =SUM(M63:S63) -> 244 | V63: =IF(G63>F63,"Klaida! Negali būti moterų daugiau nei iš viso buvo sportininkų!",IF(T63>F63,"Klaida! Negali būti meistriškumo pakopų daugiau nei iš viso buvo sportininkų!",""))
A64: 34 | B64: Plaukimas | F64: =SUM(C64:E64) -> 0 | L64: =SUM(H64:K64) -> 0 | T64: =SUM(M64:S64) -> 0 | V64: =IF(G64>F64,"Klaida! Negali būti moterų daugiau nei iš viso buvo sportininkų!",IF(T64>F64,"Klaida! Negali būti meistriškumo pakopų daugiau nei iš viso buvo sportininkų!",""))
A65: 35 | B65: Plaukimas (sinchroninis) | C65: 712 | D65: 3 | F65: =SUM(C65:E65) -> 715 | G65: 233 | H65: 33 | I65: 11 | J65: 12 | L65: =SUM(H65:K65) -> 56 | M65: 110 | N65: 25 | O65: 31 | P65: 33 | Q65: 6 | R65: 5 | S65: 1 | T65: =SUM(M65:S65) -> 211 | V65: =IF(G65>F65,"Klaida! Negali būti moterų daugiau nei iš viso buvo sportininkų!",IF(T65>F65,"Klaida! Negali būti meistriškumo pakopų daugiau nei iš viso buvo sportininkų!",""))
A66: 36 | B66: Plaukimas (šuoliai į vandenį) | F66: =SUM(C66:E66) -> 0 | L66: =SUM(H66:K66) -> 0 | T66: =SUM(M66:S66) -> 0 | V66: =IF(G66>F66,"Klaida! Negali būti moterų daugiau nei iš viso buvo sportininkų!",IF(T66>F66,"Klaida! Negali būti meistriškumo pakopų daugiau nei iš viso buvo sportininkų!",""))
A67: 37 | B67: Rankinis | C67: 204 | F67: =SUM(C67:E67) -> 204 | G67: 80 | H67: 3 | I67: 7 | J67: 4 | L67: =SUM(H67:K67) -> 14 | N67: 14 | O67: 23 | P67: 39 | R67: 1 | T67: =SUM(M67:S67) -> 77 | V67: =IF(G67>F67,"Klaida! Negali būti moterų daugiau nei iš viso buvo sportininkų!",IF(T67>F67,"Klaida! Negali būti meistriškumo pakopų daugiau nei iš viso buvo sportininkų!",""))
A68: 38 | B68: Regbis | F68: =SUM(C68:E68) -> 0 | L68: =SUM(H68:K68) -> 0 | T68: =SUM(M68:S68) -> 0 | V68: =IF(G68>F68,"Klaida! Negali būti moterų daugiau nei iš viso buvo sportininkų!",IF(T68>F68,"Klaida! Negali būti meistriškumo pakopų daugiau nei iš viso buvo sportininkų!",""))
A69: 39 | B69: Riedlenčių sportas | F69: =SUM(C69:E69) -> 0 | L69: =SUM(H69:K69) -> 0 | T69: =SUM(M69:S69) -> 0 | V69: =IF(G69>F69,"Klaida! Negali būti moterų daugiau nei iš viso buvo sportininkų!",IF(T69>F69,"Klaida! Negali būti meistriškumo pakopų daugiau nei iš viso buvo sportininkų!",""))
A70: 40 | B70: Rogučių sportas | F70: =SUM(C70:E70) -> 0 | L70: =SUM(H70:K70) -> 0 | T70: =SUM(M70:S70) -> 0 | V70: =IF(G70>F70,"Klaida! Negali būti moterų daugiau nei iš viso buvo sportininkų!",IF(T70>F70,"Klaida! Negali būti meistriškumo pakopų daugiau nei iš viso buvo sportininkų!",""))
A71: 41 | B71: Skeletonas | F71: =SUM(C71:E71) -> 0 | L71: =SUM(H71:K71) -> 0 | T71: =SUM(M71:S71) -> 0 | V71: =IF(G71>F71,"Klaida! Negali būti moterų daugiau nei iš viso buvo sportininkų!",IF(T71>F71,"Klaida! Negali būti meistriškumo pakopų daugiau nei iš viso buvo sportininkų!",""))
A72: 42 | B72: Slidinėjimas (lygumų) | F72: =SUM(C72:E72) -> 0 | L72: =SUM(H72:K72) -> 0 | T72: =SUM(M72:S72) -> 0 | V72: =IF(G72>F72,"Klaida! Negali būti moterų daugiau nei iš viso buvo sportininkų!",IF(T72>F72,"Klaida! Negali būti meistriškumo pakopų daugiau nei iš viso buvo sportininkų!",""))
A73: 43 | B73: Slidinėjimas (kalnų) | F73: =SUM(C73:E73) -> 0 | L73: =SUM(H73:K73) -> 0 | T73: =SUM(M73:S73) -> 0 | V73: =IF(G73>F73,"Klaida! Negali būti moterų daugiau nei iš viso buvo sportininkų!",IF(T73>F73,"Klaida! Negali būti meistriškumo pakopų daugiau nei iš viso buvo sportininkų!",""))
A74: 44 | B74: Slidinėjimas (snieglenčių) | F74: =SUM(C74:E74) -> 0 | L74: =SUM(H74:K74) -> 0 | T74: =SUM(M74:S74) -> 0 | V74: =IF(G74>F74,"Klaida! Negali būti moterų daugiau nei iš viso buvo sportininkų!",IF(T74>F74,"Klaida! Negali būti meistriškumo pakopų daugiau nei iš viso buvo sportininkų!",""))
A75: 45 | B75: Stalo tenisas | F75: =SUM(C75:E75) -> 0 | L75: =SUM(H75:K75) -> 0 | T75: =SUM(M75:S75) -> 0 | V75: =IF(G75>F75,"Klaida! Negali būti moterų daugiau nei iš viso buvo sportininkų!",IF(T75>F75,"Klaida! Negali būti meistriškumo pakopų daugiau nei iš viso buvo sportininkų!",""))
A76: 46 | B76: Sunkioji atletika | C76: 45 | D76: 11 | F76: =SUM(C76:E76) -> 56 | G76: 12 | I76: 3 | J76: 4 | K76: 3 | L76: =SUM(H76:K76) -> 10 | N76: 1 | O76: 5 | P76: 4 | Q76: 18 | R76: 3 | T76: =SUM(M76:S76) -> 31 | V76: =IF(G76>F76,"Klaida! Negali būti moterų daugiau nei iš viso buvo sportininkų!",IF(T76>F76,"Klaida! Negali būti meistriškumo pakopų daugiau nei iš viso buvo sportininkų!",""))
A77: 47 | B77: Šaudymas iš lanko | F77: =SUM(C77:E77) -> 0 | L77: =SUM(H77:K77) -> 0 | T77: =SUM(M77:S77) -> 0 | V77: =IF(G77>F77,"Klaida! Negali būti moterų daugiau nei iš viso buvo sportininkų!",IF(T77>F77,"Klaida! Negali būti meistriškumo pakopų daugiau nei iš viso buvo sportininkų!",""))
A78: 48 | B78: Šaudymo sportas | F78: =SUM(C78:E78) -> 0 | L78: =SUM(H78:K78) -> 0 | T78: =SUM(M78:S78) -> 0 | V78: =IF(G78>F78,"Klaida! Negali būti moterų daugiau nei iš viso buvo sportininkų!",IF(T78>F78,"Klaida! Negali būti meistriškumo pakopų daugiau nei iš viso buvo sportininkų!",""))
A79: 49 | B79: Šiuolaikinė penkiakovė | F79: =SUM(C79:E79) -> 0 | L79: =SUM(H79:K79) -> 0 | T79: =SUM(M79:S79) -> 0 | V79: =IF(G79>F79,"Klaida! Negali būti moterų daugiau nei iš viso buvo sportininkų!",IF(T79>F79,"Klaida! Negali būti meistriškumo pakopų daugiau nei iš viso buvo sportininkų!",""))
A80: 50 | B80: Tekvondo (WTF) | C80: 3 | D80: 3 | F80: =SUM(C80:E80) -> 6 | G80: 2 | J80: 1 | L80: =SUM(H80:K80) -> 1 | Q80: 6 | T80: =SUM(M80:S80) -> 6 | V80: =IF(G80>F80,"Klaida! Negali būti moterų daugiau nei iš viso buvo sportininkų!",IF(T80>F80,"Klaida! Negali būti meistriškumo pakopų daugiau nei iš viso buvo sportininkų!",""))
A81: 51 | B81: Tenisas | F81: =SUM(C81:E81) -> 0 | L81: =SUM(H81:K81) -> 0 | T81: =SUM(M81:S81) -> 0 | V81: =IF(G81>F81,"Klaida! Negali būti moterų daugiau nei iš viso buvo sportininkų!",IF(T81>F81,"Klaida! Negali būti meistriškumo pakopų daugiau nei iš viso buvo sportininkų!",""))
A82: 52 | B82: Tinklinis | C82: 139 | F82: =SUM(C82:E82) -> 139 | G82: 80 | I82: 7 | J82: 2 | L82: =SUM(H82:K82) -> 9 | O82: 7 | P82: 19 | Q82: 23 | T82: =SUM(M82:S82) -> 49 | V82: =IF(G82>F82,"Klaida! Negali būti moterų daugiau nei iš viso buvo sportininkų!",IF(T82>F82,"Klaida! Negali būti meistriškumo pakopų daugiau nei iš viso buvo sportininkų!",""))
A83: 53 | B83: Triatlonas | F83: =SUM(C83:E83) -> 0 | L83: =SUM(H83:K83) -> 0 | T83: =SUM(M83:S83) -> 0 | V83: =IF(G83>F83,"Klaida! Negali būti moterų daugiau nei iš viso buvo sportininkų!",IF(T83>F83,"Klaida! Negali būti meistriškumo pakopų daugiau nei iš viso buvo sportininkų!",""))
A84: 54 | B84: Vandensvydis | F84: =SUM(C84:E84) -> 0 | L84: =SUM(H84:K84) -> 0 | T84: =SUM(M84:S84) -> 0 | V84: =IF(G84>F84,"Klaida! Negali būti moterų daugiau nei iš viso buvo sportininkų!",IF(T84>F84,"Klaida! Negali būti meistriškumo pakopų daugiau nei iš viso buvo sportininkų!",""))
A85: 55 | B85: Žirgų sportas | F85: =SUM(C85:E85) -> 0 | L85: =SUM(H85:K85) -> 0 | T85: =SUM(M85:S85) -> 0 | V85: =IF(G85>F85,"Klaida! Negali būti moterų daugiau nei iš viso buvo sportininkų!",IF(T85>F85,"Klaida! Negali būti meistriškumo pakopų daugiau nei iš viso buvo sportininkų!",""))
A86: 56 | B86: Žolės riedulys | F86: =SUM(C86:E86) -> 0 | L86: =SUM(H86:K86) -> 0 | T86: =SUM(M86:S86) -> 0 | V86: =IF(G86>F86,"Klaida! Negali būti moterų daugiau nei iš viso buvo sportininkų!",IF(T86>F86,"Klaida! Negali būti meistriškumo pakopų daugiau nei iš viso buvo sportininkų!",""))
B87: Iš viso: | C87: =SUM(C31:C86) -> 3038 | D87: =SUM(D31:D86) -> 42 | E87: =SUM(E31:E86) -> 0 | F87: =SUM(F31:F86) -> 3080 | G87: =SUM(G31:G86) -> 946 | H87: =SUM(H31:H86) -> 91 | I87: =SUM(I31:I86) -> 80 | J87: =SUM(J31:J86) -> 66 | ... T87: =SUM(T31:T86) -> 805 | V87: =IF(G87>F87,"Klaida! Negali būti moterų daugiau nei iš viso buvo sportininkų!",IF(T87>F87,"Klaida! Negali būti meistriškumo pakopų daugiau nei iš viso buvo sportininkų!",""))
B88: Iš jų:
A89: 1 | B89: Sporto padalinio SUC | C89: 3038 | D89: 42 | F89: =SUM(C89:E89) -> 3080 | G89: 946 | H89: 91 | I89: 80 | J89: 66 | K89: 9 | L89: =SUM(H89:K89) -> 246 | M89: 207 | N89: 121 | O89: 145 | P89: 198 | Q89: 97 | R89: 28 | S89: 9 | T89: =SUM(M89:S89) -> 805 | V89: =IF(G89>F89,"Klaida! Negali būti moterų daugiau nei iš viso buvo sportininkų!",IF(T89>F89,"Klaida! Negali būti meistriškumo pakopų daugiau nei iš viso buvo sportininkų!",""))
A90: 2 | B90: Švietimo padalinio SUC | F90: =SUM(C90:E90) -> 0 | L90: =SUM(H90:K90) -> 0 | T90: =SUM(M90:S90) -> 0 | V90: =IF(G90>F90,"Klaida! Negali būti moterų daugiau nei iš viso buvo sportininkų!",IF(T90>F90,"Klaida! Negali būti meistriškumo pakopų daugiau nei iš viso buvo sportininkų!",""))
A91: 3 | B91: Privačių asmenų SUC | F91: =SUM(C91:E91) -> 0 | L91: =SUM(H91:K91) -> 0 | T91: =SUM(M91:S91) -> 0 | V91: =IF(G91>F91,"Klaida! Negali būti moterų daugiau nei iš viso buvo sportininkų!",IF(T91>F91,"Klaida! Negali būti meistriškumo pakopų daugiau nei iš viso buvo sportininkų!",""))
B92: Iš viso: | C92: =SUM(C89:C91) -> 3038 | D92: =SUM(D89:D91) -> 42 | E92: =SUM(E89:E91) -> 0 | F92: =SUM(F89:F91) -> 3080 | G92: =SUM(G89:G91) -> 946 | H92: =SUM(H89:H91) -> 91 | I92: =SUM(I89:I91) -> 80 | J92: =SUM(J89:J91) -> 66 | ... T92: =SUM(T89:T91) -> 805 | V92: =IF(AND(C87=C92,D87=D92,E87=E92,G87=G92,H87=H92,I87=I92,J87=J92,K87=K92,M87=M92,N87=N92,O87=O92,P87=P92,Q87=Q92,R87=R92,S87=S92),"","Eilutė nesutampa!!! Šis pranešimas išnyks teisingai suvedus duomenis. Paskirstymas pagal sporto padalinius turi sutapti su 83 eilute")
B93: Kitos sporto šakos
A94: 1 | B94: Alpinizmas | F94: =SUM(C94:E94) -> 0 | L94: =SUM(H94:K94) -> 0 | T94: =SUM(M94:S94) -> 0 | V94: =IF(G94>F94,"Klaida! Negali būti moterų daugiau nei iš viso buvo sportininkų!",IF(T94>F94,"Klaida! Negali būti meistriškumo pakopų daugiau nei iš viso buvo sportininkų!",""))
A95: 2 | B95: Baidarių (kanu) polo | F95: =SUM(C95:E95) -> 0 | L95: =SUM(H95:K95) -> 0 | T95: =SUM(M95:S95) -> 0 | V95: =IF(G95>F95,"Klaida! Negali būti moterų daugiau nei iš viso buvo sportininkų!",IF(T95>F95,"Klaida! Negali būti meistriškumo pakopų daugiau nei iš viso buvo sportininkų!",""))
A96: 3 | B96: Boulingas | F96: =SUM(C96:E96) -> 0 | L96: =SUM(H96:K96) -> 0 | T96: =SUM(M96:S96) -> 0 | V96: =IF(G96>F96,"Klaida! Negali būti moterų daugiau nei iš viso buvo sportininkų!",IF(T96>F96,"Klaida! Negali būti meistriškumo pakopų daugiau nei iš viso buvo sportininkų!",""))
A97: 4 | B97: Biliardas | F97: =SUM(C97:E97) -> 0 | L97: =SUM(H97:K97) -> 0 | T97: =SUM(M97:S97) -> 0 | V97: =IF(G97>F97,"Klaida! Negali būti moterų daugiau nei iš viso buvo sportininkų!",IF(T97>F97,"Klaida! Negali būti meistriškumo pakopų daugiau nei iš viso buvo sportininkų!",""))
A98: 5 | B98: Bočia | F98: =SUM(C98:E98) -> 0 | L98: =SUM(H98:K98) -> 0 | T98: =SUM(M98:S98) -> 0 | V98: =IF(G98>F98,"Klaida! Negali būti moterų daugiau nei iš viso buvo sportininkų!",IF(T98>F98,"Klaida! Negali būti meistriškumo pakopų daugiau nei iš viso buvo sportininkų!",""))
A99: 6 | B99: Džiudžitsu (ju-jitsu) | F99: =SUM(C99:E99) -> 0 | L99: =SUM(H99:K99) -> 0 | T99: =SUM(M99:S99) -> 0 | V99: =IF(G99>F99,"Klaida! Negali būti moterų daugiau nei iš viso buvo sportininkų!",IF(T99>F99,"Klaida! Negali būti meistriškumo pakopų daugiau nei iš viso buvo sportininkų!",""))
A100: 7 | B100: Funkcinis sportas | F100: =SUM(C100:E100) -> 0 | L100: =SUM(H100:K100) -> 0 | T100: =SUM(M100:S100) -> 0 | V100: =IF(G100>F100,"Klaida! Negali būti moterų daugiau nei iš viso buvo sportininkų!",IF(T100>F100,"Klaida! Negali būti meistriškumo pakopų daugiau nei iš viso buvo sportininkų!",""))
A101: 8 | B101: Galiūnų sportas | F101: =SUM(C101:E101) -> 0 | L101: =SUM(H101:K101) -> 0 | T101: =SUM(M101:S101) -> 0 | V101: =IF(G101>F101,"Klaida! Negali būti moterų daugiau nei iš viso buvo sportininkų!",IF(T101>F101,"Klaida! Negali būti meistriškumo pakopų daugiau nei iš viso buvo sportininkų!",""))
A102: 9 | B102: Gimnastika (aerobinė) | C102: 30 | F102: =SUM(C102:E102) -> 30 | G102: 30 | J102: 6 | L102: =SUM(H102:K102) -> 6 | P102: 4 | Q102: 19 | R102: 3 | S102: 3 | T102: =SUM(M102:S102) -> 29 | V102: =IF(G102>F102,"Klaida! Negali būti moterų daugiau nei iš viso buvo sportininkų!",IF(T102>F102,"Klaida! Negali būti meistriškumo pakopų daugiau nei iš viso buvo sportininkų!",""))
A103: 10 | B103: Gimnastika (akr.i šuoliai ant takelio) | F103: =SUM(C103:E103) -> 0 | L103: =SUM(H103:K103) -> 0 | T103: =SUM(M103:S103) -> 0 | V103: =IF(G103>F103,"Klaida! Negali būti moterų daugiau nei iš viso buvo sportininkų!",IF(T103>F103,"Klaida! Negali būti meistriškumo pakopų daugiau nei iš viso buvo sportininkų!",""))
A104: 11 | B104: Gimnastika (sportinė akrobatika) | F104: =SUM(C104:E104) -> 0 | L104: =SUM(H104:K104) -> 0 | T104: =SUM(M104:S104) -> 0 | V104: =IF(G104>F104,"Klaida! Negali būti moterų daugiau nei iš viso buvo sportininkų!",IF(T104>F104,"Klaida! Negali būti meistriškumo pakopų daugiau nei iš viso buvo sportininkų!",""))
A105: 12 | B105: Gimnastika visiems | F105: =SUM(C105:E105) -> 0 | L105: =SUM(H105:K105) -> 0 | T105: =SUM(M105:S105) -> 0 | V105: =IF(G105>F105,"Klaida! Negali būti moterų daugiau nei iš viso buvo sportininkų!",IF(T105>F105,"Klaida! Negali būti meistriškumo pakopų daugiau nei iš viso buvo sportininkų!",""))
A106: 13 | B106: Imtynės už diržų (Alyšo imtynės) | F106: =SUM(C106:E106) -> 0 | L106: =SUM(H106:K106) -> 0 | T106: =SUM(M106:S106) -> 0 | V106: =IF(G106>F106,"Klaida! Negali būti moterų daugiau nei iš viso buvo sportininkų!",IF(T106>F106,"Klaida! Negali būti meistriškumo pakopų daugiau nei iš viso buvo sportininkų!",""))
A107: 14 | B107: Jėgos trikovė | F107: =SUM(C107:E107) -> 0 | L107: =SUM(H107:K107) -> 0 | T107: =SUM(M107:S107) -> 0 | V107: =IF(G107>F107,"Klaida! Negali būti moterų daugiau nei iš viso buvo sportininkų!",IF(T107>F107,"Klaida! Negali būti meistriškumo pakopų daugiau nei iš viso buvo sportininkų!",""))
...

Sheet SUC1_Treneriai
A1: =IF('SUC1_B. duomenys'!A13:U13="","",'SUC1_B. duomenys'!A13:U13) -> BĮ KLAIPĖDOS MIESTO LENGVOSIOS ATLETIKOS MOKYKLA, BĮ KLAIPĖDOS „GINTARO“ SPORTO CENTRAS, BĮ KLAIPĖDOS VLADO KNAŠIAUS KREPŠINIO MOKYKLA, BĮ KLAIPĖDOS "VIESULO" SPORTO CENTRAS, BĮ KLAIPĖDOS MIESTO SPORTO BAZIŲ VALDYMO CENTRAS.
A2: (Sportininkų ugdymo centro(-ų) pavadinimas(-ai))
A3: 2. 2024 M. AUKŠTO MEISTRIŠKUMO IR FIZINIO AKTYVUMO TRENERIAI IR INSTRUKTORIAI | AF3: Forma Nr. SUC-1
A4: Eil. Nr. | B4: Sporto šaka (ir/arba disciplina) | C4: Aukštasis meistriškumas (AM) | U4: Fizinis aktyvumas (FA) | AF4: Savanoriai
C5: AM Sporto treneriai | O5: AM Sporto instruktoriai | U5: FA treneriai | Z5: FA instruktoriai
C6: Iš viso | D6: Iš jų moterų | E6: Neturi kvalifikacinės kategorijos | F6: Turi kvalifikacines kategorijas | L6: Turi aukštąjį sporto studijų krypties išsilavinimą | M6: Baigęs mokymus aukštojoje mokykloje | N6: Turi veiklos leidimą | O6: Iš viso | P6: Iš jų moterų | Q6: Turi aukštąjį sporto studijų krypties išsilavinimą | R6: Baigęs mokymus aukštojoje mokykloje | S6: Studijuojantis sporto arba fiz. aktyvumo krypties studijų programą | T6: Turi veiklos leidimą | U6: Iš viso | V6: Iš jų moterų | W6: Turi aukštąjį sporto studijų krypties išsilavinimą | X6: Baigęs mokymus aukštojoje mokykloje | Y6: Turi veiklos leidimą | Z6: Iš viso | AA6: Iš jų moterų | AB6: Turi aukštąjį sporto studijų krypties išsilavinimą | AC6: Baigęs mokymus aukštojoje mokykloje | AD6: Studijuojantis sporto arba fiz. aktyvumo krypties studijų programą | AE6: Turi veiklos leidimą
F7: Pirma | G7: Antra | H7: Trečia | I7: Ketvirta | J7: Penkta | K7: Šešta
A9: 1 | B9: 2 | C9: 3 | D9: 4 | E9: 5 | F9: 6 | G9: 7 | H9: 8 | I9: 9 | J9: 10 | K9: 11 | L9: 12 | M9: 13 | N9: 14 | O9: 15 | P9: 16 | Q9: 17 | R9: 18 | S9: 19 | T9: 20 | U9: 21 | V9: 22 | W9: 23 | X9: 24 | Y9: 25 | Z9: 26 | AA9: 27 | AB9: 28 | AC9: 29 | AD9: 30 | AE9: 31 | AF9: 32
B10: Į olimpinių žaidynių programą įtrauktos sporto šakos
A11: ='SUC1_B. duomenys'!A31 -> 1 | B11: ='SUC1_B. duomenys'!B31 -> Badmintonas | C11: 1 | E11: =C11-(F11+G11+H11+I11+J11+K11) -> 0 | K11: 1 | L11: 1 | O11: =Q11+R11+S11+T11 -> 0 | U11: =W11+X11+Y11 -> 0 | Z11: =AB11+AC11+AD11+AE11 -> 0 | AH11: =IF(D11>C11,"Klaida! Negali būti moterų daugiau nei iš viso trenerių/AM sp. specialistų!",IF(F11+G11+H11+I11+J11+K11>C11,"Klaida! Negali būti kategorijų daugiau negu trenerių/AM sp. specialistų!",IF(L11+N11>C11,"Klaida! Negali būti išsilavinimų, veiklos leidimų ir t.t. daugiau negu trenerių/AM sp. specialistų!",IF(P11>O11,"Klaida! Negali būti moterų daugiau nei iš viso AM instruktorių!",IF(Q11+R11+S11+T11>O11,"Klaida! Negali būti išsilavinimų, veiklos leidimų ir t.t. daugiau negu AM instruktorių!",IF(V11>U11,"Klaida! Negali būti moterų daugiau nei iš viso FA specialistų!",IF(W11+X11+Y11>U11,"Klaida! Negali būti išsilavinimų, veiklos leidimų ir t.t. daugiau negu FA specialistų!",IF(AA11>Z11,"Klaida! Negali būti moterų daugiau nei iš viso FA instruktorių!",IF(AB11+AC11+AD11+AE11>Z11,"Klaida! Negali būti išsilavinimų, veiklos leidimų ir t.t. daugiau negu FA instruktorių!","")))))))))
A12: ='SUC1_B. duomenys'!A32 -> 2 | B12: ='SUC1_B. duomenys'!B32 -> Baidarių ir kanojų irklavimas | C12: =L12+M12+N12 -> 0 | E12: =C12-(F12+G12+H12+I12+J12+K12) -> 0 | O12: =Q12+R12+S12+T12 -> 0 | U12: =W12+X12+Y12 -> 0 | Z12: =AB12+AC12+AD12+AE12 -> 0 | AH12: =IF(D12>C12,"Klaida! Negali būti moterų daugiau nei iš viso trenerių/AM sp. specialistų!",IF(F12+G12+H12+I12+J12+K12>C12,"Klaida! Negali būti kategorijų daugiau negu trenerių/AM sp. specialistų!",IF(L12+N12>C12,"Klaida! Negali būti išsilavinimų, veiklos leidimų ir t.t. daugiau negu trenerių/AM sp. specialistų!",IF(P12>O12,"Klaida! Negali būti moterų daugiau nei iš viso AM instruktorių!",IF(Q12+R12+S12+T12>O12,"Klaida! Negali būti išsilavinimų, veiklos leidimų ir t.t. daugiau negu AM instruktorių!",IF(V12>U12,"Klaida! Negali būti moterų daugiau nei iš viso FA specialistų!",IF(W12+X12+Y12>U12,"Klaida! Negali būti išsilavinimų, veiklos leidimų ir t.t. daugiau negu FA specialistų!",IF(AA12>Z12,"Klaida! Negali būti moterų daugiau nei iš viso FA instruktorių!",IF(AB12+AC12+AD12+AE12>Z12,"Klaida! Negali būti išsilavinimų, veiklos leidimų ir t.t. daugiau negu FA instruktorių!","")))))))))
A13: ='SUC1_B. duomenys'!A33 -> 3 | B13: ='SUC1_B. duomenys'!B33 -> Banglenčių sportas | C13: =L13+M13+N13 -> 0 | E13: =C13-(F13+G13+H13+I13+J13+K13) -> 0 | O13: =Q13+R13+S13+T13 -> 0 | U13: =W13+X13+Y13 -> 0 | Z13: =AB13+AC13+AD13+AE13 -> 0 | AH13: =IF(D13>C13,"Klaida! Negali būti moterų daugiau nei iš viso trenerių/AM sp. specialistų!",IF(F13+G13+H13+I13+J13+K13>C13,"Klaida! Negali būti kategorijų daugiau negu trenerių/AM sp. specialistų!",IF(L13+N13>C13,"Klaida! Negali būti išsilavinimų, veiklos leidimų ir t.t. daugiau negu trenerių/AM sp. specialistų!",IF(P13>O13,"Klaida! Negali būti moterų daugiau nei iš viso AM instruktorių!",IF(Q13+R13+S13+T13>O13,"Klaida! Negali būti išsilavinimų, veiklos leidimų ir t.t. daugiau negu AM instruktorių!",IF(V13>U13,"Klaida! Negali būti moterų daugiau nei iš viso FA specialistų!",IF(W13+X13+Y13>U13,"Klaida! Negali būti išsilavinimų, veiklos leidimų ir t.t. daugiau negu FA specialistų!",IF(AA13>Z13,"Klaida! Negali būti moterų daugiau nei iš viso FA instruktorių!",IF(AB13+AC13+AD13+AE13>Z13,"Klaida! Negali būti išsilavinimų, veiklos leidimų ir t.t. daugiau negu FA instruktorių!","")))))))))
A14: ='SUC1_B. duomenys'!A34 -> 4 | B14: ='SUC1_B. duomenys'!B34 -> Beisbolas* | C14: =L14+M14+N14 -> 0 | E14: =C14-(F14+G14+H14+I14+J14+K14) -> 0 | O14: =Q14+R14+S14+T14 -> 0 | U14: =W14+X14+Y14 -> 0 | Z14: =AB14+AC14+AD14+AE14 -> 0 | AH14: =IF(D14>C14,"Klaida! Negali būti moterų daugiau nei iš viso trenerių/AM sp. specialistų!",IF(F14+G14+H14+I14+J14+K14>C14,"Klaida! Negali būti kategorijų daugiau negu trenerių/AM sp. specialistų!",IF(L14+N14>C14,"Klaida! Negali būti išsilavinimų, veiklos leidimų ir t.t. daugiau negu trenerių/AM sp. specialistų!",IF(P14>O14,"Klaida! Negali būti moterų daugiau nei iš viso AM instruktorių!",IF(Q14+R14+S14+T14>O14,"Klaida! Negali būti išsilavinimų, veiklos leidimų ir t.t. daugiau negu AM instruktorių!",IF(V14>U14,"Klaida! Negali būti moterų daugiau nei iš viso FA specialistų!",IF(W14+X14+Y14>U14,"Klaida! Negali būti išsilavinimų, veiklos leidimų ir t.t. daugiau negu FA specialistų!",IF(AA14>Z14,"Klaida! Negali būti moterų daugiau nei iš viso FA instruktorių!",IF(AB14+AC14+AD14+AE14>Z14,"Klaida! Negali būti išsilavinimų, veiklos leidimų ir t.t. daugiau negu FA instruktorių!","")))))))))
A15: ='SUC1_B. duomenys'!A35 -> 5 | B15: ='SUC1_B. duomenys'!B35 -> Beisbolas (softbolas)* | C15: =L15+M15+N15 -> 0 | E15: =C15-(F15+G15+H15+I15+J15+K15) -> 0 | O15: =Q15+R15+S15+T15 -> 0 | U15: =W15+X15+Y15 -> 0 | Z15: =AB15+AC15+AD15+AE15 -> 0 | AH15: =IF(D15>C15,"Klaida! Negali būti moterų daugiau nei iš viso trenerių/AM sp. specialistų!",IF(F15+G15+H15+I15+J15+K15>C15,"Klaida! Negali būti kategorijų daugiau negu trenerių/AM sp. specialistų!",IF(L15+N15>C15,"Klaida! Negali būti išsilavinimų, veiklos leidimų ir t.t. daugiau negu trenerių/AM sp. specialistų!",IF(P15>O15,"Klaida! Negali būti moterų daugiau nei iš viso AM instruktorių!",IF(Q15+R15+S15+T15>O15,"Klaida! Negali būti išsilavinimų, veiklos leidimų ir t.t. daugiau negu AM instruktorių!",IF(V15>U15,"Klaida! Negali būti moterų daugiau nei iš viso FA specialistų!",IF(W15+X15+Y15>U15,"Klaida! Negali būti išsilavinimų, veiklos leidimų ir t.t. daugiau negu FA specialistų!",IF(AA15>Z15,"Klaida! Negali būti moterų daugiau nei iš viso FA instruktorių!",IF(AB15+AC15+AD15+AE15>Z15,"Klaida! Negali būti išsilavinimų, veiklos leidimų ir t.t. daugiau negu FA instruktorių!","")))))))))
A16: ='SUC1_B. duomenys'!A36 -> 6 | B16: ='SUC1_B. duomenys'!B36 -> Biatlonas | C16: =L16+M16+N16 -> 0 | E16: =C16-(F16+G16+H16+I16+J16+K16) -> 0 | O16: =Q16+R16+S16+T16 -> 0 | U16: =W16+X16+Y16 -> 0 | Z16: =AB16+AC16+AD16+AE16 -> 0 | AH16: =IF(D16>C16,"Klaida! Negali būti moterų daugiau nei iš viso trenerių/AM sp. specialistų!",IF(F16+G16+H16+I16+J16+K16>C16,"Klaida! Negali būti kategorijų daugiau negu trenerių/AM sp. specialistų!",IF(L16+N16>C16,"Klaida! Negali būti išsilavinimų, veiklos leidimų ir t.t. daugiau negu trenerių/AM sp. specialistų!",IF(P16>O16,"Klaida! Negali būti moterų daugiau nei iš viso AM instruktorių!",IF(Q16+R16+S16+T16>O16,"Klaida! Negali būti išsilavinimų, veiklos leidimų ir t.t. daugiau negu AM instruktorių!",IF(V16>U16,"Klaida! Negali būti moterų daugiau nei iš viso FA specialistų!",IF(W16+X16+Y16>U16,"Klaida! Negali būti išsilavinimų, veiklos leidimų ir t.t. daugiau negu FA specialistų!",IF(AA16>Z16,"Klaida! Negali būti moterų daugiau nei iš viso FA instruktorių!",IF(AB16+AC16+AD16+AE16>Z16,"Klaida! Negali būti išsilavinimų, veiklos leidimų ir t.t. daugiau negu FA instruktorių!","")))))))))
A17: ='SUC1_B. duomenys'!A37 -> 7 | B17: ='SUC1_B. duomenys'!B37 -> Bobslėjus | C17: =L17+M17+N17 -> 0 | E17: =C17-(F17+G17+H17+I17+J17+K17) -> 0 | O17: =Q17+R17+S17+T17 -> 0 | U17: =W17+X17+Y17 -> 0 | Z17: =AB17+AC17+AD17+AE17 -> 0 | AH17: =IF(D17>C17,"Klaida! Negali būti moterų daugiau nei iš viso trenerių/AM sp. specialistų!",IF(F17+G17+H17+I17+J17+K17>C17,"Klaida! Negali būti kategorijų daugiau negu trenerių/AM sp. specialistų!",IF(L17+N17>C17,"Klaida! Negali būti išsilavinimų, veiklos leidimų ir t.t. daugiau negu trenerių/AM sp. specialistų!",IF(P17>O17,"Klaida! Negali būti moterų daugiau nei iš viso AM instruktorių!",IF(Q17+R17+S17+T17>O17,"Klaida! Negali būti išsilavinimų, veiklos leidimų ir t.t. daugiau negu AM instruktorių!",IF(V17>U17,"Klaida! Negali būti moterų daugiau nei iš viso FA specialistų!",IF(W17+X17+Y17>U17,"Klaida! Negali būti išsilavinimų, veiklos leidimų ir t.t. daugiau negu FA specialistų!",IF(AA17>Z17,"Klaida! Negali būti moterų daugiau nei iš viso FA instruktorių!",IF(AB17+AC17+AD17+AE17>Z17,"Klaida! Negali būti išsilavinimų, veiklos leidimų ir t.t. daugiau negu FA instruktorių!","")))))))))
A18: ='SUC1_B. duomenys'!A38 -> 8 | B18: ='SUC1_B. duomenys'!B38 -> Boksas | C18: =L18+M18+N18 -> 4 | E18: =C18-(F18+G18+H18+I18+J18+K18) -> 0 | G18: 2 | H18: 2 | L18: 4 | O18: =Q18+R18+S18+T18 -> 0 | U18: =W18+X18+Y18 -> 0 | Z18: =AB18+AC18+AD18+AE18 -> 0 | AH18: =IF(D18>C18,"Klaida! Negali būti moterų daugiau nei iš viso trenerių/AM sp. specialistų!",IF(F18+G18+H18+I18+J18+K18>C18,"Klaida! Negali būti kategorijų daugiau negu trenerių/AM sp. specialistų!",IF(L18+N18>C18,"Klaida! Negali būti išsilavinimų, veiklos leidimų ir t.t. daugiau negu trenerių/AM sp. specialistų!",IF(P18>O18,"Klaida! Negali būti moterų daugiau nei iš viso AM instruktorių!",IF(Q18+R18+S18+T18>O18,"Klaida! Negali būti išsilavinimų, veiklos leidimų ir t.t. daugiau negu AM instruktorių!",IF(V18>U18,"Klaida! Negali būti moterų daugiau nei iš viso FA specialistų!",IF(W18+X18+Y18>U18,"Klaida! Negali būti išsilavinimų, veiklos leidimų ir t.t. daugiau negu FA specialistų!",IF(AA18>Z18,"Klaida! Negali būti moterų daugiau nei iš viso FA instruktorių!",IF(AB18+AC18+AD18+AE18>Z18,"Klaida! Negali būti išsilavinimų, veiklos leidimų ir t.t. daugiau negu FA instruktorių!","")))))))))
A19: 9 | B19: Breikas | C19: =L19+M19+N19 -> 0 | E19: =C19-(F19+G19+H19+I19+J19+K19) -> 0 | O19: =Q19+R19+S19+T19 -> 0 | U19: =W19+X19+Y19 -> 0 | Z19: =AB19+AC19+AD19+AE19 -> 0 | AH19: =IF(D19>C19,"Klaida! Negali būti moterų daugiau nei iš viso trenerių/AM sp. specialistų!",IF(F19+G19+H19+I19+J19+K19>C19,"Klaida! Negali būti kategorijų daugiau negu trenerių/AM sp. specialistų!",IF(L19+N19>C19,"Klaida! Negali būti išsilavinimų, veiklos leidimų ir t.t. daugiau negu trenerių/AM sp. specialistų!",IF(P19>O19,"Klaida! Negali būti moterų daugiau nei iš viso AM instruktorių!",IF(Q19+R19+S19+T19>O19,"Klaida! Negali būti išsilavinimų, veiklos leidimų ir t.t. daugiau negu AM instruktorių!",IF(V19>U19,"Klaida! Negali būti moterų daugiau nei iš viso FA specialistų!",IF(W19+X19+Y19>U19,"Klaida! Negali būti išsilavinimų, veiklos leidimų ir t.t. daugiau negu FA specialistų!",IF(AA19>Z19,"Klaida! Negali būti moterų daugiau nei iš viso FA instruktorių!",IF(AB19+AC19+AD19+AE19>Z19,"Klaida! Negali būti išsilavinimų, veiklos leidimų ir t.t. daugiau negu FA instruktorių!","")))))))))
A20: ='SUC1_B. duomenys'!A40 -> 10 | B20: ='SUC1_B. duomenys'!B40 -> Buriavimas | C20: =L20+M20+N20 -> 0 | E20: =C20-(F20+G20+H20+I20+J20+K20) -> 0 | O20: =Q20+R20+S20+T20 -> 0 | U20: =W20+X20+Y20 -> 0 | Z20: =AB20+AC20+AD20+AE20 -> 0 | AH20: =IF(D20>C20,"Klaida! Negali būti moterų daugiau nei iš viso trenerių/AM sp. specialistų!",IF(F20+G20+H20+I20+J20+K20>C20,"Klaida! Negali būti kategorijų daugiau negu trenerių/AM sp. specialistų!",IF(L20+N20>C20,"Klaida! Negali būti išsilavinimų, veiklos leidimų ir t.t. daugiau negu trenerių/AM sp. specialistų!",IF(P20>O20,"Klaida! Negali būti moterų daugiau nei iš viso AM instruktorių!",IF(Q20+R20+S20+T20>O20,"Klaida! Negali būti išsilavinimų, veiklos leidimų ir t.t. daugiau negu AM instruktorių!",IF(V20>U20,"Klaida! Negali būti moterų daugiau nei iš viso FA specialistų!",IF(W20+X20+Y20>U20,"Klaida! Negali būti išsilavinimų, veiklos leidimų ir t.t. daugiau negu FA specialistų!",IF(AA20>Z20,"Klaida! Negali būti moterų daugiau nei iš viso FA instruktorių!",IF(AB20+AC20+AD20+AE20>Z20,"Klaida! Negali būti išsilavinimų, veiklos leidimų ir t.t. daugiau negu FA instruktorių!","")))))))))
A21: ='SUC1_B. duomenys'!A41 -> 11 | B21: ='SUC1_B. duomenys'!B41 -> Čiuožimas (dailusis) | C21: =L21+M21+N21 -> 0 | E21: =C21-(F21+G21+H21+I21+J21+K21) -> 0 | O21: =Q21+R21+S21+T21 -> 0 | U21: =W21+X21+Y21 -> 0 | Z21: =AB21+AC21+AD21+AE21 -> 0 | AH21: =IF(D21>C21,"Klaida! Negali būti moterų daugiau nei iš viso trenerių/AM sp. specialistų!",IF(F21+G21+H21+I21+J21+K21>C21,"Klaida! Negali būti kategorijų daugiau negu trenerių/AM sp. specialistų!",IF(L21+N21>C21,"Klaida! Negali būti išsilavinimų, veiklos leidimų ir t.t. daugiau negu trenerių/AM sp. specialistų!",IF(P21>O21,"Klaida! Negali būti moterų daugiau nei iš viso AM instruktorių!",IF(Q21+R21+S21+T21>O21,"Klaida! Negali būti išsilavinimų, veiklos leidimų ir t.t. daugiau negu AM instruktorių!",IF(V21>U21,"Klaida! Negali būti moterų daugiau nei iš viso FA specialistų!",IF(W21+X21+Y21>U21,"Klaida! Negali būti išsilavinimų, veiklos leidimų ir t.t. daugiau negu FA specialistų!",IF(AA21>Z21,"Klaida! Negali būti moterų daugiau nei iš viso FA instruktorių!",IF(AB21+AC21+AD21+AE21>Z21,"Klaida! Negali būti išsilavinimų, veiklos leidimų ir t.t. daugiau negu FA instruktorių!","")))))))))
A22: ='SUC1_B. duomenys'!A42 -> 12 | B22: ='SUC1_B. duomenys'!B42 -> Čiuožimas (greitasis) | C22: =L22+M22+N22 -> 0 | E22: =C22-(F22+G22+H22+I22+J22+K22) -> 0 | O22: =Q22+R22+S22+T22 -> 0 | U22: =W22+X22+Y22 -> 0 | Z22: =AB22+AC22+AD22+AE22 -> 0 | AH22: =IF(D22>C22,"Klaida! Negali būti moterų daugiau nei iš viso trenerių/AM sp. specialistų!",IF(F22+G22+H22+I22+J22+K22>C22,"Klaida! Negali būti kategorijų daugiau negu trenerių/AM sp. specialistų!",IF(L22+N22>C22,"Klaida! Negali būti išsilavinimų, veiklos leidimų ir t.t. daugiau negu trenerių/AM sp. specialistų!",IF(P22>O22,"Klaida! Negali būti moterų daugiau nei iš viso AM instruktorių!",IF(Q22+R22+S22+T22>O22,"Klaida! Negali būti išsilavinimų, veiklos leidimų ir t.t. daugiau negu AM instruktorių!",IF(V22>U22,"Klaida! Negali būti moterų daugiau nei iš viso FA specialistų!",IF(W22+X22+Y22>U22,"Klaida! Negali būti išsilavinimų, veiklos leidimų ir t.t. daugiau negu FA specialistų!",IF(AA22>Z22,"Klaida! Negali būti moterų daugiau nei iš viso FA instruktorių!",IF(AB22+AC22+AD22+AE22>Z22,"Klaida! Negali būti išsilavinimų, veiklos leidimų ir t.t. daugiau negu FA instruktorių!","")))))))))
A23: ='SUC1_B. duomenys'!A43 -> 13 | B23: ='SUC1_B. duomenys'!B43 -> Dviračių sportas (plentas) | C23: 3 | D23: 1 | E23: =C23-(F23+G23+H23+I23+J23+K23) -> 0 | H23: 3 | L23: 3 | O23: =Q23+R23+S23+T23 -> 0 | U23: =W23+X23+Y23 -> 0 | Z23: =AB23+AC23+AD23+AE23 -> 0 | AH23: =IF(D23>C23,"Klaida! Negali būti moterų daugiau nei iš viso trenerių/AM sp. specialistų!",IF(F23+G23+H23+I23+J23+K23>C23,"Klaida! Negali būti kategorijų daugiau negu trenerių/AM sp. specialistų!",IF(L23+N23>C23,"Klaida! Negali būti išsilavinimų, veiklos leidimų ir t.t. daugiau negu trenerių/AM sp. specialistų!",IF(P23>O23,"Klaida! Negali būti moterų daugiau nei iš viso AM instruktorių!",IF(Q23+R23+S23+T23>O23,"Klaida! Negali būti išsilavinimų, veiklos leidimų ir t.t. daugiau negu AM instruktorių!",IF(V23>U23,"Klaida! Negali būti moterų daugiau nei iš viso FA specialistų!",IF(W23+X23+Y23>U23,"Klaida! Negali būti išsilavinimų, veiklos leidimų ir t.t. daugiau negu FA specialistų!",IF(AA23>Z23,"Klaida! Negali būti moterų daugiau nei iš viso FA instruktorių!",IF(AB23+AC23+AD23+AE23>Z23,"Klaida! Negali būti išsilavinimų, veiklos leidimų ir t.t. daugiau negu FA instruktorių!","")))))))))
A24: ='SUC1_B. duomenys'!A44 -> 14 | B24: ='SUC1_B. duomenys'!B44 -> Dviračių sportas (trekas) | C24: =L24+M24+N24 -> 0 | E24: =C24-(F24+G24+H24+I24+J24+K24) -> 0 | O24: =Q24+R24+S24+T24 -> 0 | U24: =W24+X24+Y24 -> 0 | Z24: =AB24+AC24+AD24+AE24 -> 0 | AH24: =IF(D24>C24,"Klaida! Negali būti moterų daugiau nei iš viso trenerių/AM sp. specialistų!",IF(F24+G24+H24+I24+J24+K24>C24,"Klaida! Negali būti kategorijų daugiau negu trenerių/AM sp. specialistų!",IF(L24+N24>C24,"Klaida! Negali būti išsilavinimų, veiklos leidimų ir t.t. daugiau negu trenerių/AM sp. specialistų!",IF(P24>O24,"Klaida! Negali būti moterų daugiau nei iš viso AM instruktorių!",IF(Q24+R24+S24+T24>O24,"Klaida! Negali būti išsilavinimų, veiklos leidimų ir t.t. daugiau negu AM instruktorių!",IF(V24>U24,"Klaida! Negali būti moterų daugiau nei iš viso FA specialistų!",IF(W24+X24+Y24>U24,"Klaida! Negali būti išsilavinimų, veiklos leidimų ir t.t. daugiau negu FA specialistų!",IF(AA24>Z24,"Klaida! Negali būti moterų daugiau nei iš viso FA instruktorių!",IF(AB24+AC24+AD24+AE24>Z24,"Klaida! Negali būti išsilavinimų, veiklos leidimų ir t.t. daugiau negu FA instruktorių!","")))))))))
A25: ='SUC1_B. duomenys'!A45 -> 15 | B25: ='SUC1_B. duomenys'!B45 -> Dviračių sportas (kalnų) | C25: =L25+M25+N25 -> 0 | E25: =C25-(F25+G25+H25+I25+J25+K25) -> 0 | O25: =Q25+R25+S25+T25 -> 0 | U25: =W25+X25+Y25 -> 0 | Z25: =AB25+AC25+AD25+AE25 -> 0 | AH25: =IF(D25>C25,"Klaida! Negali būti moterų daugiau nei iš viso trenerių/AM sp. specialistų!",IF(F25+G25+H25+I25+J25+K25>C25,"Klaida! Negali būti kategorijų daugiau negu trenerių/AM sp. specialistų!",IF(L25+N25>C25,"Klaida! Negali būti išsilavinimų, veiklos leidimų ir t.t. daugiau negu trenerių/AM sp. specialistų!",IF(P25>O25,"Klaida! Negali būti moterų daugiau nei iš viso AM instruktorių!",IF(Q25+R25+S25+T25>O25,"Klaida! Negali būti išsilavinimų, veiklos leidimų ir t.t. daugiau negu AM instruktorių!",IF(V25>U25,"Klaida! Negali būti moterų daugiau nei iš viso FA specialistų!",IF(W25+X25+Y25>U25,"Klaida! Negali būti išsilavinimų, veiklos leidimų ir t.t. daugiau negu FA specialistų!",IF(AA25>Z25,"Klaida! Negali būti moterų daugiau nei iš viso FA instruktorių!",IF(AB25+AC25+AD25+AE25>Z25,"Klaida! Negali būti išsilavinimų, veiklos leidimų ir t.t. daugiau negu FA instruktorių!","")))))))))
A26: ='SUC1_B. duomenys'!A46 -> 16 | B26: ='SUC1_B. duomenys'!B46 -> Dviračių sportas (mažųjų dviračių kroso) | C26: =L26+M26+N26 -> 0 | E26: =C26-(F26+G26+H26+I26+J26+K26) -> 0 | O26: =Q26+R26+S26+T26 -> 0 | U26: =W26+X26+Y26 -> 0 | Z26: =AB26+AC26+AD26+AE26 -> 0 | AH26: =IF(D26>C26,"Klaida! Negali būti moterų daugiau nei iš viso trenerių/AM sp. specialistų!",IF(F26+G26+H26+I26+J26+K26>C26,"Klaida! Negali būti kategorijų daugiau negu trenerių/AM sp. specialistų!",IF(L26+N26>C26,"Klaida! Negali būti išsilavinimų, veiklos leidimų ir t.t. daugiau negu trenerių/AM sp. specialistų!",IF(P26>O26,"Klaida! Negali būti moterų daugiau nei iš viso AM instruktorių!",IF(Q26+R26+S26+T26>O26,"Klaida! Negali būti išsilavinimų, veiklos leidimų ir t.t. daugiau negu AM instruktorių!",IF(V26>U26,"Klaida! Negali būti moterų daugiau nei iš viso FA specialistų!",IF(W26+X26+Y26>U26,"Klaida! Negali būti išsilavinimų, veiklos leidimų ir t.t. daugiau negu FA specialistų!",IF(AA26>Z26,"Klaida! Negali būti moterų daugiau nei iš viso FA instruktorių!",IF(AB26+AC26+AD26+AE26>Z26,"Klaida! Negali būti išsilavinimų, veiklos leidimų ir t.t. daugiau negu FA instruktorių!","")))))))))
A27: ='SUC1_B. duomenys'!A47 -> 17 | B27: ='SUC1_B. duomenys'!B47 -> Dziudo | C27: 2 | E27: =C27-(F27+G27+H27+I27+J27+K27) -> 0 | H27: 2 | L27: 2 | O27: =Q27+R27+S27+T27 -> 0 | U27: =W27+X27+Y27 -> 0 | Z27: =AB27+AC27+AD27+AE27 -> 0 | AH27: =IF(D27>C27,"Klaida! Negali būti moterų daugiau nei iš viso trenerių/AM sp. specialistų!",IF(F27+G27+H27+I27+J27+K27>C27,"Klaida! Negali būti kategorijų daugiau negu trenerių/AM sp. specialistų!",IF(L27+N27>C27,"Klaida! Negali būti išsilavinimų, veiklos leidimų ir t.t. daugiau negu trenerių/AM sp. specialistų!",IF(P27>O27,"Klaida! Negali būti moterų daugiau nei iš viso AM instruktorių!",IF(Q27+R27+S27+T27>O27,"Klaida! Negali būti išsilavinimų, veiklos leidimų ir t.t. daugiau negu AM instruktorių!",IF(V27>U27,"Klaida! Negali būti moterų daugiau nei iš viso FA specialistų!",IF(W27+X27+Y27>U27,"Klaida! Negali būti išsilavinimų, veiklos leidimų ir t.t. daugiau negu FA specialistų!",IF(AA27>Z27,"Klaida! Negali būti moterų daugiau nei iš viso FA instruktorių!",IF(AB27+AC27+AD27+AE27>Z27,"Klaida! Negali būti išsilavinimų, veiklos leidimų ir t.t. daugiau negu FA instruktorių!","")))))))))
A28: ='SUC1_B. duomenys'!A48 -> 18 | B28: ='SUC1_B. duomenys'!B48 -> Fechtavimasis | C28: =L28+M28+N28 -> 0 | E28: =C28-(F28+G28+H28+I28+J28+K28) -> 0 | O28: =Q28+R28+S28+T28 -> 0 | U28: =W28+X28+Y28 -> 0 | Z28: =AB28+AC28+AD28+AE28 -> 0 | AH28: =IF(D28>C28,"Klaida! Negali būti moterų daugiau nei iš viso trenerių/AM sp. specialistų!",IF(F28+G28+H28+I28+J28+K28>C28,"Klaida! Negali būti kategorijų daugiau negu trenerių/AM sp. specialistų!",IF(L28+N28>C28,"Klaida! Negali būti išsilavinimų, veiklos leidimų ir t.t. daugiau negu trenerių/AM sp. specialistų!",IF(P28>O28,"Klaida! Negali būti moterų daugiau nei iš viso AM instruktorių!",IF(Q28+R28+S28+T28>O28,"Klaida! Negali būti išsilavinimų, veiklos leidimų ir t.t. daugiau negu AM instruktorių!",IF(V28>U28,"Klaida! Negali būti moterų daugiau nei iš viso FA specialistų!",IF(W28+X28+Y28>U28,"Klaida! Negali būti išsilavinimų, veiklos leidimų ir t.t. daugiau negu FA specialistų!",IF(AA28>Z28,"Klaida! Negali būti moterų daugiau nei iš viso FA instruktorių!",IF(AB28+AC28+AD28+AE28>Z28,"Klaida! Negali būti išsilavinimų, veiklos leidimų ir t.t. daugiau negu FA instruktorių!","")))))))))
A29: ='SUC1_B. duomenys'!A49 -> 19 | B29: ='SUC1_B. duomenys'!B49 -> Futbolas | C29: =L29+M29+N29 -> 0 | E29: =C29-(F29+G29+H29+I29+J29+K29) -> 0 | O29: =Q29+R29+S29+T29 -> 0 | U29: =W29+X29+Y29 -> 0 | Z29: =AB29+AC29+AD29+AE29 -> 0 | AH29: =IF(D29>C29,"Klaida! Negali būti moterų daugiau nei iš viso trenerių/AM sp. specialistų!",IF(F29+G29+H29+I29+J29+K29>C29,"Klaida! Negali būti kategorijų daugiau negu trenerių/AM sp. specialistų!",IF(L29+N29>C29,"Klaida! Negali būti išsilavinimų, veiklos leidimų ir t.t. daugiau negu trenerių/AM sp. specialistų!",IF(P29>O29,"Klaida! Negali būti moterų daugiau nei iš viso AM instruktorių!",IF(Q29+R29+S29+T29>O29,"Klaida! Negali būti išsilavinimų, veiklos leidimų ir t.t. daugiau negu AM instruktorių!",IF(V29>U29,"Klaida! Negali būti moterų daugiau nei iš viso FA specialistų!",IF(W29+X29+Y29>U29,"Klaida! Negali būti išsilavinimų, veiklos leidimų ir t.t. daugiau negu FA specialistų!",IF(AA29>Z29,"Klaida! Negali būti moterų daugiau nei iš viso FA instruktorių!",IF(AB29+AC29+AD29+AE29>Z29,"Klaida! Negali būti išsilavinimų, veiklos leidimų ir t.t. daugiau negu FA instruktorių!","")))))))))
A30: ='SUC1_B. duomenys'!A50 -> 20 | B30: ='SUC1_B. duomenys'!B50 -> Gimnastika (sportinė) | C30: 4 | D30: 3 | E30: =C30-(F30+G30+H30+I30+J30+K30) -> 0 | G30: 4 | L30: 4 | O30: =Q30+R30+S30+T30 -> 0 | U30: =W30+X30+Y30 -> 0 | Z30: =AB30+AC30+AD30+AE30 -> 0 | AH30: =IF(D30>C30,"Klaida! Negali būti moterų daugiau nei iš viso trenerių/AM sp. specialistų!",IF(F30+G30+H30+I30+J30+K30>C30,"Klaida! Negali būti kategorijų daugiau negu trenerių/AM sp. specialistų!",IF(L30+N30>C30,"Klaida! Negali būti išsilavinimų, veiklos leidimų ir t.t. daugiau negu trenerių/AM sp. specialistų!",IF(P30>O30,"Klaida! Negali būti moterų daugiau nei iš viso AM instruktorių!",IF(Q30+R30+S30+T30>O30,"Klaida! Negali būti išsilavinimų, veiklos leidimų ir t.t. daugiau negu AM instruktorių!",IF(V30>U30,"Klaida! Negali būti moterų daugiau nei iš viso FA specialistų!",IF(W30+X30+Y30>U30,"Klaida! Negali būti išsilavinimų, veiklos leidimų ir t.t. daugiau negu FA specialistų!",IF(AA30>Z30,"Klaida! Negali būti moterų daugiau nei iš viso FA instruktorių!",IF(AB30+AC30+AD30+AE30>Z30,"Klaida! Negali būti išsilavinimų, veiklos leidimų ir t.t. daugiau negu FA instruktorių!","")))))))))
A31: ='SUC1_B. duomenys'!A51 -> 21 | B31: ='SUC1_B. duomenys'!B51 -> Gimnastika (meninė) | C31: 11 | D31: 10 | E31: =C31-(F31+G31+H31+I31+J31+K31) -> 0 | G31: 7 | I31: 4 | L31: 11 | O31: =Q31+R31+S31+T31 -> 0 | U31: =W31+X31+Y31 -> 0 | Z31: =AB31+AC31+AD31+AE31 -> 0 | AF31: 5 | AH31: =IF(D31>C31,"Klaida! Negali būti moterų daugiau nei iš viso trenerių/AM sp. specialistų!",IF(F31+G31+H31+I31+J31+K31>C31,"Klaida! Negali būti kategorijų daugiau negu trenerių/AM sp. specialistų!",IF(L31+N31>C31,"Klaida! Negali būti išsilavinimų, veiklos leidimų ir t.t. daugiau negu trenerių/AM sp. specialistų!",IF(P31>O31,"Klaida! Negali būti moterų daugiau nei iš viso AM instruktorių!",IF(Q31+R31+S31+T31>O31,"Klaida! Negali būti išsilavinimų, veiklos leidimų ir t.t. daugiau negu AM instruktorių!",IF(V31>U31,"Klaida! Negali būti moterų daugiau nei iš viso FA specialistų!",IF(W31+X31+Y31>U31,"Klaida! Negali būti išsilavinimų, veiklos leidimų ir t.t. daugiau negu FA specialistų!",IF(AA31>Z31,"Klaida! Negali būti moterų daugiau nei iš viso FA instruktorių!",IF(AB31+AC31+AD31+AE31>Z31,"Klaida! Negali būti išsilavinimų, veiklos leidimų ir t.t. daugiau negu FA instruktorių!","")))))))))
A32: ='SUC1_B. duomenys'!A52 -> 22 | B32: ='SUC1_B. duomenys'!B52 -> Gimnastika (akr. šuoliai ant batuto) | C32: =L32+M32+N32 -> 0 | E32: =C32-(F32+G32+H32+I32+J32+K32) -> 0 | O32: =Q32+R32+S32+T32 -> 0 | U32: =W32+X32+Y32 -> 0 | Z32: =AB32+AC32+AD32+AE32 -> 0 | AH32: =IF(D32>C32,"Klaida! Negali būti moterų daugiau nei iš viso trenerių/AM sp. specialistų!",IF(F32+G32+H32+I32+J32+K32>C32,"Klaida! Negali būti kategorijų daugiau negu trenerių/AM sp. specialistų!",IF(L32+N32>C32,"Klaida! Negali būti išsilavinimų, veiklos leidimų ir t.t. daugiau negu trenerių/AM sp. specialistų!",IF(P32>O32,"Klaida! Negali būti moterų daugiau nei iš viso AM instruktorių!",IF(Q32+R32+S32+T32>O32,"Klaida! Negali būti išsilavinimų, veiklos leidimų ir t.t. daugiau negu AM instruktorių!",IF(V32>U32,"Klaida! Negali būti moterų daugiau nei iš viso FA specialistų!",IF(W32+X32+Y32>U32,"Klaida! Negali būti išsilavinimų, veiklos leidimų ir t.t. daugiau negu FA specialistų!",IF(AA32>Z32,"Klaida! Negali būti moterų daugiau nei iš viso FA instruktorių!",IF(AB32+AC32+AD32+AE32>Z32,"Klaida! Negali būti išsilavinimų, veiklos leidimų ir t.t. daugiau negu FA instruktorių!","")))))))))
A33: ='SUC1_B. duomenys'!A53 -> 23 | B33: ='SUC1_B. duomenys'!B53 -> Golfas | C33: =L33+M33+N33 -> 0 | E33: =C33-(F33+G33+H33+I33+J33+K33) -> 0 | O33: =Q33+R33+S33+T33 -> 0 | U33: =W33+X33+Y33 -> 0 | Z33: =AB33+AC33+AD33+AE33 -> 0 | AH33: =IF(D33>C33,"Klaida! Negali būti moterų daugiau nei iš viso trenerių/AM sp. specialistų!",IF(F33+G33+H33+I33+J33+K33>C33,"Klaida! Negali būti kategorijų daugiau negu trenerių/AM sp. specialistų!",IF(L33+N33>C33,"Klaida! Negali būti išsilavinimų, veiklos leidimų ir t.t. daugiau negu trenerių/AM sp. specialistų!",IF(P33>O33,"Klaida! Negali būti moterų daugiau nei iš viso AM instruktorių!",IF(Q33+R33+S33+T33>O33,"Klaida! Negali būti išsilavinimų, veiklos leidimų ir t.t. daugiau negu AM instruktorių!",IF(V33>U33,"Klaida! Negali būti moterų daugiau nei iš viso FA specialistų!",IF(W33+X33+Y33>U33,"Klaida! Negali būti išsilavinimų, veiklos leidimų ir t.t. daugiau negu FA specialistų!",IF(AA33>Z33,"Klaida! Negali būti moterų daugiau nei iš viso FA instruktorių!",IF(AB33+AC33+AD33+AE33>Z33,"Klaida! Negali būti išsilavinimų, veiklos leidimų ir t.t. daugiau negu FA instruktorių!","")))))))))
A34: ='SUC1_B. duomenys'!A54 -> 24 | B34: ='SUC1_B. duomenys'!B54 -> Imtynės (graikų ir romėnų) | C34: 6 | D34: 1 | E34: =C34-(F34+G34+H34+I34+J34+K34) -> 2 | H34: 3 | K34: 1 | L34: 6 | O34: =Q34+R34+S34+T34 -> 0 | U34: =W34+X34+Y34 -> 0 | Z34: =AB34+AC34+AD34+AE34 -> 0 | AF34: 2 | AH34: =IF(D34>C34,"Klaida! Negali būti moterų daugiau nei iš viso trenerių/AM sp. specialistų!",IF(F34+G34+H34+I34+J34+K34>C34,"Klaida! Negali būti kategorijų daugiau negu trenerių/AM sp. specialistų!",IF(L34+N34>C34,"Klaida! Negali būti išsilavinimų, veiklos leidimų ir t.t. daugiau negu trenerių/AM sp. specialistų!",IF(P34>O34,"Klaida! Negali būti moterų daugiau nei iš viso AM instruktorių!",IF(Q34+R34+S34+T34>O34,"Klaida! Negali būti išsilavinimų, veiklos leidimų ir t.t. daugiau negu AM instruktorių!",IF(V34>U34,"Klaida! Negali būti moterų daugiau nei iš viso FA specialistų!",IF(W34+X34+Y34>U34,"Klaida! Negali būti išsilavinimų, veiklos leidimų ir t.t. daugiau negu FA specialistų!",IF(AA34>Z34,"Klaida! Negali būti moterų daugiau nei iš viso FA instruktorių!",IF(AB34+AC34+AD34+AE34>Z34,"Klaida! Negali būti išsilavinimų, veiklos leidimų ir t.t. daugiau negu FA instruktorių!","")))))))))
A35: ='SUC1_B. duomenys'!A55 -> 25 | B35: ='SUC1_B. duomenys'!B55 -> Imtynės (laisvosios) | C35: 6 | E35: =C35-(F35+G35+H35+I35+J35+K35) -> 2 | G35: 1 | H35: 2 | I35: 1 | L35: 4 | N35: 2 | O35: =Q35+R35+S35+T35 -> 0 | U35: =W35+X35+Y35 -> 0 | Z35: =AB35+AC35+AD35+AE35 -> 0 | AF35: 1 | AH35: =IF(D35>C35,"Klaida! Negali būti moterų daugiau nei iš viso trenerių/AM sp. specialistų!",IF(F35+G35+H35+I35+J35+K35>C35,"Klaida! Negali būti kategorijų daugiau negu trenerių/AM sp. specialistų!",IF(L35+N35>C35,"Klaida! Negali būti išsilavinimų, veiklos leidimų ir t.t. daugiau negu trenerių/AM sp. specialistų!",IF(P35>O35,"Klaida! Negali būti moterų daugiau nei iš viso AM instruktorių!",IF(Q35+R35+S35+T35>O35,"Klaida! Negali būti išsilavinimų, veiklos leidimų ir t.t. daugiau negu AM instruktorių!",IF(V35>U35,"Klaida! Negali būti moterų daugiau nei iš viso FA specialistų!",IF(W35+X35+Y35>U35,"Klaida! Negali būti išsilavinimų, veiklos leidimų ir t.t. daugiau negu FA specialistų!",IF(AA35>Z35,"Klaida! Negali būti moterų daugiau nei iš viso FA instruktorių!",IF(AB35+AC35+AD35+AE35>Z35,"Klaida! Negali būti išsilavinimų, veiklos leidimų ir t.t. daugiau negu FA instruktorių!","")))))))))
A36: ='SUC1_B. duomenys'!A56 -> 26 | B36: ='SUC1_B. duomenys'!B56 -> Imtynės (moterų) | C36: =L36+M36+N36 -> 0 | E36: =C36-(F36+G36+H36+I36+J36+K36) -> 0 | O36: =Q36+R36+S36+T36 -> 0 | U36: =W36+X36+Y36 -> 0 | Z36: =AB36+AC36+AD36+AE36 -> 0 | AH36: =IF(D36>C36,"Klaida! Negali būti moterų daugiau nei iš viso trenerių/AM sp. specialistų!",IF(F36+G36+H36+I36+J36+K36>C36,"Klaida! Negali būti kategorijų daugiau negu trenerių/AM sp. specialistų!",IF(L36+N36>C36,"Klaida! Negali būti išsilavinimų, veiklos leidimų ir t.t. daugiau negu trenerių/AM sp. specialistų!",IF(P36>O36,"Klaida! Negali būti moterų daugiau nei iš viso AM instruktorių!",IF(Q36+R36+S36+T36>O36,"Klaida! Negali būti išsilavinimų, veiklos leidimų ir t.t. daugiau negu AM instruktorių!",IF(V36>U36,"Klaida! Negali būti moterų daugiau nei iš viso FA specialistų!",IF(W36+X36+Y36>U36,"Klaida! Negali būti išsilavinimų, veiklos leidimų ir t.t. daugiau negu FA specialistų!",IF(AA36>Z36,"Klaida! Negali būti moterų daugiau nei iš viso FA instruktorių!",IF(AB36+AC36+AD36+AE36>Z36,"Klaida! Negali būti išsilavinimų, veiklos leidimų ir t.t. daugiau negu FA instruktorių!","")))))))))
A37: ='SUC1_B. duomenys'!A57 -> 27 | B37: ='SUC1_B. duomenys'!B57 -> Irklavimas | C37: =L37+M37+N37 -> 0 | E37: =C37-(F37+G37+H37+I37+J37+K37) -> 0 | O37: =Q37+R37+S37+T37 -> 0 | U37: =W37+X37+Y37 -> 0 | Z37: =AB37+AC37+AD37+AE37 -> 0 | AH37: =IF(D37>C37,"Klaida! Negali būti moterų daugiau nei iš viso trenerių/AM sp. specialistų!",IF(F37+G37+H37+I37+J37+K37>C37,"Klaida! Negali būti kategorijų daugiau negu trenerių/AM sp. specialistų!",IF(L37+N37>C37,"Klaida! Negali būti išsilavinimų, veiklos leidimų ir t.t. daugiau negu trenerių/AM sp. specialistų!",IF(P37>O37,"Klaida! Negali būti moterų daugiau nei iš viso AM instruktorių!",IF(Q37+R37+S37+T37>O37,"Klaida! Negali būti išsilavinimų, veiklos leidimų ir t.t. daugiau negu AM instruktorių!",IF(V37>U37,"Klaida! Negali būti moterų daugiau nei iš viso FA specialistų!",IF(W37+X37+Y37>U37,"Klaida! Negali būti išsilavinimų, veiklos leidimų ir t.t. daugiau negu FA specialistų!",IF(AA37>Z37,"Klaida! Negali būti moterų daugiau nei iš viso FA instruktorių!",IF(AB37+AC37+AD37+AE37>Z37,"Klaida! Negali būti išsilavinimų, veiklos leidimų ir t.t. daugiau negu FA instruktorių!","")))))))))
A38: ='SUC1_B. duomenys'!A58 -> 28 | B38: ='SUC1_B. duomenys'!B58 -> Karatė (WKF) | C38: =L38+M38+N38 -> 0 | E38: =C38-(F38+G38+H38+I38+J38+K38) -> 0 | O38: =Q38+R38+S38+T38 -> 0 | U38: =W38+X38+Y38 -> 0 | Z38: =AB38+AC38+AD38+AE38 -> 0 | AH38: =IF(D38>C38,"Klaida! Negali būti moterų daugiau nei iš viso trenerių/AM sp. specialistų!",IF(F38+G38+H38+I38+J38+K38>C38,"Klaida! Negali būti kategorijų daugiau negu trenerių/AM sp. specialistų!",IF(L38+N38>C38,"Klaida! Negali būti išsilavinimų, veiklos leidimų ir t.t. daugiau negu trenerių/AM sp. specialistų!",IF(P38>O38,"Klaida! Negali būti moterų daugiau nei iš viso AM instruktorių!",IF(Q38+R38+S38+T38>O38,"Klaida! Negali būti išsilavinimų, veiklos leidimų ir t.t. daugiau negu AM instruktorių!",IF(V38>U38,"Klaida! Negali būti moterų daugiau nei iš viso FA specialistų!",IF(W38+X38+Y38>U38,"Klaida! Negali būti išsilavinimų, veiklos leidimų ir t.t. daugiau negu FA specialistų!",IF(AA38>Z38,"Klaida! Negali būti moterų daugiau nei iš viso FA instruktorių!",IF(AB38+AC38+AD38+AE38>Z38,"Klaida! Negali būti išsilavinimų, veiklos leidimų ir t.t. daugiau negu FA instruktorių!","")))))))))
A39: ='SUC1_B. duomenys'!A59 -> 29 | B39: ='SUC1_B. duomenys'!B59 -> Kerlingas (akmenslydis) | C39: =L39+M39+N39 -> 0 | E39: =C39-(F39+G39+H39+I39+J39+K39) -> 0 | O39: =Q39+R39+S39+T39 -> 0 | U39: =W39+X39+Y39 -> 0 | Z39: =AB39+AC39+AD39+AE39 -> 0 | AH39: =IF(D39>C39,"Klaida! Negali būti moterų daugiau nei iš viso trenerių/AM sp. specialistų!",IF(F39+G39+H39+I39+J39+K39>C39,"Klaida! Negali būti kategorijų daugiau negu trenerių/AM sp. specialistų!",IF(L39+N39>C39,"Klaida! Negali būti išsilavinimų, veiklos leidimų ir t.t. daugiau negu trenerių/AM sp. specialistų!",IF(P39>O39,"Klaida! Negali būti moterų daugiau nei iš viso AM instruktorių!",IF(Q39+R39+S39+T39>O39,"Klaida! Negali būti išsilavinimų, veiklos leidimų ir t.t. daugiau negu AM instruktorių!",IF(V39>U39,"Klaida! Negali būti moterų daugiau nei iš viso FA specialistų!",IF(W39+X39+Y39>U39,"Klaida! Negali būti išsilavinimų, veiklos leidimų ir t.t. daugiau negu FA specialistų!",IF(AA39>Z39,"Klaida! Negali būti moterų daugiau nei iš viso FA instruktorių!",IF(AB39+AC39+AD39+AE39>Z39,"Klaida! Negali būti išsilavinimų, veiklos leidimų ir t.t. daugiau negu FA instruktorių!","")))))))))
A40: ='SUC1_B. duomenys'!A60 -> 30 | B40: ='SUC1_B. duomenys'!B60 -> Krepšinis | C40: 21 | D40: 4 | E40: =C40-(F40+G40+H40+I40+J40+K40) -> 8 | F40: 1 | G40: 2 | H40: 3 | I40: 4 | J40: 3 | L40: 16 | N40: 5 | O40: 1 | Q40: 1 | U40: =W40+X40+Y40 -> 0 | Z40: =AB40+AC40+AD40+AE40 -> 0 | AH40: =IF(D40>C40,"Klaida! Negali būti moterų daugiau nei iš viso trenerių/AM sp. specialistų!",IF(F40+G40+H40+I40+J40+K40>C40,"Klaida! Negali būti kategorijų daugiau negu trenerių/AM sp. specialistų!",IF(L40+N40>C40,"Klaida! Negali būti išsilavinimų, veiklos leidimų ir t.t. daugiau negu trenerių/AM sp. specialistų!",IF(P40>O40,"Klaida! Negali būti moterų daugiau nei iš viso AM instruktorių!",IF(Q40+R40+S40+T40>O40,"Klaida! Negali būti išsilavinimų, veiklos leidimų ir t.t. daugiau negu AM instruktorių!",IF(V40>U40,"Klaida! Negali būti moterų daugiau nei iš viso FA specialistų!",IF(W40+X40+Y40>U40,"Klaida! Negali būti išsilavinimų, veiklos leidimų ir t.t. daugiau negu FA specialistų!",IF(AA40>Z40,"Klaida! Negali būti moterų daugiau nei iš viso FA instruktorių!",IF(AB40+AC40+AD40+AE40>Z40,"Klaida! Negali būti išsilavinimų, veiklos leidimų ir t.t. daugiau negu FA instruktorių!","")))))))))
A41: ='SUC1_B. duomenys'!A61 -> 31 | B41: ='SUC1_B. duomenys'!B61 -> Laipiojimo sportas | C41: =L41+M41+N41 -> 0 | E41: =C41-(F41+G41+H41+I41+J41+K41) -> 0 | O41: =Q41+R41+S41+T41 -> 0 | U41: =W41+X41+Y41 -> 0 | Z41: =AB41+AC41+AD41+AE41 -> 0 | AH41: =IF(D41>C41,"Klaida! Negali būti moterų daugiau nei iš viso trenerių/AM sp. specialistų!",IF(F41+G41+H41+I41+J41+K41>C41,"Klaida! Negali būti kategorijų daugiau negu trenerių/AM sp. specialistų!",IF(L41+N41>C41,"Klaida! Negali būti išsilavinimų, veiklos leidimų ir t.t. daugiau negu trenerių/AM sp. specialistų!",IF(P41>O41,"Klaida! Negali būti moterų daugiau nei iš viso AM instruktorių!",IF(Q41+R41+S41+T41>O41,"Klaida! Negali būti išsilavinimų, veiklos leidimų ir t.t. daugiau negu AM instruktorių!",IF(V41>U41,"Klaida! Negali būti moterų daugiau nei iš viso FA specialistų!",IF(W41+X41+Y41>U41,"Klaida! Negali būti išsilavinimų, veiklos leidimų ir t.t. daugiau negu FA specialistų!",IF(AA41>Z41,"Klaida! Negali būti moterų daugiau nei iš viso FA instruktorių!",IF(AB41+AC41+AD41+AE41>Z41,"Klaida! Negali būti išsilavinimų, veiklos leidimų ir t.t. daugiau negu FA instruktorių!","")))))))))
A42: ='SUC1_B. duomenys'!A62 -> 32 | B42: ='SUC1_B. duomenys'!B62 -> Ledo ritulys | C42: =L42+M42+N42 -> 0 | E42: =C42-(F42+G42+H42+I42+J42+K42) -> 0 | O42: =Q42+R42+S42+T42 -> 0 | U42: =W42+X42+Y42 -> 0 | Z42: =AB42+AC42+AD42+AE42 -> 0 | AH42: =IF(D42>C42,"Klaida! Negali būti moterų daugiau nei iš viso trenerių/AM sp. specialistų!",IF(F42+G42+H42+I42+J42+K42>C42,"Klaida! Negali būti kategorijų daugiau negu trenerių/AM sp. specialistų!",IF(L42+N42>C42,"Klaida! Negali būti išsilavinimų, veiklos leidimų ir t.t. daugiau negu trenerių/AM sp. specialistų!",IF(P42>O42,"Klaida! Negali būti moterų daugiau nei iš viso AM instruktorių!",IF(Q42+R42+S42+T42>O42,"Klaida! Negali būti išsilavinimų, veiklos leidimų ir t.t. daugiau negu AM instruktorių!",IF(V42>U42,"Klaida! Negali būti moterų daugiau nei iš viso FA specialistų!",IF(W42+X42+Y42>U42,"Klaida! Negali būti išsilavinimų, veiklos leidimų ir t.t. daugiau negu FA specialistų!",IF(AA42>Z42,"Klaida! Negali būti moterų daugiau nei iš viso FA instruktorių!",IF(AB42+AC42+AD42+AE42>Z42,"Klaida! Negali būti išsilavinimų, veiklos leidimų ir t.t. daugiau negu FA instruktorių!","")))))))))
A43: ='SUC1_B. duomenys'!A63 -> 33 | B43: ='SUC1_B. duomenys'!B63 -> Lengvoji atletika | C43: 18 | D43: 9 | E43: =C43-(F43+G43+H43+I43+J43+K43) -> 0 | F43: 1 | G43: 14 | H43: 2 | I43: 1 | L43: 17 | N43: 1 | O43: =Q43+R43+S43+T43 -> 0 | U43: =W43+X43+Y43 -> 0 | Z43: =AB43+AC43+AD43+AE43 -> 0 | AH43: =IF(D43>C43,"Klaida! Negali būti moterų daugiau nei iš viso trenerių/AM sp. specialistų!",IF(F43+G43+H43+I43+J43+K43>C43,"Klaida! Negali būti kategorijų daugiau negu trenerių/AM sp. specialistų!",IF(L43+N43>C43,"Klaida! Negali būti išsilavinimų, veiklos leidimų ir t.t. daugiau negu trenerių/AM sp. specialistų!",IF(P43>O43,"Klaida! Negali būti moterų daugiau nei iš viso AM instruktorių!",IF(Q43+R43+S43+T43>O43,"Klaida! Negali būti išsilavinimų, veiklos leidimų ir t.t. daugiau negu AM instruktorių!",IF(V43>U43,"Klaida! Negali būti moterų daugiau nei iš viso FA specialistų!",IF(W43+X43+Y43>U43,"Klaida! Negali būti išsilavinimų, veiklos leidimų ir t.t. daugiau negu FA specialistų!",IF(AA43>Z43,"Klaida! Negali būti moterų daugiau nei iš viso FA instruktorių!",IF(AB43+AC43+AD43+AE43>Z43,"Klaida! Negali būti išsilavinimų, veiklos leidimų ir t.t. daugiau negu FA instruktorių!","")))))))))
A44: ='SUC1_B. duomenys'!A64 -> 34 | B44: ='SUC1_B. duomenys'!B64 -> Plaukimas | C44: 16 | D44: 10 | E44: =C44-(F44+G44+H44+I44+J44+K44) -> 6 | H44: 4 | I44: 2 | J44: 4 | L44: 13 | M44: 1 | N44: 2 | O44: =Q44+R44+S44+T44 -> 0 | U44: =W44+X44+Y44 -> 0 | Z44: =AB44+AC44+AD44+AE44 -> 0 | AH44: =IF(D44>C44,"Klaida! Negali būti moterų daugiau nei iš viso trenerių/AM sp. specialistų!",IF(F44+G44+H44+I44+J44+K44>C44,"Klaida! Negali būti kategorijų daugiau negu trenerių/AM sp. specialistų!",IF(L44+N44>C44,"Klaida! Negali būti išsilavinimų, veiklos leidimų ir t.t. daugiau negu trenerių/AM sp. specialistų!",IF(P44>O44,"Klaida! Negali būti moterų daugiau nei iš viso AM instruktorių!",IF(Q44+R44+S44+T44>O44,"Klaida! Negali būti išsilavinimų, veiklos leidimų ir t.t. daugiau negu AM instruktorių!",IF(V44>U44,"Klaida! Negali būti moterų daugiau nei iš viso FA specialistų!",IF(W44+X44+Y44>U44,"Klaida! Negali būti išsilavinimų, veiklos leidimų ir t.t. daugiau negu FA specialistų!",IF(AA44>Z44,"Klaida! Negali būti moterų daugiau nei iš viso FA instruktorių!",IF(AB44+AC44+AD44+AE44>Z44,"Klaida! Negali būti išsilavinimų, veiklos leidimų ir t.t. daugiau negu FA instruktorių!","")))))))))
A45: ='SUC1_B. duomenys'!A65 -> 35 | B45: ='SUC1_B. duomenys'!B65 -> Plaukimas (sinchroninis) | C45: =L45+M45+N45 -> 0 | E45: =C45-(F45+G45+H45+I45+J45+K45) -> 0 | O45: =Q45+R45+S45+T45 -> 0 | U45: =W45+X45+Y45 -> 0 | Z45: =AB45+AC45+AD45+AE45 -> 0 | AH45: =IF(D45>C45,"Klaida! Negali būti moterų daugiau nei iš viso trenerių/AM sp. specialistų!",IF(F45+G45+H45+I45+J45+K45>C45,"Klaida! Negali būti kategorijų daugiau negu trenerių/AM sp. specialistų!",IF(L45+N45>C45,"Klaida! Negali būti išsilavinimų, veiklos leidimų ir t.t. daugiau negu trenerių/AM sp. specialistų!",IF(P45>O45,"Klaida! Negali būti moterų daugiau nei iš viso AM instruktorių!",IF(Q45+R45+S45+T45>O45,"Klaida! Negali būti išsilavinimų, veiklos leidimų ir t.t. daugiau negu AM instruktorių!",IF(V45>U45,"Klaida! Negali būti moterų daugiau nei iš viso FA specialistų!",IF(W45+X45+Y45>U45,"Klaida! Negali būti išsilavinimų, veiklos leidimų ir t.t. daugiau negu FA specialistų!",IF(AA45>Z45,"Klaida! Negali būti moterų daugiau nei iš viso FA instruktorių!",IF(AB45+AC45+AD45+AE45>Z45,"Klaida! Negali būti išsilavinimų, veiklos leidimų ir t.t. daugiau negu FA instruktorių!","")))))))))
A46: ='SUC1_B. duomenys'!A66 -> 36 | B46: ='SUC1_B. duomenys'!B66 -> Plaukimas (šuoliai į vandenį) | C46: =L46+M46+N46 -> 0 | E46: =C46-(F46+G46+H46+I46+J46+K46) -> 0 | O46: =Q46+R46+S46+T46 -> 0 | U46: =W46+X46+Y46 -> 0 | Z46: =AB46+AC46+AD46+AE46 -> 0 | AH46: =IF(D46>C46,"Klaida! Negali būti moterų daugiau nei iš viso trenerių/AM sp. specialistų!",IF(F46+G46+H46+I46+J46+K46>C46,"Klaida! Negali būti kategorijų daugiau negu trenerių/AM sp. specialistų!",IF(L46+N46>C46,"Klaida! Negali būti išsilavinimų, veiklos leidimų ir t.t. daugiau negu trenerių/AM sp. specialistų!",IF(P46>O46,"Klaida! Negali būti moterų daugiau nei iš viso AM instruktorių!",IF(Q46+R46+S46+T46>O46,"Klaida! Negali būti išsilavinimų, veiklos leidimų ir t.t. daugiau negu AM instruktorių!",IF(V46>U46,"Klaida! Negali būti moterų daugiau nei iš viso FA specialistų!",IF(W46+X46+Y46>U46,"Klaida! Negali būti išsilavinimų, veiklos leidimų ir t.t. daugiau negu FA specialistų!",IF(AA46>Z46,"Klaida! Negali būti moterų daugiau nei iš viso FA instruktorių!",IF(AB46+AC46+AD46+AE46>Z46,"Klaida! Negali būti išsilavinimų, veiklos leidimų ir t.t. daugiau negu FA instruktorių!","")))))))))
A47: ='SUC1_B. duomenys'!A67 -> 37 | B47: ='SUC1_B. duomenys'!B67 -> Rankinis | C47: 6 | D47: 5 | E47: =C47-(F47+G47+H47+I47+J47+K47) -> 1 | G47: 2 | H47: 3 | L47: 3 | N47: 3 | O47: =Q47+R47+S47+T47 -> 0 | U47: =W47+X47+Y47 -> 0 | Z47: =AB47+AC47+AD47+AE47 -> 0 | AF47: 18 | AH47: =IF(D47>C47,"Klaida! Negali būti moterų daugiau nei iš viso trenerių/AM sp. specialistų!",IF(F47+G47+H47+I47+J47+K47>C47,"Klaida! Negali būti kategorijų daugiau negu trenerių/AM sp. specialistų!",IF(L47+N47>C47,"Klaida! Negali būti išsilavinimų, veiklos leidimų ir t.t. daugiau negu trenerių/AM sp. specialistų!",IF(P47>O47,"Klaida! Negali būti moterų daugiau nei iš viso AM instruktorių!",IF(Q47+R47+S47+T47>O47,"Klaida! Negali būti išsilavinimų, veiklos leidimų ir t.t. daugiau negu AM instruktorių!",IF(V47>U47,"Klaida! Negali būti moterų daugiau nei iš viso FA specialistų!",IF(W47+X47+Y47>U47,"Klaida! Negali būti išsilavinimų, veiklos leidimų ir t.t. daugiau negu FA specialistų!",IF(AA47>Z47,"Klaida! Negali būti moterų daugiau nei iš viso FA instruktorių!",IF(AB47+AC47+AD47+AE47>Z47,"Klaida! Negali būti išsilavinimų, veiklos leidimų ir t.t. daugiau negu FA instruktorių!","")))))))))
A48: ='SUC1_B. duomenys'!A68 -> 38 | B48: ='SUC1_B. duomenys'!B68 -> Regbis | C48: =L48+M48+N48 -> 0 | E48: =C48-(F48+G48+H48+I48+J48+K48) -> 0 | O48: =Q48+R48+S48+T48 -> 0 | U48: =W48+X48+Y48 -> 0 | Z48: =AB48+AC48+AD48+AE48 -> 0 | AH48: =IF(D48>C48,"Klaida! Negali būti moterų daugiau nei iš viso trenerių/AM sp. specialistų!",IF(F48+G48+H48+I48+J48+K48>C48,"Klaida! Negali būti kategorijų daugiau negu trenerių/AM sp. specialistų!",IF(L48+N48>C48,"Klaida! Negali būti išsilavinimų, veiklos leidimų ir t.t. daugiau negu trenerių/AM sp. specialistų!",IF(P48>O48,"Klaida! Negali būti moterų daugiau nei iš viso AM instruktorių!",IF(Q48+R48+S48+T48>O48,"Klaida! Negali būti išsilavinimų, veiklos leidimų ir t.t. daugiau negu AM instruktorių!",IF(V48>U48,"Klaida! Negali būti moterų daugiau nei iš viso FA specialistų!",IF(W48+X48+Y48>U48,"Klaida! Negali būti išsilavinimų, veiklos leidimų ir t.t. daugiau negu FA specialistų!",IF(AA48>Z48,"Klaida! Negali būti moterų daugiau nei iš viso FA instruktorių!",IF(AB48+AC48+AD48+AE48>Z48,"Klaida! Negali būti išsilavinimų, veiklos leidimų ir t.t. daugiau negu FA instruktorių!","")))))))))
A49: ='SUC1_B. duomenys'!A69 -> 39 | B49: ='SUC1_B. duomenys'!B69 -> Riedlenčių sportas | C49: =L49+M49+N49 -> 0 | E49: =C49-(F49+G49+H49+I49+J49+K49) -> 0 | O49: =Q49+R49+S49+T49 -> 0 | U49: =W49+X49+Y49 -> 0 | Z49: =AB49+AC49+AD49+AE49 -> 0 | AH49: =IF(D49>C49,"Klaida! Negali būti moterų daugiau nei iš viso trenerių/AM sp. specialistų!",IF(F49+G49+H49+I49+J49+K49>C49,"Klaida! Negali būti kategorijų daugiau negu trenerių/AM sp. specialistų!",IF(L49+N49>C49,"Klaida! Negali būti išsilavinimų, veiklos leidimų ir t.t. daugiau negu trenerių/AM sp. specialistų!",IF(P49>O49,"Klaida! Negali būti moterų daugiau nei iš viso AM instruktorių!",IF(Q49+R49+S49+T49>O49,"Klaida! Negali būti išsilavinimų, veiklos leidimų ir t.t. daugiau negu AM instruktorių!",IF(V49>U49,"Klaida! Negali būti moterų daugiau nei iš viso FA specialistų!",IF(W49+X49+Y49>U49,"Klaida! Negali būti išsilavinimų, veiklos leidimų ir t.t. daugiau negu FA specialistų!",IF(AA49>Z49,"Klaida! Negali būti moterų daugiau nei iš viso FA instruktorių!",IF(AB49+AC49+AD49+AE49>Z49,"Klaida! Negali būti išsilavinimų, veiklos leidimų ir t.t. daugiau negu FA instruktorių!","")))))))))
A50: ='SUC1_B. duomenys'!A70 -> 40 | B50: ='SUC1_B. duomenys'!B70 -> Rogučių sportas | C50: =L50+M50+N50 -> 0 | E50: =C50-(F50+G50+H50+I50+J50+K50) -> 0 | O50: =Q50+R50+S50+T50 -> 0 | U50: =W50+X50+Y50 -> 0 | Z50: =AB50+AC50+AD50+AE50 -> 0 | AH50: =IF(D50>C50,"Klaida! Negali būti moterų daugiau nei iš viso trenerių/AM sp. specialistų!",IF(F50+G50+H50+I50+J50+K50>C50,"Klaida! Negali būti kategorijų daugiau negu trenerių/AM sp. specialistų!",IF(L50+N50>C50,"Klaida! Negali būti išsilavinimų, veiklos leidimų ir t.t. daugiau negu trenerių/AM sp. specialistų!",IF(P50>O50,"Klaida! Negali būti moterų daugiau nei iš viso AM instruktorių!",IF(Q50+R50+S50+T50>O50,"Klaida! Negali būti išsilavinimų, veiklos leidimų ir t.t. daugiau negu AM instruktorių!",IF(V50>U50,"Klaida! Negali būti moterų daugiau nei iš viso FA specialistų!",IF(W50+X50+Y50>U50,"Klaida! Negali būti išsilavinimų, veiklos leidimų ir t.t. daugiau negu FA specialistų!",IF(AA50>Z50,"Klaida! Negali būti moterų daugiau nei iš viso FA instruktorių!",IF(AB50+AC50+AD50+AE50>Z50,"Klaida! Negali būti išsilavinimų, veiklos leidimų ir t.t. daugiau negu FA instruktorių!","")))))))))
A51: ='SUC1_B. duomenys'!A71 -> 41 | B51: ='SUC1_B. duomenys'!B71 -> Skeletonas | C51: =L51+M51+N51 -> 0 | E51: =C51-(F51+G51+H51+I51+J51+K51) -> 0 | O51: =Q51+R51+S51+T51 -> 0 | U51: =W51+X51+Y51 -> 0 | Z51: =AB51+AC51+AD51+AE51 -> 0 | AH51: =IF(D51>C51,"Klaida! Negali būti moterų daugiau nei iš viso trenerių/AM sp. specialistų!",IF(F51+G51+H51+I51+J51+K51>C51,"Klaida! Negali būti kategorijų daugiau negu trenerių/AM sp. specialistų!",IF(L51+N51>C51,"Klaida! Negali būti išsilavinimų, veiklos leidimų ir t.t. daugiau negu trenerių/AM sp. specialistų!",IF(P51>O51,"Klaida! Negali būti moterų daugiau nei iš viso AM instruktorių!",IF(Q51+R51+S51+T51>O51,"Klaida! Negali būti išsilavinimų, veiklos leidimų ir t.t. daugiau negu AM instruktorių!",IF(V51>U51,"Klaida! Negali būti moterų daugiau nei iš viso FA specialistų!",IF(W51+X51+Y51>U51,"Klaida! Negali būti išsilavinimų, veiklos leidimų ir t.t. daugiau negu FA specialistų!",IF(AA51>Z51,"Klaida! Negali būti moterų daugiau nei iš viso FA instruktorių!",IF(AB51+AC51+AD51+AE51>Z51,"Klaida! Negali būti išsilavinimų, veiklos leidimų ir t.t. daugiau negu FA instruktorių!","")))))))))
A52: ='SUC1_B. duomenys'!A72 -> 42 | B52: ='SUC1_B. duomenys'!B72 -> Slidinėjimas (lygumų) | C52: =L52+M52+N52 -> 0 | E52: =C52-(F52+G52+H52+I52+J52+K52) -> 0 | O52: =Q52+R52+S52+T52 -> 0 | U52: =W52+X52+Y52 -> 0 | Z52: =AB52+AC52+AD52+AE52 -> 0 | AH52: =IF(D52>C52,"Klaida! Negali būti moterų daugiau nei iš viso trenerių/AM sp. specialistų!",IF(F52+G52+H52+I52+J52+K52>C52,"Klaida! Negali būti kategorijų daugiau negu trenerių/AM sp. specialistų!",IF(L52+N52>C52,"Klaida! Negali būti išsilavinimų, veiklos leidimų ir t.t. daugiau negu trenerių/AM sp. specialistų!",IF(P52>O52,"Klaida! Negali būti moterų daugiau nei iš viso AM instruktorių!",IF(Q52+R52+S52+T52>O52,"Klaida! Negali būti išsilavinimų, veiklos leidimų ir t.t. daugiau negu AM instruktorių!",IF(V52>U52,"Klaida! Negali būti moterų daugiau nei iš viso FA specialistų!",IF(W52+X52+Y52>U52,"Klaida! Negali būti išsilavinimų, veiklos leidimų ir t.t. daugiau negu FA specialistų!",IF(AA52>Z52,"Klaida! Negali būti moterų daugiau nei iš viso FA instruktorių!",IF(AB52+AC52+AD52+AE52>Z52,"Klaida! Negali būti išsilavinimų, veiklos leidimų ir t.t. daugiau negu FA instruktorių!","")))))))))
A53: ='SUC1_B. duomenys'!A73 -> 43 | B53: ='SUC1_B. duomenys'!B73 -> Slidinėjimas (kalnų) | C53: =L53+M53+N53 -> 0 | E53: =C53-(F53+G53+H53+I53+J53+K53) -> 0 | O53: =Q53+R53+S53+T53 -> 0 | U53: =W53+X53+Y53 -> 0 | Z53: =AB53+AC53+AD53+AE53 -> 0 | AH53: =IF(D53>C53,"Klaida! Negali būti moterų daugiau nei iš viso trenerių/AM sp. specialistų!",IF(F53+G53+H53+I53+J53+K53>C53,"Klaida! Negali būti kategorijų daugiau negu trenerių/AM sp. specialistų!",IF(L53+N53>C53,"Klaida! Negali būti išsilavinimų, veiklos leidimų ir t.t. daugiau negu trenerių/AM sp. specialistų!",IF(P53>O53,"Klaida! Negali būti moterų daugiau nei iš viso AM instruktorių!",IF(Q53+R53+S53+T53>O53,"Klaida! Negali būti išsilavinimų, veiklos leidimų ir t.t. daugiau negu AM instruktorių!",IF(V53>U53,"Klaida! Negali būti moterų daugiau nei iš viso FA specialistų!",IF(W53+X53+Y53>U53,"Klaida! Negali būti išsilavinimų, veiklos leidimų ir t.t. daugiau negu FA specialistų!",IF(AA53>Z53,"Klaida! Negali būti moterų daugiau nei iš viso FA instruktorių!",IF(AB53+AC53+AD53+AE53>Z53,"Klaida! Negali būti išsilavinimų, veiklos leidimų ir t.t. daugiau negu FA instruktorių!","")))))))))
A54: ='SUC1_B. duomenys'!A74 -> 44 | B54: ='SUC1_B. duomenys'!B74 -> Slidinėjimas (snieglenčių) | C54: =L54+M54+N54 -> 0 | E54: =C54-(F54+G54+H54+I54+J54+K54) -> 0 | O54: =Q54+R54+S54+T54 -> 0 | U54: =W54+X54+Y54 -> 0 | Z54: =AB54+AC54+AD54+AE54 -> 0 | AH54: =IF(D54>C54,"Klaida! Negali būti moterų daugiau nei iš viso trenerių/AM sp. specialistų!",IF(F54+G54+H54+I54+J54+K54>C54,"Klaida! Negali būti kategorijų daugiau negu trenerių/AM sp. specialistų!",IF(L54+N54>C54,"Klaida! Negali būti išsilavinimų, veiklos leidimų ir t.t. daugiau negu trenerių/AM sp. specialistų!",IF(P54>O54,"Klaida! Negali būti moterų daugiau nei iš viso AM instruktorių!",IF(Q54+R54+S54+T54>O54,"Klaida! Negali būti išsilavinimų, veiklos leidimų ir t.t. daugiau negu AM instruktorių!",IF(V54>U54,"Klaida! Negali būti moterų daugiau nei iš viso FA specialistų!",IF(W54+X54+Y54>U54,"Klaida! Negali būti išsilavinimų, veiklos leidimų ir t.t. daugiau negu FA specialistų!",IF(AA54>Z54,"Klaida! Negali būti moterų daugiau nei iš viso FA instruktorių!",IF(AB54+AC54+AD54+AE54>Z54,"Klaida! Negali būti išsilavinimų, veiklos leidimų ir t.t. daugiau negu FA instruktorių!","")))))))))
A55: ='SUC1_B. duomenys'!A75 -> 45 | B55: ='SUC1_B. duomenys'!B75 -> Stalo tenisas | C55: =L55+M55+N55 -> 0 | E55: =C55-(F55+G55+H55+I55+J55+K55) -> 0 | O55: =Q55+R55+S55+T55 -> 0 | U55: =W55+X55+Y55 -> 0 | Z55: =AB55+AC55+AD55+AE55 -> 0 | AH55: =IF(D55>C55,"Klaida! Negali būti moterų daugiau nei iš viso trenerių/AM sp. specialistų!",IF(F55+G55+H55+I55+J55+K55>C55,"Klaida! Negali būti kategorijų daugiau negu trenerių/AM sp. specialistų!",IF(L55+N55>C55,"Klaida! Negali būti išsilavinimų, veiklos leidimų ir t.t. daugiau negu trenerių/AM sp. specialistų!",IF(P55>O55,"Klaida! Negali būti moterų daugiau nei iš viso AM instruktorių!",IF(Q55+R55+S55+T55>O55,"Klaida! Negali būti išsilavinimų, veiklos leidimų ir t.t. daugiau negu AM instruktorių!",IF(V55>U55,"Klaida! Negali būti moterų daugiau nei iš viso FA specialistų!",IF(W55+X55+Y55>U55,"Klaida! Negali būti išsilavinimų, veiklos leidimų ir t.t. daugiau negu FA specialistų!",IF(AA55>Z55,"Klaida! Negali būti moterų daugiau nei iš viso FA instruktorių!",IF(AB55+AC55+AD55+AE55>Z55,"Klaida! Negali būti išsilavinimų, veiklos leidimų ir t.t. daugiau negu FA instruktorių!","")))))))))
A56: ='SUC1_B. duomenys'!A76 -> 46 | B56: ='SUC1_B. duomenys'!B76 -> Sunkioji atletika | C56: 5 | E56: =C56-(F56+G56+H56+I56+J56+K56) -> 0 | H56: 1 | I56: 3 | J56: 1 | L56: 5 | O56: =Q56+R56+S56+T56 -> 0 | U56: =W56+X56+Y56 -> 0 | Z56: =AB56+AC56+AD56+AE56 -> 0 | AF56: 1 | AH56: =IF(D56>C56,"Klaida! Negali būti moterų daugiau nei iš viso trenerių/AM sp. specialistų!",IF(F56+G56+H56+I56+J56+K56>C56,"Klaida! Negali būti kategorijų daugiau negu trenerių/AM sp. specialistų!",IF(L56+N56>C56,"Klaida! Negali būti išsilavinimų, veiklos leidimų ir t.t. daugiau negu trenerių/AM sp. specialistų!",IF(P56>O56,"Klaida! Negali būti moterų daugiau nei iš viso AM instruktorių!",IF(Q56+R56+S56+T56>O56,"Klaida! Negali būti išsilavinimų, veiklos leidimų ir t.t. daugiau negu AM instruktorių!",IF(V56>U56,"Klaida! Negali būti moterų daugiau nei iš viso FA specialistų!",IF(W56+X56+Y56>U56,"Klaida! Negali būti išsilavinimų, veiklos leidimų ir t.t. daugiau negu FA specialistų!",IF(AA56>Z56,"Klaida! Negali būti moterų daugiau nei iš viso FA instruktorių!",IF(AB56+AC56+AD56+AE56>Z56,"Klaida! Negali būti išsilavinimų, veiklos leidimų ir t.t. daugiau negu FA instruktorių!","")))))))))
A57: ='SUC1_B. duomenys'!A77 -> 47 | B57: ='SUC1_B. duomenys'!B77 -> Šaudymas iš lanko | C57: =L57+M57+N57 -> 0 | E57: =C57-(F57+G57+H57+I57+J57+K57) -> 0 | O57: =Q57+R57+S57+T57 -> 0 | U57: =W57+X57+Y57 -> 0 | Z57: =AB57+AC57+AD57+AE57 -> 0 | AH57: =IF(D57>C57,"Klaida! Negali būti moterų daugiau nei iš viso trenerių/AM sp. specialistų!",IF(F57+G57+H57+I57+J57+K57>C57,"Klaida! Negali būti kategorijų daugiau negu trenerių/AM sp. specialistų!",IF(L57+N57>C57,"Klaida! Negali būti išsilavinimų, veiklos leidimų ir t.t. daugiau negu trenerių/AM sp. specialistų!",IF(P57>O57,"Klaida! Negali būti moterų daugiau nei iš viso AM instruktorių!",IF(Q57+R57+S57+T57>O57,"Klaida! Negali būti išsilavinimų, veiklos leidimų ir t.t. daugiau negu AM instruktorių!",IF(V57>U57,"Klaida! Negali būti moterų daugiau nei iš viso FA specialistų!",IF(W57+X57+Y57>U57,"Klaida! Negali būti išsilavinimų, veiklos leidimų ir t.t. daugiau negu FA specialistų!",IF(AA57>Z57,"Klaida! Negali būti moterų daugiau nei iš viso FA instruktorių!",IF(AB57+AC57+AD57+AE57>Z57,"Klaida! Negali būti išsilavinimų, veiklos leidimų ir t.t. daugiau negu FA instruktorių!","")))))))))
A58: ='SUC1_B. duomenys'!A78 -> 48 | B58: ='SUC1_B. duomenys'!B78 -> Šaudymo sportas | C58: =L58+M58+N58 -> 0 | E58: =C58-(F58+G58+H58+I58+J58+K58) -> 0 | O58: =Q58+R58+S58+T58 -> 0 | U58: =W58+X58+Y58 -> 0 | Z58: =AB58+AC58+AD58+AE58 -> 0 | AH58: =IF(D58>C58,"Klaida! Negali būti moterų daugiau nei iš viso trenerių/AM sp. specialistų!",IF(F58+G58+H58+I58+J58+K58>C58,"Klaida! Negali būti kategorijų daugiau negu trenerių/AM sp. specialistų!",IF(L58+N58>C58,"Klaida! Negali būti išsilavinimų, veiklos leidimų ir t.t. daugiau negu trenerių/AM sp. specialistų!",IF(P58>O58,"Klaida! Negali būti moterų daugiau nei iš viso AM instruktorių!",IF(Q58+R58+S58+T58>O58,"Klaida! Negali būti išsilavinimų, veiklos leidimų ir t.t. daugiau negu AM instruktorių!",IF(V58>U58,"Klaida! Negali būti moterų daugiau nei iš viso FA specialistų!",IF(W58+X58+Y58>U58,"Klaida! Negali būti išsilavinimų, veiklos leidimų ir t.t. daugiau negu FA specialistų!",IF(AA58>Z58,"Klaida! Negali būti moterų daugiau nei iš viso FA instruktorių!",IF(AB58+AC58+AD58+AE58>Z58,"Klaida! Negali būti išsilavinimų, veiklos leidimų ir t.t. daugiau negu FA instruktorių!","")))))))))
A59: ='SUC1_B. duomenys'!A79 -> 49 | B59: ='SUC1_B. duomenys'!B79 -> Šiuolaikinė penkiakovė | C59: =L59+M59+N59 -> 0 | E59: =C59-(F59+G59+H59+I59+J59+K59) -> 0 | O59: =Q59+R59+S59+T59 -> 0 | U59: =W59+X59+Y59 -> 0 | Z59: =AB59+AC59+AD59+AE59 -> 0 | AH59: =IF(D59>C59,"Klaida! Negali būti moterų daugiau nei iš viso trenerių/AM sp. specialistų!",IF(F59+G59+H59+I59+J59+K59>C59,"Klaida! Negali būti kategorijų daugiau negu trenerių/AM sp. specialistų!",IF(L59+N59>C59,"Klaida! Negali būti išsilavinimų, veiklos leidimų ir t.t. daugiau negu trenerių/AM sp. specialistų!",IF(P59>O59,"Klaida! Negali būti moterų daugiau nei iš viso AM instruktorių!",IF(Q59+R59+S59+T59>O59,"Klaida! Negali būti išsilavinimų, veiklos leidimų ir t.t. daugiau negu AM instruktorių!",IF(V59>U59,"Klaida! Negali būti moterų daugiau nei iš viso FA specialistų!",IF(W59+X59+Y59>U59,"Klaida! Negali būti išsilavinimų, veiklos leidimų ir t.t. daugiau negu FA specialistų!",IF(AA59>Z59,"Klaida! Negali būti moterų daugiau nei iš viso FA instruktorių!",IF(AB59+AC59+AD59+AE59>Z59,"Klaida! Negali būti išsilavinimų, veiklos leidimų ir t.t. daugiau negu FA instruktorių!","")))))))))
A60: ='SUC1_B. duomenys'!A80 -> 50 | B60: ='SUC1_B. duomenys'!B80 -> Tekvondo (WTF) | C60: 1 | E60: =C60-(F60+G60+H60+I60+J60+K60) -> 0 | H60: 1 | L60: 1 | O60: =Q60+R60+S60+T60 -> 0 | U60: =W60+X60+Y60 -> 0 | Z60: =AB60+AC60+AD60+AE60 -> 0 | AH60: =IF(D60>C60,"Klaida! Negali būti moterų daugiau nei iš viso trenerių/AM sp. specialistų!",IF(F60+G60+H60+I60+J60+K60>C60,"Klaida! Negali būti kategorijų daugiau negu trenerių/AM sp. specialistų!",IF(L60+N60>C60,"Klaida! Negali būti išsilavinimų, veiklos leidimų ir t.t. daugiau negu trenerių/AM sp. specialistų!",IF(P60>O60,"Klaida! Negali būti moterų daugiau nei iš viso AM instruktorių!",IF(Q60+R60+S60+T60>O60,"Klaida! Negali būti išsilavinimų, veiklos leidimų ir t.t. daugiau negu AM instruktorių!",IF(V60>U60,"Klaida! Negali būti moterų daugiau nei iš viso FA specialistų!",IF(W60+X60+Y60>U60,"Klaida! Negali būti išsilavinimų, veiklos leidimų ir t.t. daugiau negu FA specialistų!",IF(AA60>Z60,"Klaida! Negali būti moterų daugiau nei iš viso FA instruktorių!",IF(AB60+AC60+AD60+AE60>Z60,"Klaida! Negali būti išsilavinimų, veiklos leidimų ir t.t. daugiau negu FA instruktorių!","")))))))))
A61: ='SUC1_B. duomenys'!A81 -> 51 | B61: ='SUC1_B. duomenys'!B81 -> Tenisas | C61: =L61+M61+N61 -> 0 | E61: =C61-(F61+G61+H61+I61+J61+K61) -> 0 | O61: =Q61+R61+S61+T61 -> 0 | U61: =W61+X61+Y61 -> 0 | Z61: =AB61+AC61+AD61+AE61 -> 0 | AH61: =IF(D61>C61,"Klaida! Negali būti moterų daugiau nei iš viso trenerių/AM sp. specialistų!",IF(F61+G61+H61+I61+J61+K61>C61,"Klaida! Negali būti kategorijų daugiau negu trenerių/AM sp. specialistų!",IF(L61+N61>C61,"Klaida! Negali būti išsilavinimų, veiklos leidimų ir t.t. daugiau negu trenerių/AM sp. specialistų!",IF(P61>O61,"Klaida! Negali būti moterų daugiau nei iš viso AM instruktorių!",IF(Q61+R61+S61+T61>O61,"Klaida! Negali būti išsilavinimų, veiklos leidimų ir t.t. daugiau negu AM instruktorių!",IF(V61>U61,"Klaida! Negali būti moterų daugiau nei iš viso FA specialistų!",IF(W61+X61+Y61>U61,"Klaida! Negali būti išsilavinimų, veiklos leidimų ir t.t. daugiau negu FA specialistų!",IF(AA61>Z61,"Klaida! Negali būti moterų daugiau nei iš viso FA instruktorių!",IF(AB61+AC61+AD61+AE61>Z61,"Klaida! Negali būti išsilavinimų, veiklos leidimų ir t.t. daugiau negu FA instruktorių!","")))))))))
A62: ='SUC1_B. duomenys'!A82 -> 52 | B62: ='SUC1_B. duomenys'!B82 -> Tinklinis | C62: 4 | D62: 2 | E62: =C62-(F62+G62+H62+I62+J62+K62) -> 4 | L62: 3 | N62: 1 | O62: =Q62+R62+S62+T62 -> 0 | U62: =W62+X62+Y62 -> 0 | Z62: =AB62+AC62+AD62+AE62 -> 0 | AF62: 24 | AH62: =IF(D62>C62,"Klaida! Negali būti moterų daugiau nei iš viso trenerių/AM sp. specialistų!",IF(F62+G62+H62+I62+J62+K62>C62,"Klaida! Negali būti kategorijų daugiau negu trenerių/AM sp. specialistų!",IF(L62+N62>C62,"Klaida! Negali būti išsilavinimų, veiklos leidimų ir t.t. daugiau negu trenerių/AM sp. specialistų!",IF(P62>O62,"Klaida! Negali būti moterų daugiau nei iš viso AM instruktorių!",IF(Q62+R62+S62+T62>O62,"Klaida! Negali būti išsilavinimų, veiklos leidimų ir t.t. daugiau negu AM instruktorių!",IF(V62>U62,"Klaida! Negali būti moterų daugiau nei iš viso FA specialistų!",IF(W62+X62+Y62>U62,"Klaida! Negali būti išsilavinimų, veiklos leidimų ir t.t. daugiau negu FA specialistų!",IF(AA62>Z62,"Klaida! Negali būti moterų daugiau nei iš viso FA instruktorių!",IF(AB62+AC62+AD62+AE62>Z62,"Klaida! Negali būti išsilavinimų, veiklos leidimų ir t.t. daugiau negu FA instruktorių!","")))))))))
A63: ='SUC1_B. duomenys'!A83 -> 53 | B63: ='SUC1_B. duomenys'!B83 -> Triatlonas | C63: =L63+M63+N63 -> 0 | E63: =C63-(F63+G63+H63+I63+J63+K63) -> 0 | O63: =Q63+R63+S63+T63 -> 0 | U63: =W63+X63+Y63 -> 0 | Z63: =AB63+AC63+AD63+AE63 -> 0 | AH63: =IF(D63>C63,"Klaida! Negali būti moterų daugiau nei iš viso trenerių/AM sp. specialistų!",IF(F63+G63+H63+I63+J63+K63>C63,"Klaida! Negali būti kategorijų daugiau negu trenerių/AM sp. specialistų!",IF(L63+N63>C63,"Klaida! Negali būti išsilavinimų, veiklos leidimų ir t.t. daugiau negu trenerių/AM sp. specialistų!",IF(P63>O63,"Klaida! Negali būti moterų daugiau nei iš viso AM instruktorių!",IF(Q63+R63+S63+T63>O63,"Klaida! Negali būti išsilavinimų, veiklos leidimų ir t.t. daugiau negu AM instruktorių!",IF(V63>U63,"Klaida! Negali būti moterų daugiau nei iš viso FA specialistų!",IF(W63+X63+Y63>U63,"Klaida! Negali būti išsilavinimų, veiklos leidimų ir t.t. daugiau negu FA specialistų!",IF(AA63>Z63,"Klaida! Negali būti moterų daugiau nei iš viso FA instruktorių!",IF(AB63+AC63+AD63+AE63>Z63,"Klaida! Negali būti išsilavinimų, veiklos leidimų ir t.t. daugiau negu FA instruktorių!","")))))))))
A64: ='SUC1_B. duomenys'!A84 -> 54 | B64: ='SUC1_B. duomenys'!B84 -> Vandensvydis | C64: =L64+M64+N64 -> 0 | E64: =C64-(F64+G64+H64+I64+J64+K64) -> 0 | O64: =Q64+R64+S64+T64 -> 0 | U64: =W64+X64+Y64 -> 0 | Z64: =AB64+AC64+AD64+AE64 -> 0 | AH64: =IF(D64>C64,"Klaida! Negali būti moterų daugiau nei iš viso trenerių/AM sp. specialistų!",IF(F64+G64+H64+I64+J64+K64>C64,"Klaida! Negali būti kategorijų daugiau negu trenerių/AM sp. specialistų!",IF(L64+N64>C64,"Klaida! Negali būti išsilavinimų, veiklos leidimų ir t.t. daugiau negu trenerių/AM sp. specialistų!",IF(P64>O64,"Klaida! Negali būti moterų daugiau nei iš viso AM instruktorių!",IF(Q64+R64+S64+T64>O64,"Klaida! Negali būti išsilavinimų, veiklos leidimų ir t.t. daugiau negu AM instruktorių!",IF(V64>U64,"Klaida! Negali būti moterų daugiau nei iš viso FA specialistų!",IF(W64+X64+Y64>U64,"Klaida! Negali būti išsilavinimų, veiklos leidimų ir t.t. daugiau negu FA specialistų!",IF(AA64>Z64,"Klaida! Negali būti moterų daugiau nei iš viso FA instruktorių!",IF(AB64+AC64+AD64+AE64>Z64,"Klaida! Negali būti išsilavinimų, veiklos leidimų ir t.t. daugiau negu FA instruktorių!","")))))))))
A65: ='SUC1_B. duomenys'!A85 -> 55 | B65: ='SUC1_B. duomenys'!B85 -> Žirgų sportas | C65: =L65+M65+N65 -> 0 | E65: =C65-(F65+G65+H65+I65+J65+K65) -> 0 | O65: =Q65+R65+S65+T65 -> 0 | U65: =W65+X65+Y65 -> 0 | Z65: =AB65+AC65+AD65+AE65 -> 0 | AH65: =IF(D65>C65,"Klaida! Negali būti moterų daugiau nei iš viso trenerių/AM sp. specialistų!",IF(F65+G65+H65+I65+J65+K65>C65,"Klaida! Negali būti kategorijų daugiau negu trenerių/AM sp. specialistų!",IF(L65+N65>C65,"Klaida! Negali būti išsilavinimų, veiklos leidimų ir t.t. daugiau negu trenerių/AM sp. specialistų!",IF(P65>O65,"Klaida! Negali būti moterų daugiau nei iš viso AM instruktorių!",IF(Q65+R65+S65+T65>O65,"Klaida! Negali būti išsilavinimų, veiklos leidimų ir t.t. daugiau negu AM instruktorių!",IF(V65>U65,"Klaida! Negali būti moterų daugiau nei iš viso FA specialistų!",IF(W65+X65+Y65>U65,"Klaida! Negali būti išsilavinimų, veiklos leidimų ir t.t. daugiau negu FA specialistų!",IF(AA65>Z65,"Klaida! Negali būti moterų daugiau nei iš viso FA instruktorių!",IF(AB65+AC65+AD65+AE65>Z65,"Klaida! Negali būti išsilavinimų, veiklos leidimų ir t.t. daugiau negu FA instruktorių!","")))))))))
A66: ='SUC1_B. duomenys'!A86 -> 56 | B66: ='SUC1_B. duomenys'!B86 -> Žolės riedulys | C66: =L66+M66+N66 -> 0 | E66: =C66-(F66+G66+H66+I66+J66+K66) -> 0 | O66: =Q66+R66+S66+T66 -> 0 | U66: =W66+X66+Y66 -> 0 | Z66: =AB66+AC66+AD66+AE66 -> 0 | AH66: =IF(D66>C66,"Klaida! Negali būti moterų daugiau nei iš viso trenerių/AM sp. specialistų!",IF(F66+G66+H66+I66+J66+K66>C66,"Klaida! Negali būti kategorijų daugiau negu trenerių/AM sp. specialistų!",IF(L66+N66>C66,"Klaida! Negali būti išsilavinimų, veiklos leidimų ir t.t. daugiau negu trenerių/AM sp. specialistų!",IF(P66>O66,"Klaida! Negali būti moterų daugiau nei iš viso AM instruktorių!",IF(Q66+R66+S66+T66>O66,"Klaida! Negali būti išsilavinimų, veiklos leidimų ir t.t. daugiau negu AM instruktorių!",IF(V66>U66,"Klaida! Negali būti moterų daugiau nei iš viso FA specialistų!",IF(W66+X66+Y66>U66,"Klaida! Negali būti išsilavinimų, veiklos leidimų ir t.t. daugiau negu FA specialistų!",IF(AA66>Z66,"Klaida! Negali būti moterų daugiau nei iš viso FA instruktorių!",IF(AB66+AC66+AD66+AE66>Z66,"Klaida! Negali būti išsilavinimų, veiklos leidimų ir t.t. daugiau negu FA instruktorių!","")))))))))
B67: Iš viso: | C67: =SUM(C11:C66) -> 108 | D67: =SUM(D11:D66) -> 45 | E67: =SUM(E11:E66) -> 23 | F67: =SUM(F11:F66) -> 2 | G67: =SUM(G11:G66) -> 32 | H67: =SUM(H11:H66) -> 26 | I67: =SUM(I11:I66) -> 15 | J67: =SUM(J11:J66) -> 8 | ... AF67: =SUM(AF11:AF66) -> 51
B68: Iš jų:
A69: ='SUC1_B. duomenys'!A89 -> 1 | B69: Sporto padalinio SUC | C69: 108 | D69: 45 | E69: =C69-(F69+G69+H69+I69+J69+K69) -> 23 | F69: 2 | G69: 32 | H69: 26 | I69: 15 | J69: 8 | K69: 2 | L69: 93 | M69: 1 | N69: 14 | O69: 1 | Q69: 1 | U69: =W69+X69+Y69 -> 0 | Z69: =AB69+AC69+AD69+AE69 -> 0 | AF69: 51 | AH69: =IF(D69>C69,"Klaida! Negali būti moterų daugiau nei iš viso trenerių/AM sp. specialistų!",IF(F69+G69+H69+I69+J69+K69>C69,"Klaida! Negali būti kategorijų daugiau negu trenerių/AM sp. specialistų!",IF(L69+N69>C69,"Klaida! Negali būti išsilavinimų, veiklos leidimų ir t.t. daugiau negu trenerių/AM sp. specialistų!",IF(P69>O69,"Klaida! Negali būti moterų daugiau nei iš viso AM instruktorių!",IF(Q69+R69+S69+T69>O69,"Klaida! Negali būti išsilavinimų, veiklos leidimų ir t.t. daugiau negu AM instruktorių!",IF(V69>U69,"Klaida! Negali būti moterų daugiau nei iš viso FA specialistų!",IF(W69+X69+Y69>U69,"Klaida! Negali būti išsilavinimų, veiklos leidimų ir t.t. daugiau negu FA specialistų!",IF(AA69>Z69,"Klaida! Negali būti moterų daugiau nei iš viso FA instruktorių!",IF(AB69+AC69+AD69+AE69>Z69,"Klaida! Negali būti išsilavinimų, veiklos leidimų ir t.t. daugiau negu FA instruktorių!","")))))))))
A70: ='SUC1_B. duomenys'!A90 -> 2 | B70: Švietimo padalinio SUC | C70: =L70+M70+N70 -> 0 | E70: =C70-(F70+G70+H70+I70+J70+K70) -> 0 | O70: =Q70+R70+S70+T70 -> 0 | U70: =W70+X70+Y70 -> 0 | Z70: =AB70+AC70+AD70+AE70 -> 0 | AH70: =IF(D70>C70,"Klaida! Negali būti moterų daugiau nei iš viso trenerių/AM sp. specialistų!",IF(F70+G70+H70+I70+J70+K70>C70,"Klaida! Negali būti kategorijų daugiau negu trenerių/AM sp. specialistų!",IF(L70+N70>C70,"Klaida! Negali būti išsilavinimų, veiklos leidimų ir t.t. daugiau negu trenerių/AM sp. specialistų!",IF(P70>O70,"Klaida! Negali būti moterų daugiau nei iš viso AM instruktorių!",IF(Q70+R70+S70+T70>O70,"Klaida! Negali būti išsilavinimų, veiklos leidimų ir t.t. daugiau negu AM instruktorių!",IF(V70>U70,"Klaida! Negali būti moterų daugiau nei iš viso FA specialistų!",IF(W70+X70+Y70>U70,"Klaida! Negali būti išsilavinimų, veiklos leidimų ir t.t. daugiau negu FA specialistų!",IF(AA70>Z70,"Klaida! Negali būti moterų daugiau nei iš viso FA instruktorių!",IF(AB70+AC70+AD70+AE70>Z70,"Klaida! Negali būti išsilavinimų, veiklos leidimų ir t.t. daugiau negu FA instruktorių!","")))))))))
A71: ='SUC1_B. duomenys'!A91 -> 3 | B71: Privačių asmenų SUC | C71: =L71+M71+N71 -> 0 | E71: =C71-(F71+G71+H71+I71+J71+K71) -> 0 | O71: =Q71+R71+S71+T71 -> 0 | U71: =W71+X71+Y71 -> 0 | Z71: =AB71+AC71+AD71+AE71 -> 0 | AH71: =IF(D71>C71,"Klaida! Negali būti moterų daugiau nei iš viso trenerių/AM sp. specialistų!",IF(F71+G71+H71+I71+J71+K71>C71,"Klaida! Negali būti kategorijų daugiau negu trenerių/AM sp. specialistų!",IF(L71+N71>C71,"Klaida! Negali būti išsilavinimų, veiklos leidimų ir t.t. daugiau negu trenerių/AM sp. specialistų!",IF(P71>O71,"Klaida! Negali būti moterų daugiau nei iš viso AM instruktorių!",IF(Q71+R71+S71+T71>O71,"Klaida! Negali būti išsilavinimų, veiklos leidimų ir t.t. daugiau negu AM instruktorių!",IF(V71>U71,"Klaida! Negali būti moterų daugiau nei iš viso FA specialistų!",IF(W71+X71+Y71>U71,"Klaida! Negali būti išsilavinimų, veiklos leidimų ir t.t. daugiau negu FA specialistų!",IF(AA71>Z71,"Klaida! Negali būti moterų daugiau nei iš viso FA instruktorių!",IF(AB71+AC71+AD71+AE71>Z71,"Klaida! Negali būti išsilavinimų, veiklos leidimų ir t.t. daugiau negu FA instruktorių!","")))))))))
A72: Iš viso: | C72: =SUM(C69:C71) -> 108 | D72: =SUM(D69:D71) -> 45 | E72: =SUM(E69:E71) -> 23 | F72: =SUM(F69:F71) -> 2 | G72: =SUM(G69:G71) -> 32 | H72: =SUM(H69:H71) -> 26 | I72: =SUM(I69:I71) -> 15 | J72: =SUM(J69:J71) -> 8 | ... AF72: =SUM(AF69:AF71) -> 51
B73: Kitos sporto šakos
A74: ='SUC1_B. duomenys'!A94 -> 1 | B74: Alpinizmas | C74: =L74+M74+N74 -> 0 | E74: =C74-(F74+G74+H74+I74+J74+K74) -> 0 | O74: =Q74+R74+S74+T74 -> 0 | U74: =W74+X74+Y74 -> 0 | Z74: =AB74+AC74+AD74+AE74 -> 0 | AH74: =IF(D74>C74,"Klaida! Negali būti moterų daugiau nei iš viso trenerių/AM sp. specialistų!",IF(F74+G74+H74+I74+J74+K74>C74,"Klaida! Negali būti kategorijų daugiau negu trenerių/AM sp. specialistų!",IF(L74+N74>C74,"Klaida! Negali būti išsilavinimų, veiklos leidimų ir t.t. daugiau negu trenerių/AM sp. specialistų!",IF(P74>O74,"Klaida! Negali būti moterų daugiau nei iš viso AM instruktorių!",IF(Q74+R74+S74+T74>O74,"Klaida! Negali būti išsilavinimų, veiklos leidimų ir t.t. daugiau negu AM instruktorių!",IF(V74>U74,"Klaida! Negali būti moterų daugiau nei iš viso FA specialistų!",IF(W74+X74+Y74>U74,"Klaida! Negali būti išsilavinimų, veiklos leidimų ir t.t. daugiau negu FA specialistų!",IF(AA74>Z74,"Klaida! Negali būti moterų daugiau nei iš viso FA instruktorių!",IF(AB74+AC74+AD74+AE74>Z74,"Klaida! Negali būti išsilavinimų, veiklos leidimų ir t.t. daugiau negu FA instruktorių!","")))))))))
A75: ='SUC1_B. duomenys'!A95 -> 2 | B75: Baidarių (kanu) polo | C75: =L75+M75+N75 -> 0 | E75: =C75-(F75+G75+H75+I75+J75+K75) -> 0 | O75: =Q75+R75+S75+T75 -> 0 | U75: =W75+X75+Y75 -> 0 | Z75: =AB75+AC75+AD75+AE75 -> 0 | AH75: =IF(D75>C75,"Klaida! Negali būti moterų daugiau nei iš viso trenerių/AM sp. specialistų!",IF(F75+G75+H75+I75+J75+K75>C75,"Klaida! Negali būti kategorijų daugiau negu trenerių/AM sp. specialistų!",IF(L75+N75>C75,"Klaida! Negali būti išsilavinimų, veiklos leidimų ir t.t. daugiau negu trenerių/AM sp. specialistų!",IF(P75>O75,"Klaida! Negali būti moterų daugiau nei iš viso AM instruktorių!",IF(Q75+R75+S75+T75>O75,"Klaida! Negali būti išsilavinimų, veiklos leidimų ir t.t. daugiau negu AM instruktorių!",IF(V75>U75,"Klaida! Negali būti moterų daugiau nei iš viso FA specialistų!",IF(W75+X75+Y75>U75,"Klaida! Negali būti išsilavinimų, veiklos leidimų ir t.t. daugiau negu FA specialistų!",IF(AA75>Z75,"Klaida! Negali būti moterų daugiau nei iš viso FA instruktorių!",IF(AB75+AC75+AD75+AE75>Z75,"Klaida! Negali būti išsilavinimų, veiklos leidimų ir t.t. daugiau negu FA instruktorių!","")))))))))
A76: ='SUC1_B. duomenys'!A96 -> 3 | B76: Boulingas | C76: =L76+M76+N76 -> 0 | E76: =C76-(F76+G76+H76+I76+J76+K76) -> 0 | O76: =Q76+R76+S76+T76 -> 0 | U76: =W76+X76+Y76 -> 0 | Z76: =AB76+AC76+AD76+AE76 -> 0 | AH76: =IF(D76>C76,"Klaida! Negali būti moterų daugiau nei iš viso trenerių/AM sp. specialistų!",IF(F76+G76+H76+I76+J76+K76>C76,"Klaida! Negali būti kategorijų daugiau negu trenerių/AM sp. specialistų!",IF(L76+N76>C76,"Klaida! Negali būti išsilavinimų, veiklos leidimų ir t.t. daugiau negu trenerių/AM sp. specialistų!",IF(P76>O76,"Klaida! Negali būti moterų daugiau nei iš viso AM instruktorių!",IF(Q76+R76+S76+T76>O76,"Klaida! Negali būti išsilavinimų, veiklos leidimų ir t.t. daugiau negu AM instruktorių!",IF(V76>U76,"Klaida! Negali būti moterų daugiau nei iš viso FA specialistų!",IF(W76+X76+Y76>U76,"Klaida! Negali būti išsilavinimų, veiklos leidimų ir t.t. daugiau negu FA specialistų!",IF(AA76>Z76,"Klaida! Negali būti moterų daugiau nei iš viso FA instruktorių!",IF(AB76+AC76+AD76+AE76>Z76,"Klaida! Negali būti išsilavinimų, veiklos leidimų ir t.t. daugiau negu FA instruktorių!","")))))))))
A77: ='SUC1_B. duomenys'!A97 -> 4 | B77: Biliardas | C77: =L77+M77+N77 -> 0 | E77: =C77-(F77+G77+H77+I77+J77+K77) -> 0 | O77: =Q77+R77+S77+T77 -> 0 | U77: =W77+X77+Y77 -> 0 | Z77: =AB77+AC77+AD77+AE77 -> 0 | AH77: =IF(D77>C77,"Klaida! Negali būti moterų daugiau nei iš viso trenerių/AM sp. specialistų!",IF(F77+G77+H77+I77+J77+K77>C77,"Klaida! Negali būti kategorijų daugiau negu trenerių/AM sp. specialistų!",IF(L77+N77>C77,"Klaida! Negali būti išsilavinimų, veiklos leidimų ir t.t. daugiau negu trenerių/AM sp. specialistų!",IF(P77>O77,"Klaida! Negali būti moterų daugiau nei iš viso AM instruktorių!",IF(Q77+R77+S77+T77>O77,"Klaida! Negali būti išsilavinimų, veiklos leidimų ir t.t. daugiau negu AM instruktorių!",IF(V77>U77,"Klaida! Negali būti moterų daugiau nei iš viso FA specialistų!",IF(W77+X77+Y77>U77,"Klaida! Negali būti išsilavinimų, veiklos leidimų ir t.t. daugiau negu FA specialistų!",IF(AA77>Z77,"Klaida! Negali būti moterų daugiau nei iš viso FA instruktorių!",IF(AB77+AC77+AD77+AE77>Z77,"Klaida! Negali būti išsilavinimų, veiklos leidimų ir t.t. daugiau negu FA instruktorių!","")))))))))
A78: ='SUC1_B. duomenys'!A98 -> 5 | B78: Bočia | C78: =L78+M78+N78 -> 0 | E78: =C78-(F78+G78+H78+I78+J78+K78) -> 0 | O78: =Q78+R78+S78+T78 -> 0 | U78: =W78+X78+Y78 -> 0 | Z78: =AB78+AC78+AD78+AE78 -> 0 | AH78: =IF(D78>C78,"Klaida! Negali būti moterų daugiau nei iš viso trenerių/AM sp. specialistų!",IF(F78+G78+H78+I78+J78+K78>C78,"Klaida! Negali būti kategorijų daugiau negu trenerių/AM sp. specialistų!",IF(L78+N78>C78,"Klaida! Negali būti išsilavinimų, veiklos leidimų ir t.t. daugiau negu trenerių/AM sp. specialistų!",IF(P78>O78,"Klaida! Negali būti moterų daugiau nei iš viso AM instruktorių!",IF(Q78+R78+S78+T78>O78,"Klaida! Negali būti išsilavinimų, veiklos leidimų ir t.t. daugiau negu AM instruktorių!",IF(V78>U78,"Klaida! Negali būti moterų daugiau nei iš viso FA specialistų!",IF(W78+X78+Y78>U78,"Klaida! Negali būti išsilavinimų, veiklos leidimų ir t.t. daugiau negu FA specialistų!",IF(AA78>Z78,"Klaida! Negali būti moterų daugiau nei iš viso FA instruktorių!",IF(AB78+AC78+AD78+AE78>Z78,"Klaida! Negali būti išsilavinimų, veiklos leidimų ir t.t. daugiau negu FA instruktorių!","")))))))))
A79: ='SUC1_B. duomenys'!A99 -> 6 | B79: Džiudžitsu (ju-jitsu) | C79: =L79+M79+N79 -> 0 | E79: =C79-(F79+G79+H79+I79+J79+K79) -> 0 | O79: =Q79+R79+S79+T79 -> 0 | U79: =W79+X79+Y79 -> 0 | Z79: =AB79+AC79+AD79+AE79 -> 0 | AH79: =IF(D79>C79,"Klaida! Negali būti moterų daugiau nei iš viso trenerių/AM sp. specialistų!",IF(F79+G79+H79+I79+J79+K79>C79,"Klaida! Negali būti kategorijų daugiau negu trenerių/AM sp. specialistų!",IF(L79+N79>C79,"Klaida! Negali būti išsilavinimų, veiklos leidimų ir t.t. daugiau negu trenerių/AM sp. specialistų!",IF(P79>O79,"Klaida! Negali būti moterų daugiau nei iš viso AM instruktorių!",IF(Q79+R79+S79+T79>O79,"Klaida! Negali būti išsilavinimų, veiklos leidimų ir t.t. daugiau negu AM instruktorių!",IF(V79>U79,"Klaida! Negali būti moterų daugiau nei iš viso FA specialistų!",IF(W79+X79+Y79>U79,"Klaida! Negali būti išsilavinimų, veiklos leidimų ir t.t. daugiau negu FA specialistų!",IF(AA79>Z79,"Klaida! Negali būti moterų daugiau nei iš viso FA instruktorių!",IF(AB79+AC79+AD79+AE79>Z79,"Klaida! Negali būti išsilavinimų, veiklos leidimų ir t.t. daugiau negu FA instruktorių!","")))))))))
A80: ='SUC1_B. duomenys'!A100 -> 7 | B80: Funkcinis sportas | C80: =L80+M80+N80 -> 0 | E80: =C80-(F80+G80+H80+I80+J80+K80) -> 0 | O80: =Q80+R80+S80+T80 -> 0 | U80: =W80+X80+Y80 -> 0 | Z80: =AB80+AC80+AD80+AE80 -> 0 | AH80: =IF(D80>C80,"Klaida! Negali būti moterų daugiau nei iš viso trenerių/AM sp. specialistų!",IF(F80+G80+H80+I80+J80+K80>C80,"Klaida! Negali būti kategorijų daugiau negu trenerių/AM sp. specialistų!",IF(L80+N80>C80,"Klaida! Negali būti išsilavinimų, veiklos leidimų ir t.t. daugiau negu trenerių/AM sp. specialistų!",IF(P80>O80,"Klaida! Negali būti moterų daugiau nei iš viso AM instruktorių!",IF(Q80+R80+S80+T80>O80,"Klaida! Negali būti išsilavinimų, veiklos leidimų ir t.t. daugiau negu AM instruktorių!",IF(V80>U80,"Klaida! Negali būti moterų daugiau nei iš viso FA specialistų!",IF(W80+X80+Y80>U80,"Klaida! Negali būti išsilavinimų, veiklos leidimų ir t.t. daugiau negu FA specialistų!",IF(AA80>Z80,"Klaida! Negali būti moterų daugiau nei iš viso FA instruktorių!",IF(AB80+AC80+AD80+AE80>Z80,"Klaida! Negali būti išsilavinimų, veiklos leidimų ir t.t. daugiau negu FA instruktorių!","")))))))))
A81: ='SUC1_B. duomenys'!A101 -> 8 | B81: Galiūnų sportas | C81: =L81+M81+N81 -> 0 | E81: =C81-(F81+G81+H81+I81+J81+K81) -> 0 | O81: =Q81+R81+S81+T81 -> 0 | U81: =W81+X81+Y81 -> 0 | Z81: =AB81+AC81+AD81+AE81 -> 0 | AH81: =IF(D81>C81,"Klaida! Negali būti moterų daugiau nei iš viso trenerių/AM sp. specialistų!",IF(F81+G81+H81+I81+J81+K81>C81,"Klaida! Negali būti kategorijų daugiau negu trenerių/AM sp. specialistų!",IF(L81+N81>C81,"Klaida! Negali būti išsilavinimų, veiklos leidimų ir t.t. daugiau negu trenerių/AM sp. specialistų!",IF(P81>O81,"Klaida! Negali būti moterų daugiau nei iš viso AM instruktorių!",IF(Q81+R81+S81+T81>O81,"Klaida! Negali būti išsilavinimų, veiklos leidimų ir t.t. daugiau negu AM instruktorių!",IF(V81>U81,"Klaida! Negali būti moterų daugiau nei iš viso FA specialistų!",IF(W81+X81+Y81>U81,"Klaida! Negali būti išsilavinimų, veiklos leidimų ir t.t. daugiau negu FA specialistų!",IF(AA81>Z81,"Klaida! Negali būti moterų daugiau nei iš viso FA instruktorių!",IF(AB81+AC81+AD81+AE81>Z81,"Klaida! Negali būti išsilavinimų, veiklos leidimų ir t.t. daugiau negu FA instruktorių!","")))))))))
A82: ='SUC1_B. duomenys'!A102 -> 9 | B82: Gimnastika (aerobinė) | C82: 4 | D82: 3 | E82: =C82-(F82+G82+H82+I82+J82+K82) -> 1 | F82: 1 | G82: 2 | L82: 3 | N82: 1 | O82: =Q82+R82+S82+T82 -> 0 | U82: =W82+X82+Y82 -> 0 | Z82: =AB82+AC82+AD82+AE82 -> 0 | AF82: 1 | AH82: =IF(D82>C82,"Klaida! Negali būti moterų daugiau nei iš viso trenerių/AM sp. specialistų!",IF(F82+G82+H82+I82+J82+K82>C82,"Klaida! Negali būti kategorijų daugiau negu trenerių/AM sp. specialistų!",IF(L82+N82>C82,"Klaida! Negali būti išsilavinimų, veiklos leidimų ir t.t. daugiau negu trenerių/AM sp. specialistų!",IF(P82>O82,"Klaida! Negali būti moterų daugiau nei iš viso AM instruktorių!",IF(Q82+R82+S82+T82>O82,"Klaida! Negali būti išsilavinimų, veiklos leidimų ir t.t. daugiau negu AM instruktorių!",IF(V82>U82,"Klaida! Negali būti moterų daugiau nei iš viso FA specialistų!",IF(W82+X82+Y82>U82,"Klaida! Negali būti išsilavinimų, veiklos leidimų ir t.t. daugiau negu FA specialistų!",IF(AA82>Z82,"Klaida! Negali būti moterų daugiau nei iš viso FA instruktorių!",IF(AB82+AC82+AD82+AE82>Z82,"Klaida! Negali būti išsilavinimų, veiklos leidimų ir t.t. daugiau negu FA instruktorių!","")))))))))
A83: ='SUC1_B. duomenys'!A103 -> 10 | B83: Gimnastika (akr.i šuoliai ant takelio) | C83: =L83+M83+N83 -> 0 | E83: =C83-(F83+G83+H83+I83+J83+K83) -> 0 | O83: =Q83+R83+S83+T83 -> 0 | U83: =W83+X83+Y83 -> 0 | Z83: =AB83+AC83+AD83+AE83 -> 0 | AH83: =IF(D83>C83,"Klaida! Negali būti moterų daugiau nei iš viso trenerių/AM sp. specialistų!",IF(F83+G83+H83+I83+J83+K83>C83,"Klaida! Negali būti kategorijų daugiau negu trenerių/AM sp. specialistų!",IF(L83+N83>C83,"Klaida! Negali būti išsilavinimų, veiklos leidimų ir t.t. daugiau negu trenerių/AM sp. specialistų!",IF(P83>O83,"Klaida! Negali būti moterų daugiau nei iš viso AM instruktorių!",IF(Q83+R83+S83+T83>O83,"Klaida! Negali būti išsilavinimų, veiklos leidimų ir t.t. daugiau negu AM instruktorių!",IF(V83>U83,"Klaida! Negali būti moterų daugiau nei iš viso FA specialistų!",IF(W83+X83+Y83>U83,"Klaida! Negali būti išsilavinimų, veiklos leidimų ir t.t. daugiau negu FA specialistų!",IF(AA83>Z83,"Klaida! Negali būti moterų daugiau nei iš viso FA instruktorių!",IF(AB83+AC83+AD83+AE83>Z83,"Klaida! Negali būti išsilavinimų, veiklos leidimų ir t.t. daugiau negu FA instruktorių!","")))))))))
A84: ='SUC1_B. duomenys'!A104 -> 11 | B84: Gimnastika (sportinė akrobatika) | C84: =L84+M84+N84 -> 0 | E84: =C84-(F84+G84+H84+I84+J84+K84) -> 0 | O84: =Q84+R84+S84+T84 -> 0 | U84: =W84+X84+Y84 -> 0 | Z84: =AB84+AC84+AD84+AE84 -> 0 | AH84: =IF(D84>C84,"Klaida! Negali būti moterų daugiau nei iš viso trenerių/AM sp. specialistų!",IF(F84+G84+H84+I84+J84+K84>C84,"Klaida! Negali būti kategorijų daugiau negu trenerių/AM sp. specialistų!",IF(L84+N84>C84,"Klaida! Negali būti išsilavinimų, veiklos leidimų ir t.t. daugiau negu trenerių/AM sp. specialistų!",IF(P84>O84,"Klaida! Negali būti moterų daugiau nei iš viso AM instruktorių!",IF(Q84+R84+S84+T84>O84,"Klaida! Negali būti išsilavinimų, veiklos leidimų ir t.t. daugiau negu AM instruktorių!",IF(V84>U84,"Klaida! Negali būti moterų daugiau nei iš viso FA specialistų!",IF(W84+X84+Y84>U84,"Klaida! Negali būti išsilavinimų, veiklos leidimų ir t.t. daugiau negu FA specialistų!",IF(AA84>Z84,"Klaida! Negali būti moterų daugiau nei iš viso FA instruktorių!",IF(AB84+AC84+AD84+AE84>Z84,"Klaida! Negali būti išsilavinimų, veiklos leidimų ir t.t. daugiau negu FA instruktorių!","")))))))))
A85: ='SUC1_B. duomenys'!A105 -> 12 | B85: Gimnastika visiems | C85: =L85+M85+N85 -> 0 | E85: =C85-(F85+G85+H85+I85+J85+K85) -> 0 | O85: =Q85+R85+S85+T85 -> 0 | U85: =W85+X85+Y85 -> 0 | Z85: =AB85+AC85+AD85+AE85 -> 0 | AH85: =IF(D85>C85,"Klaida! Negali būti moterų daugiau nei iš viso trenerių/AM sp. specialistų!",IF(F85+G85+H85+I85+J85+K85>C85,"Klaida! Negali būti kategorijų daugiau negu trenerių/AM sp. specialistų!",IF(L85+N85>C85,"Klaida! Negali būti išsilavinimų, veiklos leidimų ir t.t. daugiau negu trenerių/AM sp. specialistų!",IF(P85>O85,"Klaida! Negali būti moterų daugiau nei iš viso AM instruktorių!",IF(Q85+R85+S85+T85>O85,"Klaida! Negali būti išsilavinimų, veiklos leidimų ir t.t. daugiau negu AM instruktorių!",IF(V85>U85,"Klaida! Negali būti moterų daugiau nei iš viso FA specialistų!",IF(W85+X85+Y85>U85,"Klaida! Negali būti išsilavinimų, veiklos leidimų ir t.t. daugiau negu FA specialistų!",IF(AA85>Z85,"Klaida! Negali būti moterų daugiau nei iš viso FA instruktorių!",IF(AB85+AC85+AD85+AE85>Z85,"Klaida! Negali būti išsilavinimų, veiklos leidimų ir t.t. daugiau negu FA instruktorių!","")))))))))
A86: ='SUC1_B. duomenys'!A106 -> 13 | B86: Imtynės už diržų (Alyšo imtynės) | C86: =L86+M86+N86 -> 0 | E86: =C86-(F86+G86+H86+I86+J86+K86) -> 0 | O86: =Q86+R86+S86+T86 -> 0 | U86: =W86+X86+Y86 -> 0 | Z86: =AB86+AC86+AD86+AE86 -> 0 | AH86: =IF(D86>C86,"Klaida! Negali būti moterų daugiau nei iš viso trenerių/AM sp. specialistų!",IF(F86+G86+H86+I86+J86+K86>C86,"Klaida! Negali būti kategorijų daugiau negu trenerių/AM sp. specialistų!",IF(L86+N86>C86,"Klaida! Negali būti išsilavinimų, veiklos leidimų ir t.t. daugiau negu trenerių/AM sp. specialistų!",IF(P86>O86,"Klaida! Negali būti moterų daugiau nei iš viso AM instruktorių!",IF(Q86+R86+S86+T86>O86,"Klaida! Negali būti išsilavinimų, veiklos leidimų ir t.t. daugiau negu AM instruktorių!",IF(V86>U86,"Klaida! Negali būti moterų daugiau nei iš viso FA specialistų!",IF(W86+X86+Y86>U86,"Klaida! Negali būti išsilavinimų, veiklos leidimų ir t.t. daugiau negu FA specialistų!",IF(AA86>Z86,"Klaida! Negali būti moterų daugiau nei iš viso FA instruktorių!",IF(AB86+AC86+AD86+AE86>Z86,"Klaida! Negali būti išsilavinimų, veiklos leidimų ir t.t. daugiau negu FA instruktorių!","")))))))))
A87: ='SUC1_B. duomenys'!A107 -> 14 | B87: Jėgos trikovė | C87: =L87+M87+N87 -> 0 | E87: =C87-(F87+G87+H87+I87+J87+K87) -> 0 | O87: =Q87+R87+S87+T87 -> 0 | U87: =W87+X87+Y87 -> 0 | Z87: =AB87+AC87+AD87+AE87 -> 0 | AH87: =IF(D87>C87,"Klaida! Negali būti moterų daugiau nei iš viso trenerių/AM sp. specialistų!",IF(F87+G87+H87+I87+J87+K87>C87,"Klaida! Negali būti kategorijų daugiau negu trenerių/AM sp. specialistų!",IF(L87+N87>C87,"Klaida! Negali būti išsilavinimų, veiklos leidimų ir t.t. daugiau negu trenerių/AM sp. specialistų!",IF(P87>O87,"Klaida! Negali būti moterų daugiau nei iš viso AM instruktorių!",IF(Q87+R87+S87+T87>O87,"Klaida! Negali būti išsilavinimų, veiklos leidimų ir t.t. daugiau negu AM instruktorių!",IF(V87>U87,"Klaida! Negali būti moterų daugiau nei iš viso FA specialistų!",IF(W87+X87+Y87>U87,"Klaida! Negali būti išsilavinimų, veiklos leidimų ir t.t. daugiau negu FA specialistų!",IF(AA87>Z87,"Klaida! Negali būti moterų daugiau nei iš viso FA instruktorių!",IF(AB87+AC87+AD87+AE87>Z87,"Klaida! Negali būti išsilavinimų, veiklos leidimų ir t.t. daugiau negu FA instruktorių!","")))))))))
A88: ='SUC1_B. duomenys'!A108 -> 15 | B88: Kendo | C88: =L88+M88+N88 -> 0 | E88: =C88-(F88+G88+H88+I88+J88+K88) -> 0 | O88: =Q88+R88+S88+T88 -> 0 | U88: =W88+X88+Y88 -> 0 | Z88: =AB88+AC88+AD88+AE88 -> 0 | AH88: =IF(D88>C88,"Klaida! Negali būti moterų daugiau nei iš viso trenerių/AM sp. specialistų!",IF(F88+G88+H88+I88+J88+K88>C88,"Klaida! Negali būti kategorijų daugiau negu trenerių/AM sp. specialistų!",IF(L88+N88>C88,"Klaida! Negali būti išsilavinimų, veiklos leidimų ir t.t. daugiau negu trenerių/AM sp. specialistų!",IF(P88>O88,"Klaida! Negali būti moterų daugiau nei iš viso AM instruktorių!",IF(Q88+R88+S88+T88>O88,"Klaida! Negali būti išsilavinimų, veiklos leidimų ir t.t. daugiau negu AM instruktorių!",IF(V88>U88,"Klaida! Negali būti moterų daugiau nei iš viso FA specialistų!",IF(W88+X88+Y88>U88,"Klaida! Negali būti išsilavinimų, veiklos leidimų ir t.t. daugiau negu FA specialistų!",IF(AA88>Z88,"Klaida! Negali būti moterų daugiau nei iš viso FA instruktorių!",IF(AB88+AC88+AD88+AE88>Z88,"Klaida! Negali būti išsilavinimų, veiklos leidimų ir t.t. daugiau negu FA instruktorių!","")))))))))
A89: ='SUC1_B. duomenys'!A109 -> 16 | B89: Kikboksas | C89: =L89+M89+N89 -> 0 | E89: =C89-(F89+G89+H89+I89+J89+K89) -> 0 | O89: =Q89+R89+S89+T89 -> 0 | U89: =W89+X89+Y89 -> 0 | Z89: =AB89+AC89+AD89+AE89 -> 0 | AH89: =IF(D89>C89,"Klaida! Negali būti moterų daugiau nei iš viso trenerių/AM sp. specialistų!",IF(F89+G89+H89+I89+J89+K89>C89,"Klaida! Negali būti kategorijų daugiau negu trenerių/AM sp. specialistų!",IF(L89+N89>C89,"Klaida! Negali būti išsilavinimų, veiklos leidimų ir t.t. daugiau negu trenerių/AM sp. specialistų!",IF(P89>O89,"Klaida! Negali būti moterų daugiau nei iš viso AM instruktorių!",IF(Q89+R89+S89+T89>O89,"Klaida! Negali būti išsilavinimų, veiklos leidimų ir t.t. daugiau negu AM instruktorių!",IF(V89>U89,"Klaida! Negali būti moterų daugiau nei iš viso FA specialistų!",IF(W89+X89+Y89>U89,"Klaida! Negali būti išsilavinimų, veiklos leidimų ir t.t. daugiau negu FA specialistų!",IF(AA89>Z89,"Klaida! Negali būti moterų daugiau nei iš viso FA instruktorių!",IF(AB89+AC89+AD89+AE89>Z89,"Klaida! Negali būti išsilavinimų, veiklos leidimų ir t.t. daugiau negu FA instruktorių!","")))))))))
A90: ='SUC1_B. duomenys'!A110 -> 17 | B90: Kiokušin karatė | C90: =L90+M90+N90 -> 0 | E90: =C90-(F90+G90+H90+I90+J90+K90) -> 0 | O90: =Q90+R90+S90+T90 -> 0 | U90: =W90+X90+Y90 -> 0 | Z90: =AB90+AC90+AD90+AE90 -> 0 | AH90: =IF(D90>C90,"Klaida! Negali būti moterų daugiau nei iš viso trenerių/AM sp. specialistų!",IF(F90+G90+H90+I90+J90+K90>C90,"Klaida! Negali būti kategorijų daugiau negu trenerių/AM sp. specialistų!",IF(L90+N90>C90,"Klaida! Negali būti išsilavinimų, veiklos leidimų ir t.t. daugiau negu trenerių/AM sp. specialistų!",IF(P90>O90,"Klaida! Negali būti moterų daugiau nei iš viso AM instruktorių!",IF(Q90+R90+S90+T90>O90,"Klaida! Negali būti išsilavinimų, veiklos leidimų ir t.t. daugiau negu AM instruktorių!",IF(V90>U90,"Klaida! Negali būti moterų daugiau nei iš viso FA specialistų!",IF(W90+X90+Y90>U90,"Klaida! Negali būti išsilavinimų, veiklos leidimų ir t.t. daugiau negu FA specialistų!",IF(AA90>Z90,"Klaida! Negali būti moterų daugiau nei iš viso FA instruktorių!",IF(AB90+AC90+AD90+AE90>Z90,"Klaida! Negali būti išsilavinimų, veiklos leidimų ir t.t. daugiau negu FA instruktorių!","")))))))))
A91: ='SUC1_B. duomenys'!A111 -> 18 | B91: Kudo | C91: =L91+M91+N91 -> 0 | E91: =C91-(F91+G91+H91+I91+J91+K91) -> 0 | O91: =Q91+R91+S91+T91 -> 0 | U91: =W91+X91+Y91 -> 0 | Z91: =AB91+AC91+AD91+AE91 -> 0 | AH91: =IF(D91>C91,"Klaida! Negali būti moterų daugiau nei iš viso trenerių/AM sp. specialistų!",IF(F91+G91+H91+I91+J91+K91>C91,"Klaida! Negali būti kategorijų daugiau negu trenerių/AM sp. specialistų!",IF(L91+N91>C91,"Klaida! Negali būti išsilavinimų, veiklos leidimų ir t.t. daugiau negu trenerių/AM sp. specialistų!",IF(P91>O91,"Klaida! Negali būti moterų daugiau nei iš viso AM instruktorių!",IF(Q91+R91+S91+T91>O91,"Klaida! Negali būti išsilavinimų, veiklos leidimų ir t.t. daugiau negu AM instruktorių!",IF(V91>U91,"Klaida! Negali būti moterų daugiau nei iš viso FA specialistų!",IF(W91+X91+Y91>U91,"Klaida! Negali būti išsilavinimų, veiklos leidimų ir t.t. daugiau negu FA specialistų!",IF(AA91>Z91,"Klaida! Negali būti moterų daugiau nei iš viso FA instruktorių!",IF(AB91+AC91+AD91+AE91>Z91,"Klaida! Negali būti išsilavinimų, veiklos leidimų ir t.t. daugiau negu FA instruktorių!","")))))))))
A92: ='SUC1_B. duomenys'!A112 -> 19 | B92: Kultūrizmas ir fitnesas (kūno rengyba) (IFBB) | C92: =L92+M92+N92 -> 0 | E92: =C92-(F92+G92+H92+I92+J92+K92) -> 0 | O92: =Q92+R92+S92+T92 -> 0 | U92: =W92+X92+Y92 -> 0 | Z92: =AB92+AC92+AD92+AE92 -> 0 | AH92: =IF(D92>C92,"Klaida! Negali būti moterų daugiau nei iš viso trenerių/AM sp. specialistų!",IF(F92+G92+H92+I92+J92+K92>C92,"Klaida! Negali būti kategorijų daugiau negu trenerių/AM sp. specialistų!",IF(L92+N92>C92,"Klaida! Negali būti išsilavinimų, veiklos leidimų ir t.t. daugiau negu trenerių/AM sp. specialistų!",IF(P92>O92,"Klaida! Negali būti moterų daugiau nei iš viso AM instruktorių!",IF(Q92+R92+S92+T92>O92,"Klaida! Negali būti išsilavinimų, veiklos leidimų ir t.t. daugiau negu AM instruktorių!",IF(V92>U92,"Klaida! Negali būti moterų daugiau nei iš viso FA specialistų!",IF(W92+X92+Y92>U92,"Klaida! Negali būti išsilavinimų, veiklos leidimų ir t.t. daugiau negu FA specialistų!",IF(AA92>Z92,"Klaida! Negali būti moterų daugiau nei iš viso FA instruktorių!",IF(AB92+AC92+AD92+AE92>Z92,"Klaida! Negali būti išsilavinimų, veiklos leidimų ir t.t. daugiau negu FA instruktorių!","")))))))))
A93: ='SUC1_B. duomenys'!A113 -> 20 | B93: Kultūrizmas ir fitnesas (kūno rengyba) (NABBA, WABBA) | C93: =L93+M93+N93 -> 0 | E93: =C93-(F93+G93+H93+I93+J93+K93) -> 0 | O93: =Q93+R93+S93+T93 -> 0 | U93: =W93+X93+Y93 -> 0 | Z93: =AB93+AC93+AD93+AE93 -> 0 | AH93: =IF(D93>C93,"Klaida! Negali būti moterų daugiau nei iš viso trenerių/AM sp. specialistų!",IF(F93+G93+H93+I93+J93+K93>C93,"Klaida! Negali būti kategorijų daugiau negu trenerių/AM sp. specialistų!",IF(L93+N93>C93,"Klaida! Negali būti išsilavinimų, veiklos leidimų ir t.t. daugiau negu trenerių/AM sp. specialistų!",IF(P93>O93,"Klaida! Negali būti moterų daugiau nei iš viso AM instruktorių!",IF(Q93+R93+S93+T93>O93,"Klaida! Negali būti išsilavinimų, veiklos leidimų ir t.t. daugiau negu AM instruktorių!",IF(V93>U93,"Klaida! Negali būti moterų daugiau nei iš viso FA specialistų!",IF(W93+X93+Y93>U93,"Klaida! Negali būti išsilavinimų, veiklos leidimų ir t.t. daugiau negu FA specialistų!",IF(AA93>Z93,"Klaida! Negali būti moterų daugiau nei iš viso FA instruktorių!",IF(AB93+AC93+AD93+AE93>Z93,"Klaida! Negali būti išsilavinimų, veiklos leidimų ir t.t. daugiau negu FA instruktorių!","")))))))))
A94: ='SUC1_B. duomenys'!A114 -> 21 | B94: Lietuviškas ritinis | C94: =L94+M94+N94 -> 0 | E94: =C94-(F94+G94+H94+I94+J94+K94) -> 0 | O94: =Q94+R94+S94+T94 -> 0 | U94: =W94+X94+Y94 -> 0 | Z94: =AB94+AC94+AD94+AE94 -> 0 | AH94: =IF(D94>C94,"Klaida! Negali būti moterų daugiau nei iš viso trenerių/AM sp. specialistų!",IF(F94+G94+H94+I94+J94+K94>C94,"Klaida! Negali būti kategorijų daugiau negu trenerių/AM sp. specialistų!",IF(L94+N94>C94,"Klaida! Negali būti išsilavinimų, veiklos leidimų ir t.t. daugiau negu trenerių/AM sp. specialistų!",IF(P94>O94,"Klaida! Negali būti moterų daugiau nei iš viso AM instruktorių!",IF(Q94+R94+S94+T94>O94,"Klaida! Negali būti išsilavinimų, veiklos leidimų ir t.t. daugiau negu AM instruktorių!",IF(V94>U94,"Klaida! Negali būti moterų daugiau nei iš viso FA specialistų!",IF(W94+X94+Y94>U94,"Klaida! Negali būti išsilavinimų, veiklos leidimų ir t.t. daugiau negu FA specialistų!",IF(AA94>Z94,"Klaida! Negali būti moterų daugiau nei iš viso FA instruktorių!",IF(AB94+AC94+AD94+AE94>Z94,"Klaida! Negali būti išsilavinimų, veiklos leidimų ir t.t. daugiau negu FA instruktorių!","")))))))))
... A98: ='SUC1_B. duomenys'!A118 -> 25 | B98: Petankė | C98: =L98+M98+N98 -> 0 | E98: =C98-(F98+G98+H98+I98+J98+K98) -> 0 | O98: =Q98+R98+S98+T98 -> 0 | U98: =W98+X98+Y98 -> 0 | Z98: =AB98+AC98+AD98+AE98 -> 0 | AH98: =IF(D98>C98,"Klaida! Negali būti moterų daugiau nei iš viso trenerių/AM sp. specialistų!",IF(F98+G98+H98+I98+J98+K98>C98,"Klaida! Negali būti kategorijų daugiau negu trenerių/AM sp. specialistų!",IF(L98+N98>C98,"Klaida! Negali būti išsilavinimų, veiklos leidimų ir t.t. daugiau negu trenerių/AM sp. specialistų!",IF(P98>O98,"Klaida! Negali būti moterų daugiau nei iš viso AM instruktorių!",IF(Q98+R98+S98+T98>O98,"Klaida! Negali būti išsilavinimų, veiklos leidimų ir t.t. daugiau negu AM instruktorių!",IF(V98>U98,"Klaida! Negali būti moterų daugiau nei iš viso FA specialistų!",IF(W98+X98+Y98>U98,"Klaida! Negali būti išsilavinimų, veiklos leidimų ir t.t. daugiau negu FA specialistų!",IF(AA98>Z98,"Klaida! Negali būti moterų daugiau nei iš viso FA instruktorių!",IF(AB98+AC98+AD98+AE98>Z98,"Klaida! Negali būti išsilavinimų, veiklos leidimų ir t.t. daugiau negu FA instruktorių!","")))))))))
A99: ='SUC1_B. duomenys'!A119 -> 26 | B99: Povandeninis plaukimas | C99: 2 | D99: 1 | E99: =C99-(F99+G99+H99+I99+J99+K99) -> 0 | H99: 2 | L99: 2 | O99: =Q99+R99+S99+T99 -> 0 | U99: =W99+X99+Y99 -> 0 | Z99: =AB99+AC99+AD99+AE99 -> 0 | AH99: =IF(D99>C99,"Klaida! Negali būti moterų daugiau nei iš viso trenerių/AM sp. specialistų!",IF(F99+G99+H99+I99+J99+K99>C99,"Klaida! Negali būti kategorijų daugiau negu trenerių/AM sp. specialistų!",IF(L99+N99>C99,"Klaida! Negali būti išsilavinimų, veiklos leidimų ir t.t. daugiau negu trenerių/AM sp. specialistų!",IF(P99>O99,"Klaida! Negali būti moterų daugiau nei iš viso AM instruktorių!",IF(Q99+R99+S99+T99>O99,"Klaida! Negali būti išsilavinimų, veiklos leidimų ir t.t. daugiau negu AM instruktorių!",IF(V99>U99,"Klaida! Negali būti moterų daugiau nei iš viso FA specialistų!",IF(W99+X99+Y99>U99,"Klaida! Negali būti išsilavinimų, veiklos leidimų ir t.t. daugiau negu FA specialistų!",IF(AA99>Z99,"Klaida! Negali būti moterų daugiau nei iš viso FA instruktorių!",IF(AB99+AC99+AD99+AE99>Z99,"Klaida! Negali būti išsilavinimų, veiklos leidimų ir t.t. daugiau negu FA instruktorių!","")))))))))
A100: ='SUC1_B. duomenys'!A120 -> 27 | B100: Pulas | C100: =L100+M100+N100 -> 0 | E100: =C100-(F100+G100+H100+I100+J100+K100) -> 0 | O100: =Q100+R100+S100+T100 -> 0 | U100: =W100+X100+Y100 -> 0 | Z100: =AB100+AC100+AD100+AE100 -> 0 | AH100: =IF(D100>C100,"Klaida! Negali būti moterų daugiau nei iš viso trenerių/AM sp. specialistų!",IF(F100+G100+H100+I100+J100+K100>C100,"Klaida! Negali būti kategorijų daugiau negu trenerių/AM sp. specialistų!",IF(L100+N100>C100,"Klaida! Negali būti išsilavinimų, veiklos leidimų ir t.t. daugiau negu trenerių/AM sp. specialistų!",IF(P100>O100,"Klaida! Negali būti moterų daugiau nei iš viso AM instruktorių!",IF(Q100+R100+S100+T100>O100,"Klaida! Negali būti išsilavinimų, veiklos leidimų ir t.t. daugiau negu AM instruktorių!",IF(V100>U100,"Klaida! Negali būti moterų daugiau nei iš viso FA specialistų!",IF(W100+X100+Y100>U100,"Klaida! Negali būti išsilavinimų, veiklos leidimų ir t.t. daugiau negu FA specialistų!",IF(AA100>Z100,"Klaida! Negali būti moterų daugiau nei iš viso FA instruktorių!",IF(AB100+AC100+AD100+AE100>Z100,"Klaida! Negali būti išsilavinimų, veiklos leidimų ir t.t. daugiau negu FA instruktorių!","")))))))))
A101: ='SUC1_B. duomenys'!A121 -> 28 | B101: Rankų lenkimas | C101: =L101+M101+N101 -> 0 | E101: =C101-(F101+G101+H101+I101+J101+K101) -> 0 | O101: =Q101+R101+S101+T101 -> 0 | U101: =W101+X101+Y101 -> 0 | Z101: =AB101+AC101+AD101+AE101 -> 0 | AH101: =IF(D101>C101,"Klaida! Negali būti moterų daugiau nei iš viso trenerių/AM sp. specialistų!",IF(F101+G101+H101+I101+J101+K101>C101,"Klaida! Negali būti kategorijų daugiau negu trenerių/AM sp. specialistų!",IF(L101+N101>C101,"Klaida! Negali būti išsilavinimų, veiklos leidimų ir t.t. daugiau negu trenerių/AM sp. specialistų!",IF(P101>O101,"Klaida! Negali būti moterų daugiau nei iš viso AM instruktorių!",IF(Q101+R101+S101+T101>O101,"Klaida! Negali būti išsilavinimų, veiklos leidimų ir t.t. daugiau negu AM instruktorių!",IF(V101>U101,"Klaida! Negali būti moterų daugiau nei iš viso FA specialistų!",IF(W101+X101+Y101>U101,"Klaida! Negali būti išsilavinimų, veiklos leidimų ir t.t. daugiau negu FA specialistų!",IF(AA101>Z101,"Klaida! Negali būti moterų daugiau nei iš viso FA instruktorių!",IF(AB101+AC101+AD101+AE101>Z101,"Klaida! Negali būti išsilavinimų, veiklos leidimų ir t.t. daugiau negu FA instruktorių!","")))))))))
A102: ='SUC1_B. duomenys'!A122 -> 29 | B102: Riedučių sportas | C102: =L102+M102+N102 -> 0 | E102: =C102-(F102+G102+H102+I102+J102+K102) -> 0 | O102: =Q102+R102+S102+T102 -> 0 | U102: =W102+X102+Y102 -> 0 | Z102: =AB102+AC102+AD102+AE102 -> 0 | AH102: =IF(D102>C102,"Klaida! Negali būti moterų daugiau nei iš viso trenerių/AM sp. specialistų!",IF(F102+G102+H102+I102+J102+K102>C102,"Klaida! Negali būti kategorijų daugiau negu trenerių/AM sp. specialistų!",IF(L102+N102>C102,"Klaida! Negali būti išsilavinimų, veiklos leidimų ir t.t. daugiau negu trenerių/AM sp. specialistų!",IF(P102>O102,"Klaida! Negali būti moterų daugiau nei iš viso AM instruktorių!",IF(Q102+R102+S102+T102>O102,"Klaida! Negali būti išsilavinimų, veiklos leidimų ir t.t. daugiau negu AM instruktorių!",IF(V102>U102,"Klaida! Negali būti moterų daugiau nei iš viso FA specialistų!",IF(W102+X102+Y102>U102,"Klaida! Negali būti išsilavinimų, veiklos leidimų ir t.t. daugiau negu FA specialistų!",IF(AA102>Z102,"Klaida! Negali būti moterų daugiau nei iš viso FA instruktorių!",IF(AB102+AC102+AD102+AE102>Z102,"Klaida! Negali būti išsilavinimų, veiklos leidimų ir t.t. daugiau negu FA instruktorių!","")))))))))
A103: ='SUC1_B. duomenys'!A123 -> 30 | B103: Ringo | C103: =L103+M103+N103 -> 0 | E103: =C103-(F103+G103+H103+I103+J103+K103) -> 0 | O103: =Q103+R103+S103+T103 -> 0 | U103: =W103+X103+Y103 -> 0 | Z103: =AB103+AC103+AD103+AE103 -> 0 | AH103: =IF(D103>C103,"Klaida! Negali būti moterų daugiau nei iš viso trenerių/AM sp. specialistų!",IF(F103+G103+H103+I103+J103+K103>C103,"Klaida! Negali būti kategorijų daugiau negu trenerių/AM sp. specialistų!",IF(L103+N103>C103,"Klaida! Negali būti išsilavinimų, veiklos leidimų ir t.t. daugiau negu trenerių/AM sp. specialistų!",IF(P103>O103,"Klaida! Negali būti moterų daugiau nei iš viso AM instruktorių!",IF(Q103+R103+S103+T103>O103,"Klaida! Negali būti išsilavinimų, veiklos leidimų ir t.t. daugiau negu AM instruktorių!",IF(V103>U103,"Klaida! Negali būti moterų daugiau nei iš viso FA specialistų!",IF(W103+X103+Y103>U103,"Klaida! Negali būti išsilavinimų, veiklos leidimų ir t.t. daugiau negu FA specialistų!",IF(AA103>Z103,"Klaida! Negali būti moterų daugiau nei iš viso FA instruktorių!",IF(AB103+AC103+AD103+AE103>Z103,"Klaida! Negali būti išsilavinimų, veiklos leidimų ir t.t. daugiau negu FA instruktorių!","")))))))))
A104: ='SUC1_B. duomenys'!A124 -> 31 | B104: Sambo | C104: =L104+M104+N104 -> 0 | E104: =C104-(F104+G104+H104+I104+J104+K104) -> 0 | O104: =Q104+R104+S104+T104 -> 0 | U104: =W104+X104+Y104 -> 0 | Z104: =AB104+AC104+AD104+AE104 -> 0 | AH104: =IF(D104>C104,"Klaida! Negali būti moterų daugiau nei iš viso trenerių/AM sp. specialistų!",IF(F104+G104+H104+I104+J104+K104>C104,"Klaida! Negali būti kategorijų daugiau negu trenerių/AM sp. specialistų!",IF(L104+N104>C104,"Klaida! Negali būti išsilavinimų, veiklos leidimų ir t.t. daugiau negu trenerių/AM sp. specialistų!",IF(P104>O104,"Klaida! Negali būti moterų daugiau nei iš viso AM instruktorių!",IF(Q104+R104+S104+T104>O104,"Klaida! Negali būti išsilavinimų, veiklos leidimų ir t.t. daugiau negu AM instruktorių!",IF(V104>U104,"Klaida! Negali būti moterų daugiau nei iš viso FA specialistų!",IF(W104+X104+Y104>U104,"Klaida! Negali būti išsilavinimų, veiklos leidimų ir t.t. daugiau negu FA specialistų!",IF(AA104>Z104,"Klaida! Negali būti moterų daugiau nei iš viso FA instruktorių!",IF(AB104+AC104+AD104+AE104>Z104,"Klaida! Negali būti išsilavinimų, veiklos leidimų ir t.t. daugiau negu FA instruktorių!","")))))))))
...

Sheet SUC1_Kiti duom.
A1: =IF('SUC1_B. duomenys'!A13:U13="","",'SUC1_B. duomenys'!A13:U13) -> BĮ KLAIPĖDOS MIESTO LENGVOSIOS ATLETIKOS MOKYKLA, BĮ KLAIPĖDOS „GINTARO“ SPORTO CENTRAS, BĮ KLAIPĖDOS VLADO KNAŠIAUS KREPŠINIO MOKYKLA, BĮ KLAIPĖDOS "VIESULO" SPORTO CENTRAS, BĮ KLAIPĖDOS MIESTO SPORTO BAZIŲ VALDYMO CENTRAS.
A2: (Sportininkų ugdymo centro(-ų) pavadinimas(-ai))
A3: 3. 2024 M. KITI DUOMENYS IR VEIKLOS REZULTATAI | AC3: Forma Nr. SUC-1
A4: 3.1. Darbuotojai, varžybos, stovyklos ir perengti sportininkai
A5: Eil. Nr. | B5: Sporto mokymo įstaigų priklausomybė | C5: Darbuotojai (be trenerių, aukšto meistriškumo ir fizinio aktyvumo specialistų, instruktorių) | J5: SURENGTA | U5: Išmokyta plaukti**** | V5: Parengta sportininkų | AA5: Yra teisėjų
C6: Iš viso | D6: Iš jų moterų | E6: Sporto vadybininkai (organizatoriai) | H6: Kiti | J6: Aukšto meistriškumo sporto varžybų* | M6: Fizinio aktyvumo renginių** | P6: Aukšto meistriškumo stovyklų | S6: Kvalifikacijos kėlimo seminarų, konferencijų | AA6: Nacionalinės kategorijos | AB6: Tarptautinės kategorijos | AC6: Kitų kategorijų
E7: Iš viso | F7: Iš jų moterų | G7: Turi aukštąjį sporto studijų krypties išsilavinimą | H7: Iš viso | I7: Iš jų moterų | S7: Kvalifikacijos kėlimo seminarų, konferencijų | V7: Olimpinės rinktinės narių***** | W7: Olimpinės rinktinės kandidatų | X7: Nacionalinės rinktinės narių | Y7: Jaunimo rinktinės narių | Z7: Jaunių rinktinės narių
J8: Varžybų sk. | K8: Dalyvių sk. | L8: Iš jų moterų | M8: Renginių sk. | N8: Dalyvių sk. | O8: Iš jų moterų | P8: Stovyklų sk. | Q8: Dienų sk. | R8: Dalyvių sk.*** | S8: Renginių sk. | T8: Dalyvių sk.
A9: 1 | B9: 2 | C9: 3 | D9: 4 | E9: 5 | F9: 6 | G9: 7 | H9: 8 | I9: 9 | J9: 10 | K9: 11 | L9: 12 | M9: 13 | N9: 14 | O9: 15 | P9: 16 | Q9: 17 | R9: 18 | S9: 19 | T9: 20 | U9: 21 | V9: 22 | W9: 23 | X9: 24 | Y9: 25 | Z9: 26 | AA9: 27 | AB9: 28 | AC9: 29
A10: 1. | B10: Sporto padalinio SUC | C10: =E10+H10 -> 142 | D10: =SUM(F10+I10) -> 70 | E10: 76 | F10: 27 | G10: 3 | H10: 66 | I10: 43 | J10: 263 | K10: 5567 | L10: 2153 | M10: 28 | N10: 10147 | O10: 5019 | P10: 108 | Q10: 644 | R10: 3255 | S10: 72 | T10: 345 | U10: 450 | X10: 40 | Y10: 75 | Z10: 54 | AA10: 14 | AB10: 12 | AC10: 21 | AE10: =IF(D10>C10,"Klaida! Negali būti moterų daugiau nei iš viso buvo darbuotojų!",IF(L10>K10,"Klaida! Negali būti daugiau moterų nei iš viso buvo dalyvių aukšto meistriškumo varžybose!",IF(O10>N10,"Klaida! Negali būti daugiau moterų nei iš viso buvo dalyvių fizinio aktyvumo renginuose!","")))
A11: 2. | B11: Švietimo padalinio SUC | C11: =E11+H11 -> 0 | D11: =SUM(F11+I11) -> 0 | AE11: =IF(D11>C11,"Klaida! Negali būti moterų daugiau nei iš viso buvo darbuotojų!",IF(L11>K11,"Klaida! Negali būti daugiau moterų nei iš viso buvo dalyvių aukšto meistriškumo varžybose!",IF(O11>N11,"Klaida! Negali būti daugiau moterų nei iš viso buvo dalyvių fizinio aktyvumo renginuose!","")))
A12: 3. | B12: Privačių asmenų SUC | C12: =E12+H12 -> 0 | D12: =SUM(F12+I12) -> 0 | AE12: =IF(D12>C12,"Klaida! Negali būti moterų daugiau nei iš viso buvo darbuotojų!",IF(L12>K12,"Klaida! Negali būti daugiau moterų nei iš viso buvo dalyvių aukšto meistriškumo varžybose!",IF(O12>N12,"Klaida! Negali būti daugiau moterų nei iš viso buvo dalyvių fizinio aktyvumo renginuose!","")))
B13: Iš viso: | C13: =E13+H13 -> 142 | D13: =SUM(D10:D12) -> 70 | E13: =SUM(E10:E12) -> 76 | F13: =SUM(F10:F12) -> 27 | G13: =SUM(G10:G12) -> 3 | H13: =SUM(H10:H12) -> 66 | I13: =SUM(I10:I12) -> 43 | J13: =SUM(J10:J12) -> 263 | K13: =SUM(K10:K12) -> 5567 | ... AC13: =SUM(AC10:AC12) -> 21
A15: * – Aukšto meistriškumo sporto varžybos (toliau – sporto varžybos) – sporto šakos federacijos, kuri yra tarptautinės (pasaulio) sporto šakos federacijos narė, arba jos įgalioto juridinio asmens organizuojamas jaunių, jaunimo ar suaugusiųjų, išskyrus veteranus, amžiaus grupės sporto renginys arba tarptautinės aukšto meistriškumo sporto varžybos ar tarptautinių subjektų organizuojamos tarptautinės aukšto meistriškumo sporto varžybos, organizuojami kaip tos sporto šakos sporto varžybų sistemos sudedamoji dalis ir vykdomi pagal iš anksto paskelbtus nuostatus ir tarptautinės nevyriausybinės sporto organizacijos ar sporto šakos federacijos patvirtintas sporto šakos (-ų) taisykles (tiek, kiek tai neprieštarauja tarptautinės sporto šakos federacijos patvirtintoms taisyklėms).
A16: ** – Fizinio aktyvumo renginiai – mėgėjų sporto varžybos, sporto festivaliai, šventės, konkursai ir kitos visapusiško ugdymo, sveikatos stiprinimo ir palaikymo, ligų profilaktikos priemonės, skirtos įvairių socialinių grupių gyventojams (vaikams, mokiniams, studentams, neįgaliesiems, darbininkams, tarnautojams, pagyvenusiems žmonėms, veteranams), šių renginių pagrindinis tikslas yra ne sportinių rezultatų siekimas, o dalyvavimas. Renginiai susije su fizine veikla, kuria siekiama stiprinti sveikatą, tobulinti fizines ir psichines savybes bei įgūdžius neturint tikslo pasirengti aukšto meistriškumo sporto varžyboms ir (ar) dalyvauti jose, taip pat veikla šviečiant visuomenę sporto, fizinio aktyvumo ir jais pasiekiamo sveikatos stiprinimo klausimais.
A17: *** – stovyklose dalyvavusiųjų skaičius, kur tas pats asmuo kiekvieną dieną laikomas atskiru dalyviu (pvz. 2 dienų stovykloje dalyvavo 48 asmenys
A18: tokiu atveju iš viso būtų 96 dalyviai, o jei 5 d. dalyvavo 3 asmenys, iš viso būtų 15 dalyvių).
A19: Aukšto meistriškumo sporto treniruočių stovyklos – aukšto meistriškumo sporto pratybų proceso dalis, kai vykdomas tikslingas apibrėžtos trukmės sportininko rengimas, siekiant įvertinti sportininko pasiektą parengtumo lygį ir šį lygį pakelti prieš konkrečias aukšto meistriškumo sporto varžybas.
A20: **** | B20: – dalyvavę mokymo plaukti pratybose ir išmokę nuplaukti 25 m.
A21: ***** | B21: – pildoma tik už metus, kai vyko Olimpinės žaidynės.

Sheet SUC1_Finansai
A1: =IF('SUC1_B. duomenys'!A13:U13="","",'SUC1_B. duomenys'!A13:U13) -> BĮ KLAIPĖDOS MIESTO LENGVOSIOS ATLETIKOS MOKYKLA, BĮ KLAIPĖDOS „GINTARO“ SPORTO CENTRAS, BĮ KLAIPĖDOS VLADO KNAŠIAUS KREPŠINIO MOKYKLA, BĮ KLAIPĖDOS "VIESULO" SPORTO CENTRAS, BĮ KLAIPĖDOS MIESTO SPORTO BAZIŲ VALDYMO CENTRAS.
A2: (Sportininkų ugdymo centro(-ų) pavadinimas(-ai))
A3: 4. 2024 M. FINANSAI (tūkst. eurų) | V3: Forma Nr. SUC-1
A4: Eil. Nr. | B4: Sporto mokymo įstaigų priklausomybė | C4: Finansavimas (tūkst. eurų)
C5: Pajamų šaltiniai | L5: Išlaidos
C6: Valstybės biudžetas | F6: Savivaldybės biudžetas | G6: Surinkta iš SUC moksleivių | H6: Ūkinė komercinė veikla | I6: Lietuvos tautinis olimpinis komitetas (LTOK) | J6: Rėmėjai ir kiti šaltiniai | K6: Iš viso pajamų | L6: Darbo užmokesčiui treneriams | M6: Darbo užmokesčiui kitiems darbuotojams | N6: Mokomajam sportiniam darbui ir varžyboms | O6: Įsigijimams | Q6: Sporto bazių ir kitų patalpų nuomai | R6: Draudimas | S6: Transportas | T6: Komunalinės paslaugos | U6: Kitos išlaidos | V6: Iš viso išlaidų
C7: LR Švietimo, mokslo ir sporto ministerija | D7: Sporto rėmimo fondas | E7: Kitos ministerijos ir valstybės institucijos | O7: Inventoriaus ir ilgalaikio turto | P7: Medikamentams ir maisto papildams
A8: 1 | B8: 2 | C8: 3 | D8: 4 | E8: 5 | F8: 6 | G8: 7 | H8: 8 | I8: 9 | J8: 10 | K8: 11 | L8: 12 | M8: 13 | N8: 14 | O8: 15 | P8: 16 | Q8: 17 | R8: 18 | S8: 19 | T8: 20 | U8: 21 | V8: 22
A9: 1. | B9: Sporto padalinio SUC | C9: 102.6 | E9: 69.3 | F9: 9258.5 | G9: 209.6 | H9: 286.94 | J9: 134.1 | K9: =SUM(C9:J9) -> 10061.04 | L9: 4272.67 | M9: 3040.97 | N9: 552.58 | O9: 374.12 | P9: 4.18 | Q9: 410.91 | R9: 7.86 | S9: 62.29 | T9: 8.27 | U9: 1069.94 | V9: =SUM(L9:U9) -> 9803.79 | W9: =IF(K9=V9,"",K9-V9) -> 257.25 | X9: =IF(W9="","",IF(W9=0,"",IF(W9>0,"Nepanaudotos lėšos",IF(W9<0,"Išleista daugiau negu buvo gauta lėšų","")))) -> Nepanaudotos lėšos
A10: 2. | B10: Švietimo padalinio SUC | K10: =SUM(C10:J10) -> 0 | V10: =SUM(L10:U10) -> 0 | W10: =IF(K10=V10,"",K10-V10) | X10: =IF(W10="","",IF(W10=0,"",IF(W10>0,"Nepanaudotos lėšos",IF(W10<0,"Išleista daugiau negu buvo gauta lėšų",""))))
A11: 3. | B11: Privačių asmenų SUC | K11: =SUM(C11:J11) -> 0 | V11: =SUM(L11:U11) -> 0 | W11: =IF(K11=V11,"",K11-V11) | X11: =IF(W11="","",IF(W11=0,"",IF(W11>0,"Nepanaudotos lėšos",IF(W11<0,"Išleista daugiau negu buvo gauta lėšų",""))))
B12: Iš viso: | C12: =SUM(C9:C11) -> 102.6 | D12: =SUM(D9:D11) -> 0 | E12: =SUM(E9:E11) -> 69.3 | F12: =SUM(F9:F11) -> 9258.5 | G12: =SUM(G9:G11) -> 209.6 | H12: =SUM(H9:H11) -> 286.94 | I12: =SUM(I9:I11) -> 0 | J12: =SUM(J9:J11) -> 134.1 | K12: =SUM(C12:J12) -> 10061.04 | L12: =SUM(L9:L11) -> 4272.67 | M12: =SUM(M9:M11) -> 3040.97 | N12: =SUM(N9:N11) -> 552.58 | O12: =SUM(O9:O11) -> 374.12 | P12: =SUM(P9:P11) -> 4.18 | Q12: =SUM(Q9:Q11) -> 410.91 | R12: =SUM(R9:R11) -> 7.86 | S12: =SUM(S9:S11) -> 62.29 | ... U12: =SUM(U9:U11) -> 1069.94 | V12: =SUM(L12:U12) -> 9803.79 | X12: =IF(W12="","",IF(W12=0,"",IF(W12>0,"Nepanaudotos lėšos",IF(W12<0,"Išleista daugiau negu buvo gauta lėšų",""))))

Sheet SUC1_Bazės
A1: =IF('SUC1_B. duomenys'!A13:U13="","",'SUC1_B. duomenys'!A13:U13) -> BĮ KLAIPĖDOS MIESTO LENGVOSIOS ATLETIKOS MOKYKLA, BĮ KLAIPĖDOS „GINTARO“ SPORTO CENTRAS, BĮ KLAIPĖDOS VLADO KNAŠIAUS KREPŠINIO MOKYKLA, BĮ KLAIPĖDOS "VIESULO" SPORTO CENTRAS, BĮ KLAIPĖDOS MIESTO SPORTO BAZIŲ VALDYMO CENTRAS.
A2: (Sportininkų ugdymo centro(-ų) pavadinimas(-ai))
A3: 5. 2024 M. SPORTO BAZĖS (nuosavos) | AN3: Forma Nr. SUC-1
A4: Eil. Nr. | B4: Sporto mokymo įstaigų priklausomybė | C4: Universalios sporto arenos | D4: Sporto kompleksai | E4: Stadionai | G4: Lengvosios atletikos maniežai | H4: Futbolo maniežai | I4: Baseinai | L4: Salės | O4: Irklavimo sporto bazės | P4: Buriavimo sporto bazės | Q4: Žirgų sporto maniežai | R4: Dviračių trekai | S4: Aerodromai | T4: Ledo arenos | U4: Šaudyklos | W4: Atviros sporto bazės | AK4: Uždaros ir atviros slidinėjimo trasos | AN4: Dviračių takai (km.)
E5: Su 3000 ir daugiau vietų tribūnomis | F5: Kiti | I5: 50 m | J5: 25 m | K5: Kiti (12,5-25 m.) | L5: 15x30 m ir didesnės | M5: 24x12 m – 15x30 m | N5: Kitos | U5: atviros | V5: uždaros | W5: Krepšinio aikštelės | X5: Tinklinio aikštelės | Y5: Futbolo aikštės | Z5: Rankinio aikštelės | AA5: Teniso aikštelės | AB5: Automobilių kroso trasos | AC5: Motokroso trasos | AD5: Slidžių ir riedučių trasos | AE5: BMX dviračių trasos | AF5: Beisbolo aikštės | AG5: Golfo aikštynai | AH5: Hipodromai | AI5: Kartodromai | AJ5: Universalios dirbtinės dangos sporto aikštelės | AL5: Žolės riedulio aikštės | AM5: Regbio aikštės
A6: 1 | B6: 2 | C6: 3 | D6: 4 | E6: 5.1. | F6: 5.2. | G6: 6 | H6: 7 | I6: 8.1. | J6: 8.2. | K6: 8.3. | L6: 9.1. | M6: 9.2. | N6: 9.3. | O6: 10 | P6: 11 | Q6: 12 | R6: 13 | S6: 14 | T6: 15 | U6: 16.1. | V6: 16.2. | W6: 17 | X6: 18 | Y6: 19 | Z6: 20 | AA6: 21 | AB6: 22 | AC6: 23 | AD6: 24 | AE6: 25 | AF6: 26 | AG6: 27 | AH6: 28 | AI6: 29 | AJ6: 30 | AK6: 31 | AL6: 32 | AM6: 33 | AN6: 34
A7: 1. | B7: Sporto padalinio SUC | E7: 1 | F7: 1 | G7: 1 | J7: 1 | L7: 4 | M7: 2 | N7: 12 | W7: 13 | X7: 8 | Y7: 11 | AA7: 3 | AE7: 5 | AG7: 1 | AJ7: 4 | AM7: 1
A8: 2. | B8: Švietimo padalinio SUC
A9: 3. | B9: Privačių asmenų SUC
B10: Iš viso: | C10: =SUM(C7:C9) -> 0 | D10: =SUM(D7:D9) -> 0 | E10: =SUM(E7:E9) -> 1 | F10: =SUM(F7:F9) -> 1 | G10: =SUM(G7:G9) -> 1 | H10: =SUM(H7:H9) -> 0 | I10: =SUM(I7:I9) -> 0 | J10: =SUM(J7:J9) -> 1 | ... AN10: =SUM(AN7:AN9) -> 0
A12: Prašome nurodyti, kiek laiko skyrėte statistiniams duomenims parengti ir statistinei formai užpildyti (valandomis):
B15: Sportininkų ugdymo centro vadovas (-ai)
I16: (parašas, vardas, pavardė)
D17: =TODAY() -> 45786
D18: (data)
C20: Savivaldybės sporto padalinio vadovas
I21: (parašas, vardas, pavardė)
D22: =TODAY() -> 45786
D23: (data)

Sheet SUC-1 informacinis priedas
B2: Sportininkų ugdymo centrų statistinės
C3: ataskaitos SUC-1 (metinės) priedas
A5: INFORMACIJA DĖL FIZINIO AKTYVUMO IR SPORTO STATISTINIO TYRIMO
A6: (VEIKLOS STATISTINĖ ATASKAITA SUC-1 (METINĖ))
B8: TEISINIS STATISTINIO TYRIMO PAGRINDAS | C8: Lietuvos Respublikos sporto įstatymas, 5 straipsnio 2 punktas.
B9: STATISTINIO TYRIMO TIKSLAS, RŪŠIS IR APIMTIS | C9: Statistinio tyrimo tikslas – parengti ir paskelbti metinę statistinę informaciją apie fizinį aktyvumą ir sportą, sporto organizacijų veiklą: sportininkus, asmenis, užsiimančius fizinio aktyvumo veikla, trenerius, teisėjus, sporto ir sveikatingumo renginius, stovyklas, kvalifikacijos tobulinimo renginius, Lietuvos sportininkų laimėjimus pasaulio ir Europos čempionatuose, sporto bazes, finansus.
C10: Atliekamas ištisinis statistinis tyrimas.
C11: Statistinę ataskaitą pildo Savivaldybių sporto ugdymo centrai.
B12: STATISTINĖS INFORMACIJOS PASKELBIMO LAIKAS IR VIETA | C12: Liepos mėn. – Oficialiosios statistikos portale osp.stat.gov.lt, interneto svetainėse smsm.lrv.lt, lscentras.lt
B14: STATISTINIŲ DUOMENŲ PATEIKIMO PAREIGA | C14: Vadovaujantis Lietuvos Respublikos oficialiosios statistikos ir valstybės duomenų valdysenos įstatymu.
B15: STATISTINIŲ DUOMENŲ KONFIDENCIALUMAS IR ASMENS DUOMENŲ APSAUGA | C15: Vadovaujantis Lietuvos Respublikos oficialiosios statistikos ir valstybės duomenų valdysenos įstatymu.
C16: Informacija apie asmens duomenų apsaugą ir tvarkymą skelbiama
C17: https://lscentras.lt/lt/asmens-duomenu-apsauga.
B18: STATISTINIŲ DUOMENŲ PATEIKIMO TVARKOS PAŽEIDIMAS | C18: Lietuvos Respublikos administracinių nusižengimų kodekso 221 straipsnis.
A20: ____________________

Sheet KKS1_1.Duomenys apie org.
A1: Kodas registre | S1: Forma Nr. KKS-1
S2: PATVIRTINTA
S3: Lietuvos sporto centro direktoriaus 2025 m. sausio 27 d. įsakymu Nr. V-8
S4: SUDERINTA
A5: Pasiteirauti: tel. +370 619 28 206, el. p. statistika@lscentras.lt. | S5: Valstybės duomenų agentūros 2024 m. sausio 18 d. raštu Nr. SD-64
S7: Pateikiama:
S8: Miesto, rajono, savivaldybės sporto padalinys pristato Lietuvos sporto centrui kasmet
S10: Kartu pristatoma formos SUC-1 (visų sporto ugdymo centrų ir suvestinė jei yra daugiau nei vienas centras)
A13: Klaipėdos miesto savivaldybės administracijos Kultūros, sporto ir turizmo departamento Sporto, jaunimo ir bendruomeninių reikalų skyrius
A14: (miesto (rajono) savivaldybės sporto padalinio pavadinimas)
A16: Liepų g. 11, Klaipėda +370 40 17 22, Viktorija.Butkeviciene@klaipeda.lt
A17: (adresas, telefonas, faksas, el. paštas)
A18: SPORTO 2024 M. STATISTINĖ ATASKAITA (METINĖ)
A19: 1. DUOMENYS APIE ĮMONES, ĮSTAIGAS, ORGANIZACIJAS
A20: Eil. Nr. | B20: Organizacijų pavadinimai | J20: Organizacijų skaičius | K20: Sportuojančiųjų skaičius | P20: SURENGTA | AA20: Išmokyta plaukti****** | AB20: Parengta sportininkų | AG20: Yra teisėjų
K21: 18 metų ir jaunesni | L21: 19-29 metų | M21: 30 ir daugiau metų | N21: Iš viso | O21: Iš jų moterų | P21: Aukšto meistriškumo sporto varžybų** | S21: Fizinio aktyvumo renginių*** | V21: Aukšto meistriškumo stovyklų**** | Y21: Kvalifikacijos kėlimo seminarų, konferencijų | AB21: Olimpinės rinktinės narių | AC21: Olimpinės rinktinės kandidatų | AD21: Nacionalinės rinktinės narių | AE21: Jaunimo rinktinės narių | AF21: Jaunių rinktinės narių | AG21: Nacionalinės kategorijos | AH21: Tarptautinės kategorijos | AI21: Kitų kategorijų
P22: Varžybų sk. | Q22: Dalyvių sk. | R22: Iš jų moterų | S22: Renginių sk. | T22: Dalyvių sk. | U22: Iš jų moterų | V22: Stovyklų sk. | W22: Dienų sk. | X22: Dalyvių sk.***** | Y22: Renginių sk. | Z22: Dalyvių sk.
A23: 1 | B23: 2 | J23: 3 | K23: 4 | L23: 5 | M23: 6 | N23: 7 | O23: 8 | P23: 9 | Q23: 10 | R23: 11 | S23: 12 | T23: 13 | U23: 14 | V23: 15 | W23: 16 | X23: 17 | Y23: 18 | Z23: 19 | AA23: 20 | AB23: 21 | AC23: 22 | AD23: 23 | AE23: 24 | AF23: 25 | AG23: 26 | AH23: 27 | AI23: 28
A24: 1. | B24: Sporto klubai* | J24: 28 | K24: 2084 | L24: 276 | M24: 510 | N24: =SUM(K24:M24) -> 2870 | O24: 984 | P24: 165 | Q24: 5541 | R24: 2534 | S24: 103 | T24: 5892 | U24: 2055 | V24: 48 | W24: 379 | X24: 3070 | Y24: 21 | Z24: 625 | AA24: 34 | AB24: 2 | AD24: 28 | AE24: 38 | AF24: 60 | AG24: 41 | AH24: 24 | AI24: 26 | AL24: =IF(AND(J24=0,N24>0),"Nurodykite organizacijų skaičių, nes eilutėje yra sportuojančiųjų!",IF(O24>N24,"Klaida! Negali būti moterų daugiau nei iš viso buvo sportuojančiųjų!",IF(R24>Q24,"Klaida! Negali būti daugiau moterų nei iš viso buvo dalyvių aukšto meistriškumo varžybose!",IF(U24>T24,"Klaida! Negali būti daugiau moterų nei iš viso buvo dalyvių fizinio aktyvumo renginuose!",""))))
A25: 2. | B25: Sporto viešosios įstaigos | J25: 31 | K25: 6025 | L25: 1321 | M25: 2168 | N25: =SUM(K25:M25) -> 9514 | O25: 3077 | P25: 622 | Q25: 4646 | R25: 2367 | S25: 190 | T25: 8495 | U25: 3033 | V25: 77 | W25: 795 | X25: 4646 | Y25: 35 | Z25: 284 | AA25: 821 | AB25: 4 | AD25: 42 | AE25: 33 | AF25: 31 | AG25: 17 | AH25: 5 | AI25: 14 | AL25: =IF(AND(J25=0,N25>0),"Nurodykite organizacijų skaičių, nes eilutėje yra sportuojančiųjų!",IF(O25>N25,"Klaida! Negali būti moterų daugiau nei iš viso buvo sportuojančiųjų!",IF(R25>Q25,"Klaida! Negali būti daugiau moterų nei iš viso buvo dalyvių aukšto meistriškumo varžybose!",IF(U25>T25,"Klaida! Negali būti daugiau moterų nei iš viso buvo dalyvių fizinio aktyvumo renginuose!",""))))
A26: 3. | B26: Miestų, rajonų sporto federacijos, sąjungos, asociacijos, komitetai* | J26: 14 | N26: =SUM(K26:M26) -> 0 | P26: 97 | Q26: 3792 | R26: 597 | S26: 56 | T26: 2117 | U26: 750 | V26: 15 | W26: 102 | X26: 160 | Y26: 10 | Z26: 117 | AL26: =IF(AND(J26=0,N26>0),"Nurodykite organizacijų skaičių, nes eilutėje yra sportuojančiųjų!",IF(O26>N26,"Klaida! Negali būti moterų daugiau nei iš viso buvo sportuojančiųjų!",IF(R26>Q26,"Klaida! Negali būti daugiau moterų nei iš viso buvo dalyvių aukšto meistriškumo varžybose!",IF(U26>T26,"Klaida! Negali būti daugiau moterų nei iš viso buvo dalyvių fizinio aktyvumo renginuose!",""))))
A27: 4. | B27: Sporto įmonės (AB, UAB) | N27: =SUM(K27:M27) -> 0 | AL27: =IF(AND(J27=0,N27>0),"Nurodykite organizacijų skaičių, nes eilutėje yra sportuojančiųjų!",IF(O27>N27,"Klaida! Negali būti moterų daugiau nei iš viso buvo sportuojančiųjų!",IF(R27>Q27,"Klaida! Negali būti daugiau moterų nei iš viso buvo dalyvių aukšto meistriškumo varžybose!",IF(U27>T27,"Klaida! Negali būti daugiau moterų nei iš viso buvo dalyvių fizinio aktyvumo renginuose!",""))))
A28: 5. | B28: Savivaldybės administracijos sporto padalinys | AL28: =IF(AND(J28=0,N28>0),"Nurodykite organizacijų skaičių, nes eilutėje yra sportuojančiųjų!",IF(O28>N28,"Klaida! Negali būti moterų daugiau nei iš viso buvo sportuojančiųjų!",IF(R28>Q28,"Klaida! Negali būti daugiau moterų nei iš viso buvo dalyvių aukšto meistriškumo varžybose!",IF(U28>T28,"Klaida! Negali būti daugiau moterų nei iš viso buvo dalyvių fizinio aktyvumo renginuose!",""))))
A29: 6. | B29: Sporto padalinio SUC | J29: 5 | K29: ='SUC1_B. duomenys'!C163 -> 3173 | L29: ='SUC1_B. duomenys'!D163 -> 48 | M29: ='SUC1_B. duomenys'!E163 -> 0 | N29: ='SUC1_B. duomenys'!F163 -> 3221 | O29: ='SUC1_B. duomenys'!G163 -> 995 | P29: ='SUC1_Kiti duom.'!J10 -> 263 | Q29: ='SUC1_Kiti duom.'!K10 -> 5567 | R29: ='SUC1_Kiti duom.'!L10 -> 2153 | S29: ='SUC1_Kiti duom.'!M10 -> 28 | T29: ='SUC1_Kiti duom.'!N10 -> 10147 | U29: ='SUC1_Kiti duom.'!O10 -> 5019 | V29: ='SUC1_Kiti duom.'!P10 -> 108 | W29: ='SUC1_Kiti duom.'!Q10 -> 644 | ... AI29: ='SUC1_Kiti duom.'!AC10 -> 21 | AL29: =IF(AND(J29=0,N29>0),"Nurodykite organizacijų skaičių, nes eilutėje yra sportuojančiųjų!",IF(O29>N29,"Klaida! Negali būti moterų daugiau nei iš viso buvo sportuojančiųjų!",IF(R29>Q29,"Klaida! Negali būti daugiau moterų nei iš viso buvo dalyvių aukšto meistriškumo varžybose!",IF(U29>T29,"Klaida! Negali būti daugiau moterų nei iš viso buvo dalyvių fizinio aktyvumo renginuose!",""))))
A30: 7. | B30: Švietimo padalinio SUC | J30: =IF(N30>0,1,"") | K30: ='SUC1_B. duomenys'!C164 -> 0 | L30: ='SUC1_B. duomenys'!D164 -> 0 | M30: ='SUC1_B. duomenys'!E164 -> 0 | N30: ='SUC1_B. duomenys'!F164 -> 0 | O30: ='SUC1_B. duomenys'!G164 -> 0 | P30: ='SUC1_Kiti duom.'!J11 -> 0 | Q30: ='SUC1_Kiti duom.'!K11 -> 0 | R30: ='SUC1_Kiti duom.'!L11 -> 0 | S30: ='SUC1_Kiti duom.'!M11 -> 0 | T30: ='SUC1_Kiti duom.'!N11 -> 0 | U30: ='SUC1_Kiti duom.'!O11 -> 0 | V30: ='SUC1_Kiti duom.'!P11 -> 0 | W30: ='SUC1_Kiti duom.'!Q11 -> 0 | ... AI30: ='SUC1_Kiti duom.'!AC11 -> 0 | AL30: =IF(AND(J30=0,N30>0),"Nurodykite organizacijų skaičių, nes eilutėje yra sportuojančiųjų!",IF(O30>N30,"Klaida! Negali būti moterų daugiau nei iš viso buvo sportuojančiųjų!",IF(R30>Q30,"Klaida! Negali būti daugiau moterų nei iš viso buvo dalyvių aukšto meistriškumo varžybose!",IF(U30>T30,"Klaida! Negali būti daugiau moterų nei iš viso buvo dalyvių fizinio aktyvumo renginuose!",""))))
A31: 8. | B31: Privatūs SUC | J31: =IF(N31>0,1,"") | K31: ='SUC1_B. duomenys'!C165 -> 0 | L31: ='SUC1_B. duomenys'!D165 -> 0 | M31: ='SUC1_B. duomenys'!E165 -> 0 | N31: ='SUC1_B. duomenys'!F165 -> 0 | O31: ='SUC1_B. duomenys'!G165 -> 0 | P31: ='SUC1_Kiti duom.'!J12 -> 0 | Q31: ='SUC1_Kiti duom.'!K12 -> 0 | R31: ='SUC1_Kiti duom.'!L12 -> 0 | S31: ='SUC1_Kiti duom.'!M12 -> 0 | T31: ='SUC1_Kiti duom.'!N12 -> 0 | U31: ='SUC1_Kiti duom.'!O12 -> 0 | V31: ='SUC1_Kiti duom.'!P12 -> 0 | W31: ='SUC1_Kiti duom.'!Q12 -> 0 | ... AI31: ='SUC1_Kiti duom.'!AC12 -> 0 | AL31: =IF(AND(J31=0,N31>0),"Nurodykite organizacijų skaičių, nes eilutėje yra sportuojančiųjų!",IF(O31>N31,"Klaida! Negali būti moterų daugiau nei iš viso buvo sportuojančiųjų!",IF(R31>Q31,"Klaida! Negali būti daugiau moterų nei iš viso buvo dalyvių aukšto meistriškumo varžybose!",IF(U31>T31,"Klaida! Negali būti daugiau moterų nei iš viso buvo dalyvių fizinio aktyvumo renginuose!",""))))
B32: Iš viso 2024 m.: | J32: =SUM(J24:J31) -> 78 | K32: =SUM(K24:K31) -> 11282 | L32: =SUM(L24:L31) -> 1645 | M32: =SUM(M24:M31) -> 2678 | N32: =SUM(N24:N31) -> 15605 | O32: =SUM(O24:O31) -> 5056 | P32: =SUM(P24:P31) -> 1147 | Q32: =SUM(Q24:Q31) -> 19546 | ... AI32: =SUM(AI24:AI31) -> 61
A34: * | B34: – klubai, įsteigti pagal Asociacijų įstatymą, ir universitetų sporto centrai, bendruomenės, jeigu jie turi įsteigę sekcijas, vykdo ir dalyvauja varžybose;
A35: ** – Aukšto meistriškumo sporto varžybos (toliau – sporto varžybos) – sporto šakos federacijos, kuri yra tarptautinės (pasaulio) sporto šakos federacijos narė, arba jos įgalioto juridinio asmens organizuojamas jaunių, jaunimo ar suaugusiųjų, išskyrus veteranus, amžiaus grupės sporto renginys arba tarptautinės aukšto meistriškumo sporto varžybos ar tarptautinių subjektų organizuojamos tarptautinės aukšto meistriškumo sporto varžybos, organizuojami kaip tos sporto šakos sporto varžybų sistemos sudedamoji dalis ir vykdomi pagal iš anksto paskelbtus nuostatus ir tarptautinės nevyriausybinės sporto organizacijos ar sporto šakos federacijos patvirtintas sporto šakos (-ų) taisykles (tiek, kiek tai neprieštarauja tarptautinės sporto šakos federacijos patvirtintoms taisyklėms).
A36: ** – Fizinio aktyvumo renginiai – mėgėjų sporto varžybos, sporto festivaliai, šventės, konkursai ir kitos visapusiško ugdymo, sveikatos stiprinimo ir palaikymo, ligų profilaktikos priemonės, skirtos įvairių socialinių grupių gyventojams (vaikams, mokiniams, studentams, neįgaliesiems, darbininkams, tarnautojams, pagyvenusiems žmonėms, veteranams), šių renginių pagrindinis tikslas yra ne sportinių rezultatų siekimas, o dalyvavimas. Renginiai susiję su fizine veikla, kuria siekiama stiprinti sveikatą, tobulinti fizines ir psichines savybes bei įgūdžius neturint tikslo pasirengti aukšto meistriškumo sporto varžyboms ir (ar) dalyvauti jose, taip pat veikla šviečiant visuomenę sporto, fizinio aktyvumo ir jais pasiekiamo sveikatos stiprinimo klausimais.
A37: **** | B37: – Aukšto meistriškumo sporto treniruočių stovyklos – aukšto meistriškumo sporto pratybų proceso dalis, kai vykdomas tikslingas apibrėžtos trukmės sportininko rengimas, siekiant įvertinti sportininko pasiektą parengtumo lygį ir šį lygį pakelti prieš konkrečias aukšto meistriškumo sporto varžybas.
A38: ***** – stovyklose dalyvavusiųjų skaičius, kur tas pats asmuo kiekvieną dieną laikomas atskiru dalyviu (pvz. 2 dienų stovykloje dalyvavo
B39: 48 asmenys tokiu atveju iš viso būtų 96 dalyviai, o jei 5 d. dalyvavo 3 asmenys, iš viso būtų 15 dalyvių).
A40: ****** – dalyvavę mokymo plaukti pratybose ir išmokę nuplaukti 25 m.
A41: SUC | B41: – sportininkų ugdymo centras (sporto mokymo įstaiga, sporto centras ir pan.).
A43: Statistinės ataskaitos formos Nr. KKS-1, 1 lentelės rodiklių aprašymas
A44: 1 eilutėje skaičiuoti tik klubus, įsteigtus ir veikiančius pagal Lietuvos Respublikos asociacijų įstatymą, taip pat aukštųjų mokyklų sporto centrus, jeigu jie atlieka sporto klubams būdingas funkcijas;
A45: 6 eilutės „Sporto padalinio sportininkų ugdymo centrai“, 7 eilutės „Švietimo padalinio sportininkų ugdymo centrai“ ir 8 eilutės „Privatūs sportininkų ugdymo centrai“ 7 skilties „Sportuojančiųjų skaičius“ skaičių suma atitinka 2.3 lentelės „Sportuojantieji ir treneriai (pagal sporto šakas)“ eilutės „IŠ VISO“ 6 skiltį „Sportininkų ugdymo centruose“.
A46: Skiltyse „Surengta“, „Išmokyta plaukti“ ir „Parengta“ rodoma tik tai, kiek pati organizacija surengė varžybų, stovyklų, kitų renginių bei parengė sportininkų (pagal varžybų, renginių protokolus, kitus apskaitos dokumentus). Parengtus įvairių šalies rinktinių narius įsirašo ta organizacija, kuri yra sportininko trenerio pagrindinė darbovietė.
A47: Jei Sportininkų ugdymo centrui yra pavesta vykdyti ir savivaldybės administracijos sporto padalinio funkcijas – duomenys turi būti pildomi 6 eilutėje „Sporto padalinio sportininkų ugdymo centrai (SUC)“ tačiau jei buvo vykdomi renginiai, kuriuose dalyvavo ne tik „Sporto padalinio sportininkų ugdymo centro (SUC)“ moksleiviai, tai tie duomenys pildomi 5 eilutėje „Savivaldybės sporto padalinys“.

Sheet 2.1.Darbuotojai
A1: ='KKS1_1.Duomenys apie org.'!A13:AI13 -> Klaipėdos miesto savivaldybės administracijos Kultūros, sporto ir turizmo departamento Sporto, jaunimo ir bendruomeninių reikalų skyrius
A2: (miesto (rajono) savivaldybės sporto padalinio pavadinimas)
A3: 2. DARBUOTOJAI
A4: 2.1. BENDRIEJI DUOMENYS APIE DARBUOTOJUS | AQ4: Forma Nr. KKS-1
A5: Eil. Nr. | B5: Organizacijų pavadinimai | C5: Iš viso (5, 16, 20, 23 skilčių suma) | D5: Iš jų moterų (6, 17, 21, 24 skilčių suma) | E5: SPORTO SRITIES DARBUOTOJAI | AO5: Kiti darbuotojai | AQ5: Savanoriai
E6: Aukštasis meistriškumas (AM) | W6: Fizinis aktyvumas (FA) | AH6: KITI SPORTO SPECIALISTAI
E7: AM Sporto treneriai | Q7: AM Sporto instruktoriai | W7: FA treneriai | AB7: FA instruktoriai
E8: Iš viso | F8: Iš jų moterų | G8: Neturi kvalifikacinės kategorijos | H8: Turi kvalifikacines kategorijas | N8: Turi aukštąjį sporto studijų krypties išsilavinimą | O8: Baigęs mokymus aukštojoje mokykloje | P8: Turi veiklos leidimą | Q8: Iš viso | R8: Iš jų moterų | S8: Turi aukštąjį sporto studijų krypties išsilavinimą | T8: Baigęs mokymus aukštojoje mokykloje | U8: Studijuojantis sporto arba fiz. aktyvumo krypties studijų programą | V8: Turi veiklos leidimą | W8: Iš viso | X8: Iš jų moterų | Y8: Turi aukštąjį sporto studijų krypties išsilavinimą | Z8: Baigęs mokymus aukštojoje mokykloje | AA8: Turi veiklos leidimą | AB8: Iš viso | AC8: Iš jų moterų | AD8: Turi aukštąjį sporto studijų krypties išsilavinimą | AE8: Baigęs mokymus aukštojoje mokykloje | AF8: Studijuojantis sporto arba fiz. aktyvumo krypties studijų programą | AG8: Turi veiklos leidimą
H9: Pirma | I9: Antra | J9: Trečia | K9: Ketvirta | L9: Penkta | M9: Šešta | AH9: Fizinio ugdymo mokytojai, dėstytojai, lektoriai* | AL9: Sporto vadybininkai (organizatoriai) | AS9: =IF('2.3Sportuojantieji ir tr.'!AP144>AQ24,"Klaida! Negali būti 43 stulpelyje savanorių mažiau nei išdėstyta savanorių pagal sporto šakas 2.2 ir 2.3 lentelėse!","")
AH10: Iš viso | AI10: Iš jų moterų | AJ10: Turi aukštąjį sporto studijų krypties išsilavinimą | AK10: Turi veiklos leidimą | AL10: Iš viso | AM10: Iš jų moterų | AN10: Turi aukštąjį sporto studijų krypties išsilavinimą | AO10: Iš viso | AP10: Iš jų moterų
A11: 1 | B11: 2 | C11: 3 | D11: 4 | E11: 5 | F11: 6 | G11: 7 | H11: 8 | I11: 9 | J11: 10 | K11: 11 | L11: 12 | M11: 13 | N11: 14 | O11: 15 | P11: 16 | Q11: 17 | R11: 18 | S11: 19 | T11: 20 | U11: 21 | V11: 22 | W11: 23 | X11: 24 | Y11: 25 | Z11: 26 | AA11: 27 | AB11: 28 | AC11: 29 | AD11: 30 | AE11: 31 | AF11: 32 | AG11: 33 | AH11: 34 | AI11: 35 | AJ11: 36 | AK11: 37 | AL11: 38 | AM11: 39 | AN11: 40 | AO11: 41 | AP11: 42 | AQ11: 43
A12: 1. | B12: Sporto klubai | C12: =E12+Q12+W12+AB12+AH12+AL12+AO12 -> 119 | D12: =F12+R12+X12+AC12+AI12+AM12+AP12 -> 39 | E12: 57 | F12: 18 | G12: =E12-SUM(H12:M12) -> 35 | H12: 5 | I12: 8 | J12: 5 | K12: 3 | M12: 1 | N12: 32 | O12: 5 | P12: 14 | Q12: 6 | R12: 5 | S12: 4 | V12: 2 | W12: 7 | X12: 4 | Y12: 5 | AA12: 2 | AB12: 11 | AC12: 2 | AE12: 3 | AG12: 3 | AH12: =AJ12+AK12 -> 0 | AL12: 21 | AM12: 10 | AN12: 12 | AO12: 17 | AQ12: 59 | AS12: =IF(F12>E12,"Klaida! Negali būti moterų daugiau nei iš viso buvo trenerių/AM specialistų!",IF(H12+I12+J12+K12+L12+M12>E12,"Klaida! Negali būti daugiau kvalifikacinių kategorijų nei iš viso buvo trenerių/AM specialistų!",IF(N12+O12+P12>E12,"Klaida! Negali būti išsilavinimų, veklos leidimų ir t.t. daugiau negu buvo trenerių/AM specialistų!",IF(AI12>AH12,"Klaida! Negali būti daugiau moterų nei iš viso buvo fizinio ugdymo mokytojų, dėstytojų, lektorių!",IF(AM12>AL12,"Klaida! Negali būti daugiau moterų nei iš viso buvo sporto vadybininkų!",IF(AP12>AO12,"Klaida! Negali būti daugiau moterų nei iš viso buvo kitų darbuotojų!",IF(R12>Q12,"Klaida! Negali būti moterų daugiau nei iš viso buvo AM sporto instruktorių!",IF(S12+T12+U12+V12>Q12,"Klaida! Negali būti išsilavinimų, veklos leidimų ir t.t. daugiau negu AM spoto instruktorių!",IF(X12>W12,"Klaida! Negali būti moterų daugiau nei iš viso buvo FA specialistų!",IF(Y12+Z12+AA12>W12,"Klaida! Negali būti išsilavinimų, veklos leidimų ir t.t. daugiau negu buvo FA specialistų!",IF(AC12>AB12,"Klaida! Negali būti moterų daugiau nei iš viso buvo FA instruktorių!",IF(AD12+AE12+AF12+AG12>AB12,"Klaida! Negali būti išsilavinimų, veklos leidimų ir t.t. daugiau negu buvo FA instruktorių!",IF(AJ12+AK12>AH12,"Klaida! Negali būti išsilavinimų arba veklos leidimų daugiau nei iš viso buvo fizinio ugdymo mokytojų, dėstytojų, lektorių!",IF(AN12>AL12,"Klaida! Negali būti išsilavinimų daugiau negu sporto vadybininkų!",""))))))))))))))
A13: 2. | B13: Sporto viešosios įstaigos | C13: =E13+Q13+W13+AB13+AH13+AL13+AO13 -> 213 | D13: =F13+R13+X13+AC13+AI13+AM13+AP13 -> 46 | E13: 72 | F13: 18 | G13: =E13-SUM(H13:M13) -> 59 | H13: 7 | I13: 2 | J13: 1 | L13: 2 | M13: 1 | N13: 43 | P13: 3 | Q13: 11 | S13: 3 | T13: 2 | U13: 1 | W13: 31 | X13: 16 | Y13: 25 | Z13: 2 | AA13: 2 | AB13: 5 | AD13: 2 | AF13: 3 | AH13: =AJ13+AK13 -> 0 | AL13: 34 | AM13: 12 | AN13: 18 | AO13: 60 | AQ13: 121 | AS13: =IF(F13>E13,"Klaida! Negali būti moterų daugiau nei iš viso buvo trenerių/AM specialistų!",IF(H13+I13+J13+K13+L13+M13>E13,"Klaida! Negali būti daugiau kvalifikacinių kategorijų nei iš viso buvo trenerių/AM specialistų!",IF(N13+O13+P13>E13,"Klaida! Negali būti išsilavinimų, veklos leidimų ir t.t. daugiau negu buvo trenerių/AM specialistų!",IF(AI13>AH13,"Klaida! Negali būti daugiau moterų nei iš viso buvo fizinio ugdymo mokytojų, dėstytojų, lektorių!",IF(AM13>AL13,"Klaida! Negali būti daugiau moterų nei iš viso buvo sporto vadybininkų!",IF(AP13>AO13,"Klaida! Negali būti daugiau moterų nei iš viso buvo kitų darbuotojų!",IF(R13>Q13,"Klaida! Negali būti moterų daugiau nei iš viso buvo AM sporto instruktorių!",IF(S13+T13+U13+V13>Q13,"Klaida! Negali būti išsilavinimų, veklos leidimų ir t.t. daugiau negu AM spoto instruktorių!",IF(X13>W13,"Klaida! Negali būti moterų daugiau nei iš viso buvo FA specialistų!",IF(Y13+Z13+AA13>W13,"Klaida! Negali būti išsilavinimų, veklos leidimų ir t.t. daugiau negu buvo FA specialistų!",IF(AC13>AB13,"Klaida! Negali būti moterų daugiau nei iš viso buvo FA instruktorių!",IF(AD13+AE13+AF13+AG13>AB13,"Klaida! Negali būti išsilavinimų, veklos leidimų ir t.t. daugiau negu buvo FA instruktorių!",IF(AJ13+AK13>AH13,"Klaida! Negali būti išsilavinimų arba veklos leidimų daugiau nei iš viso buvo fizinio ugdymo mokytojų, dėstytojų, lektorių!",IF(AN13>AL13,"Klaida! Negali būti išsilavinimų daugiau negu sporto vadybininkų!",""))))))))))))))
A14: 3. | B14: Miestų, rajonų sporto federacijos, sąjungos, asociacijos | C14: =E14+Q14+W14+AB14+AH14+AL14+AO14 -> 0 | D14: =F14+R14+X14+AC14+AI14+AM14+AP14 -> 0 | G14: =E14-SUM(H14:M14) -> 0 | Q14: =S14+T14+U14+V14 -> 0 | W14: =Y14+Z14+AA14 -> 0 | AB14: =AD14+AE14+AF14+AG14 -> 0 | AH14: =AJ14+AK14 -> 0 | AL14: =AN14 -> 0 | AO14: =AP14 -> 0 | AS14: =IF(F14>E14,"Klaida! Negali būti moterų daugiau nei iš viso buvo trenerių/AM specialistų!",IF(H14+I14+J14+K14+L14+M14>E14,"Klaida! Negali būti daugiau kvalifikacinių kategorijų nei iš viso buvo trenerių/AM specialistų!",IF(N14+O14+P14>E14,"Klaida! Negali būti išsilavinimų, veklos leidimų ir t.t. daugiau negu buvo trenerių/AM specialistų!",IF(AI14>AH14,"Klaida! Negali būti daugiau moterų nei iš viso buvo fizinio ugdymo mokytojų, dėstytojų, lektorių!",IF(AM14>AL14,"Klaida! Negali būti daugiau moterų nei iš viso buvo sporto vadybininkų!",IF(AP14>AO14,"Klaida! Negali būti daugiau moterų nei iš viso buvo kitų darbuotojų!",IF(R14>Q14,"Klaida! Negali būti moterų daugiau nei iš viso buvo AM sporto instruktorių!",IF(S14+T14+U14+V14>Q14,"Klaida! Negali būti išsilavinimų, veklos leidimų ir t.t. daugiau negu AM spoto instruktorių!",IF(X14>W14,"Klaida! Negali būti moterų daugiau nei iš viso buvo FA specialistų!",IF(Y14+Z14+AA14>W14,"Klaida! Negali būti išsilavinimų, veklos leidimų ir t.t. daugiau negu buvo FA specialistų!",IF(AC14>AB14,"Klaida! Negali būti moterų daugiau nei iš viso buvo FA instruktorių!",IF(AD14+AE14+AF14+AG14>AB14,"Klaida! Negali būti išsilavinimų, veklos leidimų ir t.t. daugiau negu buvo FA instruktorių!",IF(AJ14+AK14>AH14,"Klaida! Negali būti išsilavinimų arba veklos leidimų daugiau nei iš viso buvo fizinio ugdymo mokytojų, dėstytojų, lektorių!",IF(AN14>AL14,"Klaida! Negali būti išsilavinimų daugiau negu sporto vadybininkų!",""))))))))))))))
A15: 4. | B15: Sporto įmonės (AB, UAB) | C15: =E15+Q15+W15+AB15+AH15+AL15+AO15 -> 0 | D15: =F15+R15+X15+AC15+AI15+AM15+AP15 -> 0 | G15: =E15-SUM(H15:M15) -> 0 | Q15: =S15+T15+U15+V15 -> 0 | W15: =Y15+Z15+AA15 -> 0 | AB15: =AD15+AE15+AF15+AG15 -> 0 | AH15: =AJ15+AK15 -> 0 | AL15: =AN15 -> 0 | AO15: =AP15 -> 0 | AS15: =IF(F15>E15,"Klaida! Negali būti moterų daugiau nei iš viso buvo trenerių/AM specialistų!",IF(H15+I15+J15+K15+L15+M15>E15,"Klaida! Negali būti daugiau kvalifikacinių kategorijų nei iš viso buvo trenerių/AM specialistų!",IF(N15+O15+P15>E15,"Klaida! Negali būti išsilavinimų, veklos leidimų ir t.t. daugiau negu buvo trenerių/AM specialistų!",IF(AI15>AH15,"Klaida! Negali būti daugiau moterų nei iš viso buvo fizinio ugdymo mokytojų, dėstytojų, lektorių!",IF(AM15>AL15,"Klaida! Negali būti daugiau moterų nei iš viso buvo sporto vadybininkų!",IF(AP15>AO15,"Klaida! Negali būti daugiau moterų nei iš viso buvo kitų darbuotojų!",IF(R15>Q15,"Klaida! Negali būti moterų daugiau nei iš viso buvo AM sporto instruktorių!",IF(S15+T15+U15+V15>Q15,"Klaida! Negali būti išsilavinimų, veklos leidimų ir t.t. daugiau negu AM spoto instruktorių!",IF(X15>W15,"Klaida! Negali būti moterų daugiau nei iš viso buvo FA specialistų!",IF(Y15+Z15+AA15>W15,"Klaida! Negali būti išsilavinimų, veklos leidimų ir t.t. daugiau negu buvo FA specialistų!",IF(AC15>AB15,"Klaida! Negali būti moterų daugiau nei iš viso buvo FA instruktorių!",IF(AD15+AE15+AF15+AG15>AB15,"Klaida! Negali būti išsilavinimų, veklos leidimų ir t.t. daugiau negu buvo FA instruktorių!",IF(AJ15+AK15>AH15,"Klaida! Negali būti išsilavinimų arba veklos leidimų daugiau nei iš viso buvo fizinio ugdymo mokytojų, dėstytojų, lektorių!",IF(AN15>AL15,"Klaida! Negali būti išsilavinimų daugiau negu sporto vadybininkų!",""))))))))))))))
A16: 5. | B16: Savivaldybės administracijos sporto padalinys | C16: =E16+Q16+W16+AB16+AH16+AL16+AO16 -> 0 | D16: =F16+R16+X16+AC16+AI16+AM16+AP16 -> 0 | G16: =E16-SUM(H16:M16) -> 0 | Q16: =S16+T16+U16+V16 -> 0 | W16: =Y16+Z16+AA16 -> 0 | AB16: =AD16+AE16+AF16+AG16 -> 0 | AH16: =AJ16+AK16 -> 0 | AL16: =AN16 -> 0 | AO16: =AP16 -> 0 | AS16: =IF(F16>E16,"Klaida! Negali būti moterų daugiau nei iš viso buvo trenerių/AM specialistų!",IF(H16+I16+J16+K16+L16+M16>E16,"Klaida! Negali būti daugiau kvalifikacinių kategorijų nei iš viso buvo trenerių/AM specialistų!",IF(N16+O16+P16>E16,"Klaida! Negali būti išsilavinimų, veklos leidimų ir t.t. daugiau negu buvo trenerių/AM specialistų!",IF(AI16>AH16,"Klaida! Negali būti daugiau moterų nei iš viso buvo fizinio ugdymo mokytojų, dėstytojų, lektorių!",IF(AM16>AL16,"Klaida! Negali būti daugiau moterų nei iš viso buvo sporto vadybininkų!",IF(AP16>AO16,"Klaida! Negali būti daugiau moterų nei iš viso buvo kitų darbuotojų!",IF(R16>Q16,"Klaida! Negali būti moterų daugiau nei iš viso buvo AM sporto instruktorių!",IF(S16+T16+U16+V16>Q16,"Klaida! Negali būti išsilavinimų, veklos leidimų ir t.t. daugiau negu AM spoto instruktorių!",IF(X16>W16,"Klaida! Negali būti moterų daugiau nei iš viso buvo FA specialistų!",IF(Y16+Z16+AA16>W16,"Klaida! Negali būti išsilavinimų, veklos leidimų ir t.t. daugiau negu buvo FA specialistų!",IF(AC16>AB16,"Klaida! Negali būti moterų daugiau nei iš viso buvo FA instruktorių!",IF(AD16+AE16+AF16+AG16>AB16,"Klaida! Negali būti išsilavinimų, veklos leidimų ir t.t. daugiau negu buvo FA instruktorių!",IF(AJ16+AK16>AH16,"Klaida! Negali būti išsilavinimų arba veklos leidimų daugiau nei iš viso buvo fizinio ugdymo mokytojų, dėstytojų, lektorių!",IF(AN16>AL16,"Klaida! Negali būti išsilavinimų daugiau negu sporto vadybininkų!",""))))))))))))))
A17: 6. | B17: Sporto padalinio SUC | C17: =E17+Q17+W17+AB17+AH17+AL17+AO17 -> 259 | D17: =F17+R17+X17+AC17+AI17+AM17+AP17 -> 121 | E17: =SUC1_Treneriai!C143 -> 116 | F17: =SUC1_Treneriai!D143 -> 51 | G17: =E17-SUM(H17:M17) -> 25 | H17: =SUC1_Treneriai!F143 -> 3 | I17: =SUC1_Treneriai!G143 -> 34 | J17: =SUC1_Treneriai!H143 -> 29 | K17: =SUC1_Treneriai!I143 -> 15 | L17: =SUC1_Treneriai!J143 -> 8 | M17: =SUC1_Treneriai!K143 -> 2 | N17: =SUC1_Treneriai!L143 -> 98 | O17: =SUC1_Treneriai!M143 -> 1 | ... AG17: =SUC1_Treneriai!AE143 -> 0 | AL17: ='SUC1_Kiti duom.'!E10 -> 76 | AM17: ='SUC1_Kiti duom.'!F10 -> 27 | AN17: ='SUC1_Kiti duom.'!G10 -> 3 | AO17: ='SUC1_Kiti duom.'!H10 -> 66 | AP17: ='SUC1_Kiti duom.'!I10 -> 43 | AQ17: =SUC1_Treneriai!AF143 -> 52 | AS17: =IF(F17>E17,"Klaida! Negali būti moterų daugiau nei iš viso buvo trenerių/AM specialistų!",IF(H17+I17+J17+K17+L17+M17>E17,"Klaida! Negali būti daugiau kvalifikacinių kategorijų nei iš viso buvo trenerių/AM specialistų!",IF(N17+O17+P17>E17,"Klaida! Negali būti išsilavinimų, veklos leidimų ir t.t. daugiau negu buvo trenerių/AM specialistų!",IF(AI17>AH17,"Klaida! Negali būti daugiau moterų nei iš viso buvo fizinio ugdymo mokytojų, dėstytojų, lektorių!",IF(AM17>AL17,"Klaida! Negali būti daugiau moterų nei iš viso buvo sporto vadybininkų!",IF(AP17>AO17,"Klaida! Negali būti daugiau moterų nei iš viso buvo kitų darbuotojų!",IF(R17>Q17,"Klaida! Negali būti moterų daugiau nei iš viso buvo AM sporto instruktorių!",IF(S17+T17+U17+V17>Q17,"Klaida! Negali būti išsilavinimų, veklos leidimų ir t.t. daugiau negu AM spoto instruktorių!",IF(X17>W17,"Klaida! Negali būti moterų daugiau nei iš viso buvo FA specialistų!",IF(Y17+Z17+AA17>W17,"Klaida! Negali būti išsilavinimų, veklos leidimų ir t.t. daugiau negu buvo FA specialistų!",IF(AC17>AB17,"Klaida! Negali būti moterų daugiau nei iš viso buvo FA instruktorių!",IF(AD17+AE17+AF17+AG17>AB17,"Klaida! Negali būti išsilavinimų, veklos leidimų ir t.t. daugiau negu buvo FA instruktorių!",IF(AJ17+AK17>AH17,"Klaida! Negali būti išsilavinimų arba veklos leidimų daugiau nei iš viso buvo fizinio ugdymo mokytojų, dėstytojų, lektorių!",IF(AN17>AL17,"Klaida! Negali būti išsilavinimų daugiau negu sporto vadybininkų!",""))))))))))))))
A18: 7. | B18: Švietimo padalinio SUC | C18: =E18+Q18+W18+AB18+AH18+AL18+AO18 -> 0 | D18: =F18+R18+X18+AC18+AI18+AM18+AP18 -> 0 | E18: =SUC1_Treneriai!C144 -> 0 | F18: =SUC1_Treneriai!D144 -> 0 | G18: =E18-SUM(H18:M18) -> 0 | H18: =SUC1_Treneriai!F144 -> 0 | I18: =SUC1_Treneriai!G144 -> 0 | J18: =SUC1_Treneriai!H144 -> 0 | K18: =SUC1_Treneriai!I144 -> 0 | L18: =SUC1_Treneriai!J144 -> 0 | M18: =SUC1_Treneriai!K144 -> 0 | N18: =SUC1_Treneriai!L144 -> 0 | O18: =SUC1_Treneriai!M144 -> 0 | ... AG18: =SUC1_Treneriai!AE144 -> 0 | AL18: ='SUC1_Kiti duom.'!E11 -> 0 | AM18: ='SUC1_Kiti duom.'!F11 -> 0 | AN18: ='SUC1_Kiti duom.'!G11 -> 0 | AO18: ='SUC1_Kiti duom.'!H11 -> 0 | AP18: ='SUC1_Kiti duom.'!I11 -> 0 | AQ18: =SUC1_Treneriai!AF144 -> 0 | AS18: =IF(F18>E18,"Klaida! Negali būti moterų daugiau nei iš viso buvo trenerių/AM specialistų!",IF(H18+I18+J18+K18+L18+M18>E18,"Klaida! Negali būti daugiau kvalifikacinių kategorijų nei iš viso buvo trenerių/AM specialistų!",IF(N18+O18+P18>E18,"Klaida! Negali būti išsilavinimų, veklos leidimų ir t.t. daugiau negu buvo trenerių/AM specialistų!",IF(AI18>AH18,"Klaida! Negali būti daugiau moterų nei iš viso buvo fizinio ugdymo mokytojų, dėstytojų, lektorių!",IF(AM18>AL18,"Klaida! Negali būti daugiau moterų nei iš viso buvo sporto vadybininkų!",IF(AP18>AO18,"Klaida! Negali būti daugiau moterų nei iš viso buvo kitų darbuotojų!",IF(R18>Q18,"Klaida! Negali būti moterų daugiau nei iš viso buvo AM sporto instruktorių!",IF(S18+T18+U18+V18>Q18,"Klaida! Negali būti išsilavinimų, veklos leidimų ir t.t. daugiau negu AM spoto instruktorių!",IF(X18>W18,"Klaida! Negali būti moterų daugiau nei iš viso buvo FA specialistų!",IF(Y18+Z18+AA18>W18,"Klaida! Negali būti išsilavinimų, veklos leidimų ir t.t. daugiau negu buvo FA specialistų!",IF(AC18>AB18,"Klaida! Negali būti moterų daugiau nei iš viso buvo FA instruktorių!",IF(AD18+AE18+AF18+AG18>AB18,"Klaida! Negali būti išsilavinimų, veklos leidimų ir t.t. daugiau negu buvo FA instruktorių!",IF(AJ18+AK18>AH18,"Klaida! Negali būti išsilavinimų arba veklos leidimų daugiau nei iš viso buvo fizinio ugdymo mokytojų, dėstytojų, lektorių!",IF(AN18>AL18,"Klaida! Negali būti išsilavinimų daugiau negu sporto vadybininkų!",""))))))))))))))
A19: 8. | B19: Privačios SUC | C19: =E19+Q19+W19+AB19+AH19+AL19+AO19 -> 0 | D19: =F19+R19+X19+AC19+AI19+AM19+AP19 -> 0 | E19: =SUC1_Treneriai!C145 -> 0 | F19: =SUC1_Treneriai!D145 -> 0 | G19: =E19-SUM(H19:M19) -> 0 | H19: =SUC1_Treneriai!F145 -> 0 | I19: =SUC1_Treneriai!G145 -> 0 | J19: =SUC1_Treneriai!H145 -> 0 | K19: =SUC1_Treneriai!I145 -> 0 | L19: =SUC1_Treneriai!J145 -> 0 | M19: =SUC1_Treneriai!K145 -> 0 | N19: =SUC1_Treneriai!L145 -> 0 | O19: =SUC1_Treneriai!M145 -> 0 | ... AG19: =SUC1_Treneriai!AE145 -> 0 | AL19: ='SUC1_Kiti duom.'!E12 -> 0 | AM19: ='SUC1_Kiti duom.'!F12 -> 0 | AN19: ='SUC1_Kiti duom.'!G12 -> 0 | AO19: ='SUC1_Kiti duom.'!H12 -> 0 | AP19: ='SUC1_Kiti duom.'!I12 -> 0 | AQ19: =SUC1_Treneriai!AF145 -> 0 | AS19: =IF(F19>E19,"Klaida! Negali būti moterų daugiau nei iš viso buvo trenerių/AM specialistų!",IF(H19+I19+J19+K19+L19+M19>E19,"Klaida! Negali būti daugiau kvalifikacinių kategorijų nei iš viso buvo trenerių/AM specialistų!",IF(N19+O19+P19>E19,"Klaida! Negali būti išsilavinimų, veklos leidimų ir t.t. daugiau negu buvo trenerių/AM specialistų!",IF(AI19>AH19,"Klaida! Negali būti daugiau moterų nei iš viso buvo fizinio ugdymo mokytojų, dėstytojų, lektorių!",IF(AM19>AL19,"Klaida! Negali būti daugiau moterų nei iš viso buvo sporto vadybininkų!",IF(AP19>AO19,"Klaida! Negali būti daugiau moterų nei iš viso buvo kitų darbuotojų!",IF(R19>Q19,"Klaida! Negali būti moterų daugiau nei iš viso buvo AM sporto instruktorių!",IF(S19+T19+U19+V19>Q19,"Klaida! Negali būti išsilavinimų, veklos leidimų ir t.t. daugiau negu AM spoto instruktorių!",IF(X19>W19,"Klaida! Negali būti moterų daugiau nei iš viso buvo FA specialistų!",IF(Y19+Z19+AA19>W19,"Klaida! Negali būti išsilavinimų, veklos leidimų ir t.t. daugiau negu buvo FA specialistų!",IF(AC19>AB19,"Klaida! Negali būti moterų daugiau nei iš viso buvo FA instruktorių!",IF(AD19+AE19+AF19+AG19>AB19,"Klaida! Negali būti išsilavinimų, veklos leidimų ir t.t. daugiau negu buvo FA instruktorių!",IF(AJ19+AK19>AH19,"Klaida! Negali būti išsilavinimų arba veklos leidimų daugiau nei iš viso buvo fizinio ugdymo mokytojų, dėstytojų, lektorių!",IF(AN19>AL19,"Klaida! Negali būti išsilavinimų daugiau negu sporto vadybininkų!",""))))))))))))))
A20: 9. | B20: Bendrojo ugdymo mokyklos (fizinio ugdymo mokytojai) | C20: =E20+Q20+W20+AB20+AH20+AL20+AO20 -> 85 | D20: =F20+R20+X20+AC20+AI20+AM20+AP20 -> 42 | AH20: 85 | AI20: 42 | AJ20: 85 | AK20: 0 | AS20: =IF(F20>E20,"Klaida! Negali būti moterų daugiau nei iš viso buvo trenerių/AM specialistų!",IF(H20+I20+J20+K20+L20+M20>E20,"Klaida! Negali būti daugiau kvalifikacinių kategorijų nei iš viso buvo trenerių/AM specialistų!",IF(N20+O20+P20>E20,"Klaida! Negali būti išsilavinimų, veklos leidimų ir t.t. daugiau negu buvo trenerių/AM specialistų!",IF(AI20>AH20,"Klaida! Negali būti daugiau moterų nei iš viso buvo fizinio ugdymo mokytojų, dėstytojų, lektorių!",IF(AM20>AL20,"Klaida! Negali būti daugiau moterų nei iš viso buvo sporto vadybininkų!",IF(AP20>AO20,"Klaida! Negali būti daugiau moterų nei iš viso buvo kitų darbuotojų!",IF(R20>Q20,"Klaida! Negali būti moterų daugiau nei iš viso buvo AM sporto instruktorių!",IF(S20+T20+U20+V20>Q20,"Klaida! Negali būti išsilavinimų, veklos leidimų ir t.t. daugiau negu AM spoto instruktorių!",IF(X20>W20,"Klaida! Negali būti moterų daugiau nei iš viso buvo FA specialistų!",IF(Y20+Z20+AA20>W20,"Klaida! Negali būti išsilavinimų, veklos leidimų ir t.t. daugiau negu buvo FA specialistų!",IF(AC20>AB20,"Klaida! Negali būti moterų daugiau nei iš viso buvo FA instruktorių!",IF(AD20+AE20+AF20+AG20>AB20,"Klaida! Negali būti išsilavinimų, veklos leidimų ir t.t. daugiau negu buvo FA instruktorių!",IF(AJ20+AK20>AH20,"Klaida! Negali būti išsilavinimų arba veklos leidimų daugiau nei iš viso buvo fizinio ugdymo mokytojų, dėstytojų, lektorių!",IF(AN20>AL20,"Klaida! Negali būti išsilavinimų daugiau negu sporto vadybininkų!",""))))))))))))))
A21: 10. | B21: Profesinio mokymo įstaigos (dėstytojai) | C21: =E21+Q21+W21+AB21+AH21+AL21+AO21 -> 11 | D21: =F21+R21+X21+AC21+AI21+AM21+AP21 -> 6 | AH21: 11 | AI21: 6 | AJ21: 11 | AK21: 0 | AS21: =IF(F21>E21,"Klaida! Negali būti moterų daugiau nei iš viso buvo trenerių/AM specialistų!",IF(H21+I21+J21+K21+L21+M21>E21,"Klaida! Negali būti daugiau kvalifikacinių kategorijų nei iš viso buvo trenerių/AM specialistų!",IF(N21+O21+P21>E21,"Klaida! Negali būti išsilavinimų, veklos leidimų ir t.t. daugiau negu buvo trenerių/AM specialistų!",IF(AI21>AH21,"Klaida! Negali būti daugiau moterų nei iš viso buvo fizinio ugdymo mokytojų, dėstytojų, lektorių!",IF(AM21>AL21,"Klaida! Negali būti daugiau moterų nei iš viso buvo sporto vadybininkų!",IF(AP21>AO21,"Klaida! Negali būti daugiau moterų nei iš viso buvo kitų darbuotojų!",IF(R21>Q21,"Klaida! Negali būti moterų daugiau nei iš viso buvo AM sporto instruktorių!",IF(S21+T21+U21+V21>Q21,"Klaida! Negali būti išsilavinimų, veklos leidimų ir t.t. daugiau negu AM spoto instruktorių!",IF(X21>W21,"Klaida! Negali būti moterų daugiau nei iš viso buvo FA specialistų!",IF(Y21+Z21+AA21>W21,"Klaida! Negali būti išsilavinimų, veklos leidimų ir t.t. daugiau negu buvo FA specialistų!",IF(AC21>AB21,"Klaida! Negali būti moterų daugiau nei iš viso buvo FA instruktorių!",IF(AD21+AE21+AF21+AG21>AB21,"Klaida! Negali būti išsilavinimų, veklos leidimų ir t.t. daugiau negu buvo FA instruktorių!",IF(AJ21+AK21>AH21,"Klaida! Negali būti išsilavinimų arba veklos leidimų daugiau nei iš viso buvo fizinio ugdymo mokytojų, dėstytojų, lektorių!",IF(AN21>AL21,"Klaida! Negali būti išsilavinimų daugiau negu sporto vadybininkų!",""))))))))))))))
A22: 11. | B22: Kolegijos (dėstytojai) | C22: =E22+Q22+W22+AB22+AH22+AL22+AO22 -> 1 | D22: =F22+R22+X22+AC22+AI22+AM22+AP22 -> 0 | AH22: 1 | AI22: 0 | AJ22: 1 | AK22: 0 | AS22: =IF(F22>E22,"Klaida! Negali būti moterų daugiau nei iš viso buvo trenerių/AM specialistų!",IF(H22+I22+J22+K22+L22+M22>E22,"Klaida! Negali būti daugiau kvalifikacinių kategorijų nei iš viso buvo trenerių/AM specialistų!",IF(N22+O22+P22>E22,"Klaida! Negali būti išsilavinimų, veklos leidimų ir t.t. daugiau negu buvo trenerių/AM specialistų!",IF(AI22>AH22,"Klaida! Negali būti daugiau moterų nei iš viso buvo fizinio ugdymo mokytojų, dėstytojų, lektorių!",IF(AM22>AL22,"Klaida! Negali būti daugiau moterų nei iš viso buvo sporto vadybininkų!",IF(AP22>AO22,"Klaida! Negali būti daugiau moterų nei iš viso buvo kitų darbuotojų!",IF(R22>Q22,"Klaida! Negali būti moterų daugiau nei iš viso buvo AM sporto instruktorių!",IF(S22+T22+U22+V22>Q22,"Klaida! Negali būti išsilavinimų, veklos leidimų ir t.t. daugiau negu AM spoto instruktorių!",IF(X22>W22,"Klaida! Negali būti moterų daugiau nei iš viso buvo FA specialistų!",IF(Y22+Z22+AA22>W22,"Klaida! Negali būti išsilavinimų, veklos leidimų ir t.t. daugiau negu buvo FA specialistų!",IF(AC22>AB22,"Klaida! Negali būti moterų daugiau nei iš viso buvo FA instruktorių!",IF(AD22+AE22+AF22+AG22>AB22,"Klaida! Negali būti išsilavinimų, veklos leidimų ir t.t. daugiau negu buvo FA instruktorių!",IF(AJ22+AK22>AH22,"Klaida! Negali būti išsilavinimų arba veklos leidimų daugiau nei iš viso buvo fizinio ugdymo mokytojų, dėstytojų, lektorių!",IF(AN22>AL22,"Klaida! Negali būti išsilavinimų daugiau negu sporto vadybininkų!",""))))))))))))))
A23: 12. | B23: Universitetai (dėstytojai) | C23: =E23+Q23+W23+AB23+AH23+AL23+AO23 -> 8 | D23: =F23+R23+X23+AC23+AI23+AM23+AP23 -> 5 | AH23: 8 | AI23: 5 | AJ23: 8 | AK23: 0 | AS23: =IF(F23>E23,"Klaida! Negali būti moterų daugiau nei iš viso buvo trenerių/AM specialistų!",IF(H23+I23+J23+K23+L23+M23>E23,"Klaida! Negali būti daugiau kvalifikacinių kategorijų nei iš viso buvo trenerių/AM specialistų!",IF(N23+O23+P23>E23,"Klaida! Negali būti išsilavinimų, veklos leidimų ir t.t. daugiau negu buvo trenerių/AM specialistų!",IF(AI23>AH23,"Klaida! Negali būti daugiau moterų nei iš viso buvo fizinio ugdymo mokytojų, dėstytojų, lektorių!",IF(AM23>AL23,"Klaida! Negali būti daugiau moterų nei iš viso buvo sporto vadybininkų!",IF(AP23>AO23,"Klaida! Negali būti daugiau moterų nei iš viso buvo kitų darbuotojų!",IF(R23>Q23,"Klaida! Negali būti moterų daugiau nei iš viso buvo AM sporto instruktorių!",IF(S23+T23+U23+V23>Q23,"Klaida! Negali būti išsilavinimų, veklos leidimų ir t.t. daugiau negu AM spoto instruktorių!",IF(X23>W23,"Klaida! Negali būti moterų daugiau nei iš viso buvo FA specialistų!",IF(Y23+Z23+AA23>W23,"Klaida! Negali būti išsilavinimų, veklos leidimų ir t.t. daugiau negu buvo FA specialistų!",IF(AC23>AB23,"Klaida! Negali būti moterų daugiau nei iš viso buvo FA instruktorių!",IF(AD23+AE23+AF23+AG23>AB23,"Klaida! Negali būti išsilavinimų, veklos leidimų ir t.t. daugiau negu buvo FA instruktorių!",IF(AJ23+AK23>AH23,"Klaida! Negali būti išsilavinimų arba veklos leidimų daugiau nei iš viso buvo fizinio ugdymo mokytojų, dėstytojų, lektorių!",IF(AN23>AL23,"Klaida! Negali būti išsilavinimų daugiau negu sporto vadybininkų!",""))))))))))))))
A24: Iš viso 2024 m.: | C24: =SUM(C12:C23) -> 696 | D24: =SUM(D12:D23) -> 259 | E24: =SUM(E12:E23) -> 245 | F24: =SUM(F12:F23) -> 87 | G24: =SUM(G12:G23) -> 119 | H24: =SUM(H12:H23) -> 15 | I24: =SUM(I12:I23) -> 44 | J24: =SUM(J12:J23) -> 35 | ... AQ24: =SUM(AQ12:AQ23) -> 232
A26: * – 34–37 skiltys pagal švietimo, mokslo ir studijų institucijų duomenis
A28: 2.3. lentelės „Sportuojantieji ir treneriai (pagal sporto šakas)“ IŠ VISO trenerių | E28: ='2.3Sportuojantieji ir tr.'!M144 -> 245 | F28: ='2.3Sportuojantieji ir tr.'!N144 -> 87 | G28: ='2.3Sportuojantieji ir tr.'!O144 -> 119 | H28: ='2.3Sportuojantieji ir tr.'!P144 -> 15 | I28: ='2.3Sportuojantieji ir tr.'!Q144 -> 44 | J28: ='2.3Sportuojantieji ir tr.'!R144 -> 35 | K28: ='2.3Sportuojantieji ir tr.'!S144 -> 18 | L28: ='2.3Sportuojantieji ir tr.'!T144 -> 10 | ... AG28: ='2.3Sportuojantieji ir tr.'!AO144 -> 3 | AI28: Trenerių skaičius turi sutapti su 2.1 lentelės IŠ VISO trenerių, specialistų, instruktorių skaičiumi
A29: 2.1. lent. IŠ VISO ir 2.3. lent. IŠ VISO skirtumas | E29: =E24-E28 -> 0 | F29: =F24-F28 -> 0 | G29: =G24-G28 -> 0 | H29: =H24-H28 -> 0 | I29: =I24-I28 -> 0 | J29: =J24-J28 -> 0 | K29: =K24-K28 -> 0 | L29: =L24-L28 -> 0 | ... AG29: =AG24-AG28 -> 0 | AI29: Skirtumo tarp lentelių duomenų neturi būti, todėl eilutėje turi būti matomi „0“
A31: Statistinės ataskaitos formos Nr. KKS-1, 2.1. lentelės rodiklių aprašymas
A32: 3 skiltyje „Iš viso“ sumuojami 5, 16, 20 ir 23 skilčių skaičiai. 9 eilutės „Bendrojo lavinimo mokyklos (fizinio ugdymo mokytojai)“, 10 eilutės „Profesinio mokymo įstaigos (dėstytojai)“, 11 eilutės „Aukštesniosios mokyklos (dėstytojai)“ ir 12 eilutės „Aukštosios mokyklos (dėstytojai)“ 3 skiltis „Iš viso“ yra lygi 16 skilties skaičiams.
A33: 7 skiltyje „Neturi kvalifikacinės kategorijos“ automatiškai paskaičiuojami treneriai/aukšto meistriškumo specialistai neturintys aukštojo sporto studijų krypties išsilavinimo ar veiklos pažymėjimo ir neįgiję kvalifikacinės kategorijos.
A34: 8-13 skiltyse „Turi kvalifikacines kategorijas“ nurodoma tik aukščiausia trenerio kategorija: Pastaba: Iki 2017-02-10 įgytos kvalifikacinėms kategorijoms prilyginamos tokiu principu: tarptautinės kategorijos trenerio (trenerio eksperto) kvalifikacinė kategorija prilyginama penktai kvalifikacinei kategorijai, nacionalinio sporto trenerio (trenerio metodininko) kvalifikacinė kategorija – trečiai kvalifikacinei kategorijai, Lietuvos sporto trenerio (vyresniojo trenerio) kvalifikacinė kategorija – pirmai kvalifikacinei kategorijai.
A35: 41 skiltyje „Kiti darbuotojai“ nurodomi kiti atlyginimą gaunantys darbuotojai (t. y. buhalteriai, vairuotojai, sandėlininkai, valytojos ir kt.).
A36: 43 skiltyje „Savanoriai“ nurodomi atlyginimo negaunantys treneriai, instruktoriai ir kiti darbuotojai. Šios skilties skaičiai nei 3 skiltyje „Iš viso“, nei 5 skiltyje „Iš viso“ nesumuojami.
A37: Eilutės „Iš viso 2021 m.“ 5–15 skilčių skaičiai atitinka 2.3 lentelės „Sportuojantieji ir treneriai (pagal sporto šakas)“ eilutės „IŠ VISO“ 13–23 skilčių skaičius.
A38: 5-16 skiltyse „Aukšto meistriškumo sporto treneris“ – asmuo, vadovaujantis sportininko (-ų) aukšto meistriškumo sporto pratyboms, rengiantis jį (juos) aukšto meistriškumo sporto varžyboms ir (ar) jam (jiems) vadovaujantis šiose varžybose.
A39: 17-22 ir 23-27 skiltyse „Fizinio aktyvumo ar aukšto meistriškumo sporto instruktorius" – asmuo, talkinantis fizinio aktyvumo ar aukšto meistriškumo sporto treneriui.
A40: 28-33 skiltyse „Fizinio aktyvumo treneris“ – asmuo, vadovaujantis asmens (-ų) fizinio aktyvumo veiklai ir (arba) šviečiantis visuomenę sporto, fizinio aktyvumo klausimais.
A41: „Aukšto meistriškumo sporto pratybos“ – aukšto meistriškumo sporto specialisto vadovaujama arba savarankiška veikla, kurios tikslas – pasirengti aukšto meistriškumo sporto varžyboms.
A42: „Fizinio aktyvumo pratybos“ – fizinio aktyvumo specialisto vadovaujama aktyvi fizinė asmens veikla, kurios tikslas nėra pasirengti aukšto meistriškumo sporto varžyboms ir (ar) dalyvauti jose.

Sheet 2.2 SK Sportuojantieji ir tr.
A1: ='KKS1_1.Duomenys apie org.'!A13:AI13 -> Klaipėdos miesto savivaldybės administracijos Kultūros, sporto ir turizmo departamento Sporto, jaunimo ir bendruomeninių reikalų skyrius
A2: (miesto (rajono) savivaldybės sporto padalinio pavadinimas)
A3: 2.2. SPORTO KLUBŲ IR KITŲ SPORTO ĮSTAIGŲ (BE SPORTO UGDYMO CENTRŲ) SPORTUOJANTIEJI IR TRENERIAI (pagal sporto šakas) | AK3: Forma Nr. KKS-1
A4: Eil. Nr. | B4: Sporto šaka (ir/arba disciplina) | C4: SPORTUOJANTIEJI (Sporto klubuose, sporto viešosiose įstaigose) | H4: Aukštasis meistriškumas (AM) | Z4: Fizinis aktyvumas (FA) | AK4: Savanoriai
C5: 18 metų ir jaunesni | D5: 19-29 metų | E5: 30 ir daugiau metų | F5: Iš viso | G5: Iš jų moterų | H5: AM Sporto treneriai | T5: AM Sporto instruktoriai | Z5: FA treneriai | AE5: FA instruktoriai
H6: Iš viso | I6: Iš jų moterų | J6: Neturi kvalifikacinės kategorijos | K6: Turi kvalifikacines kategorijas | Q6: Turi aukštąjį sporto studijų krypties išsilavinimą | R6: Baigęs mokymus aukštojoje mokykloje | S6: Turi veiklos leidimą | T6: Iš viso | U6: Iš jų moterų | V6: Turi aukštąjį sporto studijų krypties išsilavinimą | W6: Baigęs mokymus aukštojoje mokykloje | X6: Studijuojantis sporto arba fiz. aktyvumo krypties studijų programą | Y6: Turi veiklos leidimą | Z6: Iš viso | AA6: Iš jų moterų | AB6: Turi aukštąjį sporto studijų krypties išsilavinimą | AC6: Baigęs mokymus aukštojoje mokykloje | AD6: Turi veiklos leidimą | AE6: Iš viso | AF6: Iš jų moterų | AG6: Turi aukštąjį sporto studijų krypties išsilavinimą | AH6: Baigęs mokymus aukštojoje mokykloje | AI6: Studijuojantis sporto arba fiz. aktyvumo krypties studijų programą | AJ6: Turi veiklos leidimą
K7: Pirma | L7: Antra | M7: Trečia | N7: Ketvirta | O7: Penkta | P7: Šešta
A9: 1 | B9: 2 | C9: 3 | D9: 4 | E9: 5 | F9: 6 | G9: 7 | H9: 8 | I9: 9 | J9: 10 | K9: 11 | L9: 12 | M9: 13 | N9: 14 | O9: 15 | P9: 16 | Q9: 17 | R9: 18 | S9: 19 | T9: 20 | U9: 21 | V9: 22 | W9: 23 | X9: 24 | Y9: 25 | Z9: 26 | AA9: 27 | AB9: 28 | AC9: 29 | AD9: 30 | AE9: 31 | AF9: 32 | AG9: 33 | AH9: 34 | AI9: 35 | AJ9: 36 | AK9: 37
B10: Į olimpinių žaidynių programą įtrauktos sporto šakos
A11: 1. | B11: Badmintonas | C11: 105 | D11: 16 | E11: 49 | F11: =SUM(C11:E11) -> 170 | G11: 127 | H11: 2 | I11: 1 | J11: =H11-(K11+L11+M11+N11+O11+P11) -> 1 | P11: 1 | Q11: 2 | T11: =V11+W11+X11+Y11 -> 0 | Z11: =AB11+AC11+AD11 -> 0 | AE11: =AG11+AH11+AI11+AJ11 -> 0 | AK11: 1 | AM11: =IF(G11>F11,"Klaida! Negali būti moterų daugiau nei iš viso sportuojančiųjų!",IF(I11>H11,"Klaida! Negali būti moterų daugiau nei iš viso trenerių!",IF(K11+L11+M11+N11+O11+P11>H11,"Klaida! Negali būti kategorijų daugiau negu trenerių!",IF(K11+L11+M11+N11+O11+P11>H11,"Klaida! Negali būti kategorijų daugiau negu trenerių!",IF(Q11+S11>H11,"Klaida! Negali būti išsilavinimų arba veklos leidimų daugiau negu trenerių!","")))))
A12: 2. | B12: Baidarių ir kanojų irklavimas | C12: 83 | D12: 9 | F12: =SUM(C12:E12) -> 92 | G12: 20 | H12: =Q12+R12+S12 -> 0 | J12: =H12-(K12+L12+M12+N12+O12+P12) -> 0 | T12: =V12+W12+X12+Y12 -> 0 | Z12: =AB12+AC12+AD12 -> 0 | AE12: =AG12+AH12+AI12+AJ12 -> 0 | AM12: =IF(G12>F12,"Klaida! Negali būti moterų daugiau nei iš viso sportuojančiųjų!",IF(I12>H12,"Klaida! Negali būti moterų daugiau nei iš viso trenerių!",IF(K12+L12+M12+N12+O12+P12>H12,"Klaida! Negali būti kategorijų daugiau negu trenerių!",IF(K12+L12+M12+N12+O12+P12>H12,"Klaida! Negali būti kategorijų daugiau negu trenerių!",IF(Q12+S12>H12,"Klaida! Negali būti išsilavinimų arba veklos leidimų daugiau negu trenerių!","")))))
A13: 3. | B13: Banglenčių sportas | C13: 39 | D13: 33 | E13: 20 | F13: =SUM(C13:E13) -> 92 | G13: 70 | H13: 1 | J13: =H13-(K13+L13+M13+N13+O13+P13) -> 0 | K13: 1 | Q13: 1 | T13: =V13+W13+X13+Y13 -> 0 | Z13: =AB13+AC13+AD13 -> 0 | AE13: =AG13+AH13+AI13+AJ13 -> 0 | AK13: 3 | AM13: =IF(G13>F13,"Klaida! Negali būti moterų daugiau nei iš viso sportuojančiųjų!",IF(I13>H13,"Klaida! Negali būti moterų daugiau nei iš viso trenerių!",IF(K13+L13+M13+N13+O13+P13>H13,"Klaida! Negali būti kategorijų daugiau negu trenerių!",IF(K13+L13+M13+N13+O13+P13>H13,"Klaida! Negali būti kategorijų daugiau negu trenerių!",IF(Q13+S13>H13,"Klaida! Negali būti išsilavinimų arba veklos leidimų daugiau negu trenerių!","")))))
A14: 4. | B14: Beisbolas | F14: =SUM(C14:E14) -> 0 | H14: =Q14+R14+S14 -> 0 | J14: =H14-(K14+L14+M14+N14+O14+P14) -> 0 | T14: =V14+W14+X14+Y14 -> 0 | Z14: =AB14+AC14+AD14 -> 0 | AE14: =AG14+AH14+AI14+AJ14 -> 0 | AM14: =IF(G14>F14,"Klaida! Negali būti moterų daugiau nei iš viso sportuojančiųjų!",IF(I14>H14,"Klaida! Negali būti moterų daugiau nei iš viso trenerių!",IF(K14+L14+M14+N14+O14+P14>H14,"Klaida! Negali būti kategorijų daugiau negu trenerių!",IF(K14+L14+M14+N14+O14+P14>H14,"Klaida! Negali būti kategorijų daugiau negu trenerių!",IF(Q14+S14>H14,"Klaida! Negali būti išsilavinimų arba veklos leidimų daugiau negu trenerių!","")))))
A15: 5. | B15: Beisbolas (softbolas) | F15: =SUM(C15:E15) -> 0 | H15: =Q15+R15+S15 -> 0 | J15: =H15-(K15+L15+M15+N15+O15+P15) -> 0 | T15: =V15+W15+X15+Y15 -> 0 | Z15: =AB15+AC15+AD15 -> 0 | AE15: =AG15+AH15+AI15+AJ15 -> 0 | AM15: =IF(G15>F15,"Klaida! Negali būti moterų daugiau nei iš viso sportuojančiųjų!",IF(I15>H15,"Klaida! Negali būti moterų daugiau nei iš viso trenerių!",IF(K15+L15+M15+N15+O15+P15>H15,"Klaida! Negali būti kategorijų daugiau negu trenerių!",IF(K15+L15+M15+N15+O15+P15>H15,"Klaida! Negali būti kategorijų daugiau negu trenerių!",IF(Q15+S15>H15,"Klaida! Negali būti išsilavinimų arba veklos leidimų daugiau negu trenerių!","")))))
A16: 6. | B16: Biatlonas | F16: =SUM(C16:E16) -> 0 | H16: =Q16+R16+S16 -> 0 | J16: =H16-(K16+L16+M16+N16+O16+P16) -> 0 | T16: =V16+W16+X16+Y16 -> 0 | Z16: =AB16+AC16+AD16 -> 0 | AE16: =AG16+AH16+AI16+AJ16 -> 0 | AM16: =IF(G16>F16,"Klaida! Negali būti moterų daugiau nei iš viso sportuojančiųjų!",IF(I16>H16,"Klaida! Negali būti moterų daugiau nei iš viso trenerių!",IF(K16+L16+M16+N16+O16+P16>H16,"Klaida! Negali būti kategorijų daugiau negu trenerių!",IF(K16+L16+M16+N16+O16+P16>H16,"Klaida! Negali būti kategorijų daugiau negu trenerių!",IF(Q16+S16>H16,"Klaida! Negali būti išsilavinimų arba veklos leidimų daugiau negu trenerių!","")))))
A17: 7. | B17: Bobslėjus | F17: =SUM(C17:E17) -> 0 | H17: =Q17+R17+S17 -> 0 | J17: =H17-(K17+L17+M17+N17+O17+P17) -> 0 | T17: =V17+W17+X17+Y17 -> 0 | Z17: =AB17+AC17+AD17 -> 0 | AE17: =AG17+AH17+AI17+AJ17 -> 0 | AM17: =IF(G17>F17,"Klaida! Negali būti moterų daugiau nei iš viso sportuojančiųjų!",IF(I17>H17,"Klaida! Negali būti moterų daugiau nei iš viso trenerių!",IF(K17+L17+M17+N17+O17+P17>H17,"Klaida! Negali būti kategorijų daugiau negu trenerių!",IF(K17+L17+M17+N17+O17+P17>H17,"Klaida! Negali būti kategorijų daugiau negu trenerių!",IF(Q17+S17>H17,"Klaida! Negali būti išsilavinimų arba veklos leidimų daugiau negu trenerių!","")))))
A18: 8. | B18: Boksas | C18: 42 | D18: 34 | E18: 15 | F18: =SUM(C18:E18) -> 91 | G18: 16 | H18: 6 | I18: 1 | J18: =H18-(K18+L18+M18+N18+O18+P18) -> 3 | K18: 1 | L18: 1 | M18: 1 | Q18: 3 | T18: =V18+W18+X18+Y18 -> 0 | Z18: =AB18+AC18+AD18 -> 0 | AE18: =AG18+AH18+AI18+AJ18 -> 0 | AM18: =IF(G18>F18,"Klaida! Negali būti moterų daugiau nei iš viso sportuojančiųjų!",IF(I18>H18,"Klaida! Negali būti moterų daugiau nei iš viso trenerių!",IF(K18+L18+M18+N18+O18+P18>H18,"Klaida! Negali būti kategorijų daugiau negu trenerių!",IF(K18+L18+M18+N18+O18+P18>H18,"Klaida! Negali būti kategorijų daugiau negu trenerių!",IF(Q18+S18>H18,"Klaida! Negali būti išsilavinimų arba veklos leidimų daugiau negu trenerių!","")))))
A19: 9. | B19: Breikas | F19: =SUM(C19:E19) -> 0 | H19: =Q19+R19+S19 -> 0 | J19: =H19-(K19+L19+M19+N19+O19+P19) -> 0 | T19: =V19+W19+X19+Y19 -> 0 | Z19: =AB19+AC19+AD19 -> 0 | AE19: =AG19+AH19+AI19+AJ19 -> 0
A20: 10. | B20: Buriavimas | C20: 70 | F20: =SUM(C20:E20) -> 70 | G20: 21 | H20: 2 | J20: =H20-(K20+L20+M20+N20+O20+P20) -> 2 | Q20: 2 | T20: 6 | V20: 1 | Z20: 1 | AA20: 1 | AB20: 1 | AE20: =AG20+AH20+AI20+AJ20 -> 0 | AK20: 1 | AM20: =IF(G20>F20,"Klaida! Negali būti moterų daugiau nei iš viso sportuojančiųjų!",IF(I20>H20,"Klaida! Negali būti moterų daugiau nei iš viso trenerių!",IF(K20+L20+M20+N20+O20+P20>H20,"Klaida! Negali būti kategorijų daugiau negu trenerių!",IF(K20+L20+M20+N20+O20+P20>H20,"Klaida! Negali būti kategorijų daugiau negu trenerių!",IF(Q20+S20>H20,"Klaida! Negali būti išsilavinimų arba veklos leidimų daugiau negu trenerių!","")))))
A21: 11. | B21: Čiuožimas (dailusis) | C21: 76 | D21: 2 | E21: 2 | F21: =SUM(C21:E21) -> 80 | G21: 77 | H21: 2 | I21: 2 | J21: =H21-(K21+L21+M21+N21+O21+P21) -> 2 | Q21: 2 | T21: =V21+W21+X21+Y21 -> 0 | Z21: =AB21+AC21+AD21 -> 0 | AE21: 1 | AF21: 1 | AJ21: 1 | AM21: =IF(G21>F21,"Klaida! Negali būti moterų daugiau nei iš viso sportuojančiųjų!",IF(I21>H21,"Klaida! Negali būti moterų daugiau nei iš viso trenerių!",IF(K21+L21+M21+N21+O21+P21>H21,"Klaida! Negali būti kategorijų daugiau negu trenerių!",IF(K21+L21+M21+N21+O21+P21>H21,"Klaida! Negali būti kategorijų daugiau negu trenerių!",IF(Q21+S21>H21,"Klaida! Negali būti išsilavinimų arba veklos leidimų daugiau negu trenerių!","")))))
A22: 12. | B22: Čiuožimas (greitasis) | F22: =SUM(C22:E22) -> 0 | H22: =Q22+R22+S22 -> 0 | J22: =H22-(K22+L22+M22+N22+O22+P22) -> 0 | T22: =V22+W22+X22+Y22 -> 0 | Z22: =AB22+AC22+AD22 -> 0 | AE22: =AG22+AH22+AI22+AJ22 -> 0 | AM22: =IF(G22>F22,"Klaida! Negali būti moterų daugiau nei iš viso sportuojančiųjų!",IF(I22>H22,"Klaida! Negali būti moterų daugiau nei iš viso trenerių!",IF(K22+L22+M22+N22+O22+P22>H22,"Klaida! Negali būti kategorijų daugiau negu trenerių!",IF(K22+L22+M22+N22+O22+P22>H22,"Klaida! Negali būti kategorijų daugiau negu trenerių!",IF(Q22+S22>H22,"Klaida! Negali būti išsilavinimų arba veklos leidimų daugiau negu trenerių!","")))))
A23: 13. | B23: Dviračių sportas (plentas) | F23: =SUM(C23:E23) -> 0 | H23: =Q23+R23+S23 -> 0 | J23: =H23-(K23+L23+M23+N23+O23+P23) -> 0 | T23: =V23+W23+X23+Y23 -> 0 | Z23: =AB23+AC23+AD23 -> 0 | AE23: =AG23+AH23+AI23+AJ23 -> 0 | AM23: =IF(G23>F23,"Klaida! Negali būti moterų daugiau nei iš viso sportuojančiųjų!",IF(I23>H23,"Klaida! Negali būti moterų daugiau nei iš viso trenerių!",IF(K23+L23+M23+N23+O23+P23>H23,"Klaida! Negali būti kategorijų daugiau negu trenerių!",IF(K23+L23+M23+N23+O23+P23>H23,"Klaida! Negali būti kategorijų daugiau negu trenerių!",IF(Q23+S23>H23,"Klaida! Negali būti išsilavinimų arba veklos leidimų daugiau negu trenerių!","")))))
A24: 14. | B24: Dviračių sportas (trekas) | F24: =SUM(C24:E24) -> 0 | H24: =Q24+R24+S24 -> 0 | J24: =H24-(K24+L24+M24+N24+O24+P24) -> 0 | T24: =V24+W24+X24+Y24 -> 0 | Z24: =AB24+AC24+AD24 -> 0 | AE24: =AG24+AH24+AI24+AJ24 -> 0 | AM24: =IF(G24>F24,"Klaida! Negali būti moterų daugiau nei iš viso sportuojančiųjų!",IF(I24>H24,"Klaida! Negali būti moterų daugiau nei iš viso trenerių!",IF(K24+L24+M24+N24+O24+P24>H24,"Klaida! Negali būti kategorijų daugiau negu trenerių!",IF(K24+L24+M24+N24+O24+P24>H24,"Klaida! Negali būti kategorijų daugiau negu trenerių!",IF(Q24+S24>H24,"Klaida! Negali būti išsilavinimų arba veklos leidimų daugiau negu trenerių!","")))))
A25: 15. | B25: Dviračių sportas (kalnų) | F25: =SUM(C25:E25) -> 0 | H25: =Q25+R25+S25 -> 0 | J25: =H25-(K25+L25+M25+N25+O25+P25) -> 0 | T25: =V25+W25+X25+Y25 -> 0 | Z25: =AB25+AC25+AD25 -> 0 | AE25: =AG25+AH25+AI25+AJ25 -> 0 | AM25: =IF(G25>F25,"Klaida! Negali būti moterų daugiau nei iš viso sportuojančiųjų!",IF(I25>H25,"Klaida! Negali būti moterų daugiau nei iš viso trenerių!",IF(K25+L25+M25+N25+O25+P25>H25,"Klaida! Negali būti kategorijų daugiau negu trenerių!",IF(K25+L25+M25+N25+O25+P25>H25,"Klaida! Negali būti kategorijų daugiau negu trenerių!",IF(Q25+S25>H25,"Klaida! Negali būti išsilavinimų arba veklos leidimų daugiau negu trenerių!","")))))
A26: 16. | B26: Dviračių sportas (mažųjų dviračių kroso) | F26: =SUM(C26:E26) -> 0 | H26: =Q26+R26+S26 -> 0 | J26: =H26-(K26+L26+M26+N26+O26+P26) -> 0 | T26: =V26+W26+X26+Y26 -> 0 | Z26: =AB26+AC26+AD26 -> 0 | AE26: =AG26+AH26+AI26+AJ26 -> 0 | AM26: =IF(G26>F26,"Klaida! Negali būti moterų daugiau nei iš viso sportuojančiųjų!",IF(I26>H26,"Klaida! Negali būti moterų daugiau nei iš viso trenerių!",IF(K26+L26+M26+N26+O26+P26>H26,"Klaida! Negali būti kategorijų daugiau negu trenerių!",IF(K26+L26+M26+N26+O26+P26>H26,"Klaida! Negali būti kategorijų daugiau negu trenerių!",IF(Q26+S26>H26,"Klaida! Negali būti išsilavinimų arba veklos leidimų daugiau negu trenerių!","")))))
A27: 17. | B27: Dziudo | F27: =SUM(C27:E27) -> 0 | H27: =Q27+R27+S27 -> 0 | J27: =H27-(K27+L27+M27+N27+O27+P27) -> 0 | T27: =V27+W27+X27+Y27 -> 0 | Z27: =AB27+AC27+AD27 -> 0 | AE27: =AG27+AH27+AI27+AJ27 -> 0 | AM27: =IF(G27>F27,"Klaida! Negali būti moterų daugiau nei iš viso sportuojančiųjų!",IF(I27>H27,"Klaida! Negali būti moterų daugiau nei iš viso trenerių!",IF(K27+L27+M27+N27+O27+P27>H27,"Klaida! Negali būti kategorijų daugiau negu trenerių!",IF(K27+L27+M27+N27+O27+P27>H27,"Klaida! Negali būti kategorijų daugiau negu trenerių!",IF(Q27+S27>H27,"Klaida! Negali būti išsilavinimų arba veklos leidimų daugiau negu trenerių!","")))))
A28: 18. | B28: Fechtavimasis | C28: 30 | D28: 5 | E28: 5 | F28: =SUM(C28:E28) -> 40 | G28: 19 | H28: =Q28+R28+S28 -> 0 | J28: =H28-(K28+L28+M28+N28+O28+P28) -> 0 | T28: =V28+W28+X28+Y28 -> 0 | Z28: =AB28+AC28+AD28 -> 0 | AE28: =AG28+AH28+AI28+AJ28 -> 0 | AM28: =IF(G28>F28,"Klaida! Negali būti moterų daugiau nei iš viso sportuojančiųjų!",IF(I28>H28,"Klaida! Negali būti moterų daugiau nei iš viso trenerių!",IF(K28+L28+M28+N28+O28+P28>H28,"Klaida! Negali būti kategorijų daugiau negu trenerių!",IF(K28+L28+M28+N28+O28+P28>H28,"Klaida! Negali būti kategorijų daugiau negu trenerių!",IF(Q28+S28>H28,"Klaida! Negali būti išsilavinimų arba veklos leidimų daugiau negu trenerių!","")))))
