Workbook

Sheet 007 programa 3 lentelė
E1: Aiškinamojo rašto priedas
B3: 3 lentelė. Klaipėdos miesto savivaldybės 2024–2027 metų 007 Miesto infrastruktūros objektų priežiūros ir modernizavimo programos uždaviniai, priemonės, asignavimai ir kitos lėšos (tūkst. eurų)
B4: Programos uždavinio, priemonės kodas ir požymis | C4: Uždavinio, priemonės pavadinimas, finansavimo šaltiniai | D4: Vykdytojas (skyrius / asmuo) | E4: 2024 metų asignavimai ir kitos lėšos | F4: 2025 metų asignavimai ir kitos lėšos | G4: 2026 metų asignavimai ir kitos lėšos | H4: 2027 metų asignavimai ir kitos lėšos | I4: Savivaldybės strateginio plėtros plano priemonės kodas
B5: 1 | C5: 2 | D5: 3 | E5: 4 | F5: 5 | G5: 6 | H5: 7 | I5: 8
B6: 007-01 (T) | C6: Uždavinys: Siekti, kad miesto viešosios erdvės būtų tvarkingos, jaukios ir saugios
B7: 007-01-01 (TP) | C7: Priemonė: Miesto aikščių, skverų ir kitų bendro naudojimo teritorijų atnaujinimas ir priežiūra
B8: 007-01-01-01 | C8: Atgimimo aikštės sutvarkymas, didinant patrauklumą investicijoms, skatinant lankytojų srautus | D8: MVPD Statybos skyrius | I8: 3.1.1.4.
C9: Savivaldybės biudžeto lėšos (nuosavos, be ankstesnių metų likučio) | E9: 281.9 | F9: =8140.1-2140.1-967.1 -> 5032.9 | G9: =13365.6-7956-5409.6 -> 0 | H9: =2140.1-2140.1 -> 0
C10: Ankstesnių metų likučiai | E10: =500+663.6 -> 1163.6 | F10: 967.1 | G10: 5409.6
C11: Skolintos lėšos | G11: 7956 | H11: 2140.1
B12: 007-01-01-02 (RP) | C12: Turgaus aikštės su prieigomis atgaivinimas | D12: Projektų skyrius | I12: 3.2.2.3.
C13: Savivaldybės biudžeto lėšos (nuosavos, be ankstesnių metų likučio) | E13: 47.7 | F13: =361.5-169.5 -> 192 | G13: =1072.6-500.5-257 -> 315.1 | H13: 715.1
B14: ` | C14: Ankstesnių metų likučiai
C15: Skolintos lėšos | G15: 257
C16: Kiti šaltiniai (Europos Sąjungos paramos lėšos) | F16: =704.6-422.7 -> 281.9 | G16: =2113.6-886.3 -> 1227.3 | H16: 1409.1
C17: Muzikinio teatro pastato Danės g. 19 aplinkos tvarkybos darbai už sklypo ribos | D17: UAD Urbanistikos skyrius | I17: 3.2.2.5.
C18: Savivaldybės biudžeto lėšos (nuosavos, be ankstesnių metų likučio) | E18: =184.5+1.1+3.4 -> 189
C19: Vingio mikrorajono aikštės atnaujinimas | D19: MVPD Aplinkosaugos ir miesto tvarkymo skyrius | I19: 3.2.2.5.
C20: Savivaldybės biudžeto lėšos (nuosavos, be ankstesnių metų likučio) | E20: =20.1-3.1 -> 17
C21: Ankstesnių metų likučiai | E21: =18.6-12.4 -> 6.2
C22: Skvero ties prekybos centru „Maxima“ (Šilutės pl. 40A) ir pėsčiųjų ir dviračių tako nuo Šilutės pl. iki Taikos pr. atnaujinimas | D22: MVPD Aplinkosaugos ir miesto tvarkymo skyrius | I22: 3.2.2.5.
C23: Skolintos lėšos | E23: =1000+53.4 -> 1053.4
C24: Ankstesnių metų likučiai | E24: 378.5
C25: AB „Klaipėdos energija“ teritorijos Danės g. 8, Klaipėdoje, konversija | D25: UAD Urbanistikos skyrius | I25: 3.2.1.2.
C26: Savivaldybės biudžeto lėšos (nuosavos, be ankstesnių metų likučio) | E26: 18.2
B27: 007-01-01-03 (RP) | C27: Danės teritorijos prieigų atgaivinimas Šiauriniame rage | D27: Projektų skyrius | I27: 3.2.1.1.
C28: Savivaldybės biudžeto lėšos (nuosavos, be ankstesnių metų likučio) | F28: 912.4 | G28: =1138.9-78 -> 1060.9 | H28: 587
C29: Skolintos lėšos | G29: 78
C30: Kiti šaltiniai (Europos Sąjungos paramos lėšos) | F30: 59.5 | G30: 2677.5 | H30: 3213
B31: 007-01-01-04 | C31: Teritorijos prie Santuokų rūmų atnaujinimas | D31: MVPD Aplinkosaugos ir miesto tvarkymo skyrius | I31: 3.2.2.5
C32: Ankstesnių metų likučiai | E32: =1000-570 -> 430 | F32: 823.9
B33: 007-01-01-05 | C33: Neringos skvero atnaujinimas
C34: Savivaldybės biudžeto lėšos (nuosavos, be ankstesnių metų likučio) | G34: =40+3 -> 43 | H34: =500+4 -> 504
B35: 007-01-01-05 | C35: Gėlynų atnaujinimas ir įrengimas
C36: Savivaldybės biudžeto lėšos (nuosavos, be ankstesnių metų likučio) | E36: 200 | F36: 200 | G36: 200 | H36: 200
B37: 007-01-01-06 | C37: Fontanų priežiūra, remontas ir atnaujinimas
C38: Savivaldybės biudžeto lėšos (nuosavos, be ankstesnių metų likučio) | E38: =317.5+110-59.9-0.1-248 -> 119.5 | F38: 501.5 | G38: 101.5 | H38: 101.5
B39: 007-01-01-07 | C39: Miesto viešųjų teritorijų inventoriaus priežiūra, įrengimas ir įsigijimas
C40: Savivaldybės biudžeto lėšos (nuosavos, be ankstesnių metų likučio) | E40: =174.2+20 -> 194.2 | F40: =232.6+25 -> 257.6 | G40: =219.7+152.5 -> 372.2 | H40: =221+82.5 -> 303.5
B41: 007-01-01-08 | C41: Šventinis miesto papuošimas (kalėdinio laikotarpio)
C42: Savivaldybės biudžeto lėšos (nuosavos, be ankstesnių metų likučio) | E42: =89+121.6 -> 210.6 | F42: 248.2 | G42: 247.9 | H42: 249
B43: 007-01-01-09 | C43: Retransliuojamo vaizdo stebėjimo kamerų viešosiose vietose įsigijimas ir eksploatacija | D43: AD Administracinės veiklos, kontrolės ir prevencijos skyrius | I43: 2.4.3.5.
C44: Savivaldybės biudžeto lėšos (nuosavos, be ankstesnių metų likučio) | E44: =336.9+1101.5-499.9-500-126 -> 312.5 | F44: =1419.7-105.3+8.8+0.9 -> 1324.1 | G44: =461.7+45.1+13.2+1.3 -> 521.3 | H44: =465.3+60.2+13.2+1.3 -> 540
C45: Laivų nuleidimo prieplaukos ir saugojimo aikštelės sklype šalia Liepų g. tilto įrengimas | D45: Projektų skyrius | I45: 1.2.3.1
C46: Savivaldybės biudžeto lėšos (nuosavos, be ankstesnių metų likučio) | E46: =140.9-3.4+2.1 -> 139.6
B47: 007-01-01-10 | C47: Dalyvaujamojo biudžeto iniciatyvų įgyvendinimas | I47: 2.6.4.3.
C48: Savivaldybės biudžeto lėšos (nuosavos, be ankstesnių metų likučio) | D48: MVPD Aplinkosaugos ir miesto tvarkymo skyrius | E48: =100-4.5-45.5 -> 50 | F48: 100
C49: Savivaldybės biudžeto lėšos (nuosavos, be ankstesnių metų likučio) | D49: MVPD Statinių administravimo skyrius | E49: 100 | F49: 100
C50: Ankstesnių metų likučiai | F50: 21.3
C51: Savivaldybės biudžeto lėšos (nuosavos, be ankstesnių metų likučio) | D51: UAD Urbanistikos skyrius | E51: 4.5
C52: Ankstesnių metų likučiai | E52: 1.7
B53: 007-01-01-11 | C53: Kompleksinis sporto ir laisvalaikio zonų sutvarkymas seniūnaitijose | D53: MVPD Aplinkosaugos ir miesto tvarkymo skyrius | I53: 3.2.2.5.
C54: Savivaldybės biudžeto lėšos (nuosavos, be ankstesnių metų likučio) | E54: =599.5+65+9 -> 673.5 | F54: =934.5-286.5+20.4-340.5 -> 327.9 | G54: =594.5+286.5+202.5-43 -> 1040.5 | H54: =1014.5-504 -> 510.5
B55: 007-01-01-12 | C55: BĮ „Klaipėdos paplūdimiai“ veiklos organizavimas
C56: Savivaldybės biudžeto lėšos (nuosavos, be ankstesnių metų likučio) | E56: =2312.3-315.5+100 -> 2096.8 | F56: =2110+3.7 -> 2113.7 | G56: =2319.5+2.6 -> 2322.1 | H56: =2332.5+3 -> 2335.5
C57: Pajamų įmokos ir kitos pajamos | E57: =15.9+7.2 -> 23.1 | F57: 19.8 | G57: 34.8 | H57: 34.8
C58: Ankstesnių metų likučiai | E58: 12.3 | F58: 18.3
B59: 007-01-01-13 | C59: Smiltynės gelbėjimo stoties rekonstrukcija ir prieigų sutvarkymas | D59: MVPD Aplinkosaugos ir miesto tvarkymo skyrius
C60: Savivaldybės biudžeto lėšos (nuosavos, be ankstesnių metų likučio) | E60: =414.9-399.9-3.3 -> 11.7
C61: Ankstesnių metų likučiai | E61: =16.6-2.6 -> 14 | F61: =7.3+3.5 -> 10.8
B62: 007-01-01-14 | C62: Danės upės ir Smiltynės krantinių remontas | D62: MVPD Aplinkosaugos ir miesto tvarkymo skyrius
C63: Savivaldybės biudžeto lėšos (nuosavos, be ankstesnių metų likučio) | E63: =363-100-263 -> 0 | F63: =1128.8-242 -> 886.8 | G63: =2125-2125+121 -> 121 | H63: =3870-3870+121 -> 121
B64: 007-01-01-15 | C64: Savivaldybei priskirtų teritorijų sanitarinis valymas, parkų, skverų, žaliųjų plotų želdinimas ir aplinkotvarka
C65: Savivaldybės biudžeto lėšos (nuosavos, be ankstesnių metų likučio) | E65: =5080+898.5 -> 5978.5 | F65: 6197.4 | G65: 7104.5 | H65: 8147.7
C66: Kiti finansavimo šaltiniai | F66: 46.8
B67: 007-01-01-16 | C67: Miesto viešųjų tualetų įrengimas, remontas, priežiūra ir nuoma | I67: 1.2.1.5.
C68: Savivaldybės biudžeto lėšos (nuosavos, be ankstesnių metų likučio) | E68: =262.1+331.5-35.9-144 -> 413.7 | F68: =998.5-132 -> 866.5 | G68: 615 | H68: 497.2
C69: Pajamų įmokos ir kitos pajamos | E69: 2 | F69: 2.5 | G69: 2.5 | H69: 2.5
B70: 007-01-01-17 | C70: Gyvūnų gerovės ir apsaugos priemonių įgyvendinimas (beglobių gyvūnų gaudymas, sterilizacija ir kt.)
C71: Savivaldybės biudžeto lėšos (nuosavos, be ankstesnių metų likučio) | E71: =156+4.3-20 -> 140.3 | F71: 175 | G71: 145 | H71: 145
B72: 007-01-01-18 | C72: Statinių, keliančių pavojų gyvybei ir sveikatai, griovimas
C73: Savivaldybės biudžeto lėšos (nuosavos, be ankstesnių metų likučio) | E73: 100 | F73: =193-52 -> 141 | G73: 100 | H73: 100
C74: Šlaitų stabilizavimo darbų Šiaurės prospekte atlikimas
C75: Savivaldybės biudžeto lėšos (nuosavos, be ankstesnių metų likučio) | E75: =249.2-32.8 -> 216.4
B76: 007-01-01-19 | C76: Automobilių nuvežimas ir saugojimas | D76: AD Administracinės veiklos, kontrolės ir prevencijos skyrius
C77: Savivaldybės biudžeto lėšos (nuosavos, be ankstesnių metų likučio) | E77: =47.9-9.2 -> 38.7 | F77: 48.9 | G77: 48.9 | H77: 48.9 | S77: –
C78: Danės upės krantinių rekonstrukcija ir prieigų (Danės skveras su fontanais) sutvarkymas | D78: MVPD Statinių administravimo skyrius
C79: Savivaldybės biudžeto lėšos (nuosavos, be ankstesnių metų likučio) | E79: =368.9-326.4+30-2.1 -> 70.4
B80: 007-01-01-20 | C80: K. Donelaičio aikštės sutvarkymas | D80: MVPD Aplinkosaugos ir miesto tvarkymo skyrius | I80: 3.2.2.5.
C81: Savivaldybės biudžeto lėšos (nuosavos, be ankstesnių metų likučio) | F81: 43 | G81: =504-504 -> 0
B82: 007-01-01-21 | C82: Slipų įrengimas miesto vandens telkiniuose | D82: MVPD Statybos skyrius, UAD Žemėtvarkos skyrius
C83: Savivaldybės biudžeto lėšos (nuosavos, be ankstesnių metų likučio) | F83: 10 | G83: 40
B84: 007-01-01-22 | C84: Girulių – Melnragės ir Smiltynės paplūdimių prieigų ir infrastuktūros sutvarkymas | D84: MVPD Aplinkosaugos ir miesto tvarkymo skyrius
C85: Savivaldybės biudžeto lėšos (nuosavos, be ankstesnių metų likučio) | F85: =0+449.8 -> 449.8
C86: Savivaldybės biudžetas (įskaitant skolintas lėšas) | E86: =+E88+E89+E90+E91 -> 14709.5 | F86: =+F88+F89+F90+F91 -> 21992.4 | G86: =+G88+G89+G90+G91 -> 28136.8 | H86: =+H88+H89+H90+H91 -> 17283.3
C87: Iš jo:
C88: Savivaldybės biudžeto lėšos (nuosavos, be ankstesnių metų likučio)' | E88: =SUMIF($C8:$C85,$C13,E8:E85) -> 11624.7 | F88: =SUMIF($C8:$C85,$C13,F8:F85) -> 20128.7 | G88: =SUMIF($C8:$C85,$C13,G8:G85) -> 14398.9 | H88: =SUMIF($C8:$C85,$C13,H8:H85) -> 15105.9
C89: Pajamų įmokos ir kitos pajamos' | E89: =SUMIF($C8:$C85,$C57,E8:E85) -> 25.1 | F89: =SUMIF($C8:$C85,$C57,F8:F85) -> 22.3 | G89: =SUMIF($C8:$C85,$C57,G8:G85) -> 37.3 | H89: =SUMIF($C8:$C85,$C57,H8:H85) -> 37.3
C90: Ankstesnių metų likučiai' | E90: =SUMIF($C8:$C85,$C10,E8:E85) -> 2006.3 | F90: =SUMIF($C8:$C85,$C10,F8:F85) -> 1841.4 | G90: =SUMIF($C8:$C85,$C10,G8:G85) -> 5409.6 | H90: =SUMIF($C8:$C85,$C10,H8:H85) -> 0
C91: Skolintos lėšos' | E91: =SUMIF($C8:$C85,$C23,E8:E85) -> 1053.4 | F91: =SUMIF($C8:$C85,$C23,F8:F85) -> 0 | G91: =SUMIF($C8:$C85,$C23,G8:G85) -> 8291 | H91: =SUMIF($C8:$C85,$C23,H8:H85) -> 2140.1
C92: Kiti šaltiniai | E92: =SUM(E94) -> 0 | F92: =SUM(F94)+F95 -> 388.2 | G92: =SUM(G94)+G95 -> 3904.8 | H92: =SUM(H94)+H95 -> 4622.1
C93: Iš jų:
C94: Kiti šaltiniai (Europos Sąjungos paramos lėšos)' | E94: =SUMIF($C9:$C85,$C30,E9:E85) -> 0 | F94: =SUMIF($C9:$C85,$C30,F9:F85) -> 341.4 | G94: =SUMIF($C9:$C85,$C30,G9:G85) -> 3904.8 | H94: =SUMIF($C9:$C85,$C30,H9:I85) -> 4622.1
C95: Kiti finansavimo šaltiniai' | E95: =SUMIF($C9:$C85,$C66,E9:E85) -> 0 | F95: =SUMIF($C9:$C85,$C66,F9:F85) -> 46.8 | G95: =SUMIF($C9:$C85,$C66,G9:G85) -> 0 | H95: =SUMIF($C9:$C85,$C66,H9:H85) -> 0
B96: 007-01-02 (TP) | C96: Priemonė: Miesto viešųjų erdvių ir gatvių apšvietimo užtikrinimas
B97: 007-01-02-01 | C97: Gatvių ir viešųjų erdvių apšvietimo organizavimo funkcijos įgyvendinimas | D97: MVPD Aplinkosaugos ir miesto tvarkymo skyrius | I97: 3.3.2.4.
C98: Savivaldybės biudžeto lėšos (nuosavos, be ankstesnių metų likučio) | E98: =3400+121.2+165.3 -> 3686.5 | F98: 4034.3 | G98: =4357.1-3553.4 -> 803.7 | H98: 4705.6
C99: Ankstesnių metų likučiai | G99: 3553.4
B100: 007-01-02-02 | C100: Viešųjų erdvių (šviesoforų, fontanų, tualetų ir kt.) apšvietimo tinklų ir įrangos eksploatacija | I100: 3.3.2.4.
C101: Savivaldybės biudžeto lėšos (nuosavos, be ankstesnių metų likučio) | E101: =200.4+106 -> 306.4 | F101: 294.5 | G101: 306.3 | H101: 318.5
...

Sheet Lėšų suvestinė 2 lentelė
B1: 2 lentelė. 2024–2027 metų asignavimų ir kitų lėšų pasiskirstymas (tūkst. Eur)
B3: Eil. Nr. | C3: Programos kodas ir pavadinimas | D3: 2024 m. asignavimai ir kitos lėšos | E3: 2025 metų asignavimai ir kitos lėšos | F3: 2026 metų asignavimai ir kitos lėšos | G3: 2027 metų asignavimai ir kitos lėšos
B4: 1 | C4: 2 | D4: 3 | E4: 4 | F4: 5 | G4: 6
B5: 007 Miesto infrastruktūros objektų priežiūros ir modernizvimo programa
B6: 1. | C6: Savivaldybės biudžetas (įskaitant skolintas lėšas) | D6: =+D8+D9+D10+D11+D12+D13 -> 29091.4 | E6: =+E8+E9+E10+E11+E12+E13 -> 35905.9 | F6: =+F8+F9+F10+F11+F12+F13 -> 43780.6 | G6: =+G8+G9+G10+G11+G12+G13 -> 33837.4
C7: Iš jo:
B8: 1.1. | C8: savivaldybės biudžeto lėšos (nuosavos, be ankstesnių metų likučio) | D8: =SUMIF('007 programa 3 lentelė'!$C6:$C238,'007 programa 3 lentelė'!$C13,'007 programa 3 lentelė'!E6:E238) -> 19819.5 | E8: =SUMIF('007 programa 3 lentelė'!$C6:$C238,'007 programa 3 lentelė'!$C13,'007 programa 3 lentelė'!F6:F238) -> 31113.3 | F8: =SUMIF('007 programa 3 lentelė'!$C6:$C238,'007 programa 3 lentelė'!$C13,'007 programa 3 lentelė'!G6:G238) -> 23262.5 | G8: =SUMIF('007 programa 3 lentelė'!$C6:$C238,'007 programa 3 lentelė'!$C13,'007 programa 3 lentelė'!H6:H238) -> 27787
B9: 1.2. | C9: Lietuvos Respublikos valstybės biudžeto dotacijos | D9: =SUMIF('007 programa 3 lentelė'!$C6:$C238,'007 programa 3 lentelė'!$C178,'007 programa 3 lentelė'!E6:E238) -> 3206.3 | E9: =SUMIF('007 programa 3 lentelė'!$C6:$C238,'007 programa 3 lentelė'!$C178,'007 programa 3 lentelė'!F6:F238) -> 2005 | F9: =SUMIF('007 programa 3 lentelė'!$C6:$C238,'007 programa 3 lentelė'!$C178,'007 programa 3 lentelė'!G6:G238) -> 2506.8 | G9: =SUMIF('007 programa 3 lentelė'!$C6:$C238,'007 programa 3 lentelė'!$C178,'007 programa 3 lentelė'!H6:H238) -> 3153
B10: 1.3. | C10: pajamų įmokos ir kitos pajamos | D10: =SUMIF('007 programa 3 lentelė'!$C6:$C238,'007 programa 3 lentelė'!$C57,'007 programa 3 lentelė'!E6:E238) -> 825.1 | E10: =SUMIF('007 programa 3 lentelė'!$C6:$C238,'007 programa 3 lentelė'!$C57,'007 programa 3 lentelė'!F6:F238) -> 742.3 | F10: =SUMIF('007 programa 3 lentelė'!$C6:$C238,'007 programa 3 lentelė'!$C57,'007 programa 3 lentelė'!G6:G238) -> 757.3 | G10: =SUMIF('007 programa 3 lentelė'!$C6:$C238,'007 programa 3 lentelė'!$C57,'007 programa 3 lentelė'!H6:H238) -> 757.3
B11: 1.4. | C11: Europos Sąjungos ir kitos tarptautinės finansinės paramos lėšos | D11: =SUMIF('007 programa 3 lentelė'!$C6:$C238,'007 programa 3 lentelė'!$C144,'007 programa 3 lentelė'!E6:E238) -> 302.1 | E11: =SUMIF('007 programa 3 lentelė'!$C6:$C238,'007 programa 3 lentelė'!$C144,'007 programa 3 lentelė'!F6:F238) -> 0 | F11: =SUMIF('007 programa 3 lentelė'!$C6:$C238,'007 programa 3 lentelė'!$C144,'007 programa 3 lentelė'!G6:G238) -> 0 | G11: =SUMIF('007 programa 3 lentelė'!$C6:$C238,'007 programa 3 lentelė'!$C144,'007 programa 3 lentelė'!H6:H238) -> 0
B12: 1.5. | C12: skolintos lėšos | D12: =SUMIF('007 programa 3 lentelė'!$C6:$C238,'007 programa 3 lentelė'!$C23,'007 programa 3 lentelė'!E6:E238) -> 1053.4 | E12: =SUMIF('007 programa 3 lentelė'!$C6:$C238,'007 programa 3 lentelė'!$C23,'007 programa 3 lentelė'!F6:F238) -> 0 | F12: =SUMIF('007 programa 3 lentelė'!$C6:$C238,'007 programa 3 lentelė'!$C23,'007 programa 3 lentelė'!G6:G238) -> 8291 | G12: =SUMIF('007 programa 3 lentelė'!$C6:$C238,'007 programa 3 lentelė'!$C23,'007 programa 3 lentelė'!H6:H238) -> 2140.1
B13: 1.6. | C13: ankstesnių metų likučiai | D13: =SUMIF('007 programa 3 lentelė'!$C6:$C238,'007 programa 3 lentelė'!$C10,'007 programa 3 lentelė'!E6:E238) -> 3885 | E13: =SUMIF('007 programa 3 lentelė'!$C6:$C238,'007 programa 3 lentelė'!$C10,'007 programa 3 lentelė'!F6:F238) -> 2045.3 | F13: =SUMIF('007 programa 3 lentelė'!$C6:$C238,'007 programa 3 lentelė'!$C10,'007 programa 3 lentelė'!G6:G238) -> 8963 | G13: =SUMIF('007 programa 3 lentelė'!$C6:$C238,'007 programa 3 lentelė'!$C10,'007 programa 3 lentelė'!H6:H238) -> 0
B14: 2. | C14: Kiti šaltiniai (Europos Sąjungos finansinė parama projektams įgyvendinti ir kitos teisėtai gautos lėšos, nurodant atskirus šaltinius) | D14: =+D16+D17+D18+D19+D20+D21 -> 20.8 | E14: =+E16+E17+E18+E19+E20+E21 -> 722 | F14: =+F16+F17+F18+F19+F20+F21 -> 3904.8 | G14: =+G16+G17+G18+G19+G20+G21 -> 4622.1
C15: Iš jo:
B16: 2.1. | C16: Europos Sąjungos paramos lėšos | D16: {=SUMIF('007 programa 3 lentelė'!$C6:$C238,'007 programa 3 lentelė'!C00,'007 programa 3 lentelė'!E6:E238)} -> 0 | E16: =SUMIF('007 programa 3 lentelė'!$C6:$C238,'007 programa 3 lentelė'!C16,'007 programa 3 lentelė'!F6:F238) -> 341.4 | F16: =SUMIF('007 programa 3 lentelė'!$C6:$C238,'007 programa 3 lentelė'!C16,'007 programa 3 lentelė'!G6:G238) -> 3904.8 | G16: =SUMIF('007 programa 3 lentelė'!$C6:$C238,'007 programa 3 lentelė'!C16,'007 programa 3 lentelė'!H6:H238) -> 4622.1
B17: 2.2. | C17: Privalomojo sveikatos draudimo fondo lėšos | D17: {=SUMIF('007 programa 3 lentelė'!$C6:$C238,'007 programa 3 lentelė'!C00,'007 programa 3 lentelė'!E6:E238)} -> 0 | E17: {=SUMIF('007 programa 3 lentelė'!$C6:$C238,'007 programa 3 lentelė'!C00,'007 programa 3 lentelė'!F6:F238)} -> 0 | F17: {=SUMIF('007 programa 3 lentelė'!$C6:$C238,'007 programa 3 lentelė'!C00,'007 programa 3 lentelė'!G6:G238)} -> 0 | G17: {=SUMIF('007 programa 3 lentelė'!$C6:$C238,'007 programa 3 lentelė'!C00,'007 programa 3 lentelė'!H6:H238)} -> 0
B18: 2.3. | C18: Klaipėdos valstybinio jūrų uosto direkcijos lėšos (KVJUD) | D18: {=SUMIF('007 programa 3 lentelė'!$C6:$C238,'007 programa 3 lentelė'!C00,'007 programa 3 lentelė'!E6:E238)} -> 0 | E18: {=SUMIF('007 programa 3 lentelė'!$C6:$C238,'007 programa 3 lentelė'!C00,'007 programa 3 lentelė'!F6:F238)} -> 0 | F18: {=SUMIF('007 programa 3 lentelė'!$C6:$C238,'007 programa 3 lentelė'!C00,'007 programa 3 lentelė'!G6:G238)} -> 0 | G18: {=SUMIF('007 programa 3 lentelė'!$C6:$C238,'007 programa 3 lentelė'!C00,'007 programa 3 lentelė'!H6:H238)} -> 0
B19: 2.4. | C19: Valstybės biudžeto lėšos (LRVB) | D19: =SUMIF('007 programa 3 lentelė'!$C6:$C238,'007 programa 3 lentelė'!C199,'007 programa 3 lentelė'!E6:E238) -> 0 | E19: =SUMIF('007 programa 3 lentelė'!$C6:$C238,'007 programa 3 lentelė'!C190,'007 programa 3 lentelė'!F6:F238) -> 285.6 | F19: =SUMIF('007 programa 3 lentelė'!$C6:$C238,'007 programa 3 lentelė'!E199,'007 programa 3 lentelė'!G6:G238) -> 0 | G19: =SUMIF('007 programa 3 lentelė'!$C6:$C238,'007 programa 3 lentelė'!F199,'007 programa 3 lentelė'!H6:H238) -> 0
B20: 2.5. | C20: Kiti finansavimo šaltiniai | D20: =SUMIF('007 programa 3 lentelė'!$C6:$C238,'007 programa 3 lentelė'!$C135,'007 programa 3 lentelė'!E6:E238) -> 20.8 | E20: =SUMIF('007 programa 3 lentelė'!$C6:$C238,'007 programa 3 lentelė'!$C135,'007 programa 3 lentelė'!F6:F238) -> 95 | F20: =SUMIF('007 programa 3 lentelė'!$C6:$C238,'007 programa 3 lentelė'!$C135,'007 programa 3 lentelė'!G6:G238) -> 0 | G20: =SUMIF('007 programa 3 lentelė'!$C6:$C238,'007 programa 3 lentelė'!$C135,'007 programa 3 lentelė'!H6:H238) -> 0
B21: 2.6. | C21: Kelių priežiūros ir plėtros programos lėšos (KPP) | D21: =SUMIF('007 programa 3 lentelė'!$C6:$C238,'007 programa 3 lentelė'!#REF!,'007 programa 3 lentelė'!E6:E238) -> 0 | E21: =SUMIF('007 programa 3 lentelė'!$C6:$C238,'007 programa 3 lentelė'!#REF!,'007 programa 3 lentelė'!F6:F238) -> 0 | F21: =SUMIF('007 programa 3 lentelė'!$C6:$C238,'007 programa 3 lentelė'!#REF!,'007 programa 3 lentelė'!G6:G238) -> 0 | G21: =SUMIF('007 programa 3 lentelė'!$C6:$C238,'007 programa 3 lentelė'!#REF!,'007 programa 3 lentelė'!H6:H238) -> 0
C22: IŠ VISO programai finansuoti pagal finansavimo šaltinius (1 ir 2 punktai) | D22: =+D6+D14 -> 29112.2 | E22: =+E6+E14 -> 36627.9 | F22: =+F6+F14 -> 47685.4 | G22: =+G6+G14 -> 38459.5
C23: Iš jų: regioninių pažangos priemonių lėšos | D23: =+'007 programa 3 lentelė'!E238 -> 47.7 | E23: =+'007 programa 3 lentelė'!F238 -> 1445.8 | F23: =+'007 programa 3 lentelė'!G238 -> 5280.8 | G23: =+'007 programa 3 lentelė'!H238 -> 715.1
C24: Asignavimų ir kitų lėšų pokytis, palyginti su ankstesnių metų patvirtintų asignavimų ir kitų lėšų planu | E24: =+E22-D22 -> 7515.7 | F24: =+F22-E22 -> 11057.5 | G24: =+G22-F22 -> -9225.9
D26: =+D22-'007 programa 3 lentelė'!E237 -> 0 | E26: =+E22-'007 programa 3 lentelė'!F237 -> 0 | F26: =+F22-'007 programa 3 lentelė'!G237 -> 0 | G26: =+G22-'007 programa 3 lentelė'!H237 -> 0
