Workbook

Sheet 007 programa 3 lentelė
E1: Aiškinamojo rašto priedas
B3: 3 lentelė. Klaipėdos miesto savivaldybės 2024–2027 metų 007 Miesto infrastruktūros objektų priežiūros ir modernizavimo programos uždaviniai, priemonės, asignavimai ir kitos lėšos (tūkst. eurų)
B4: Programos uždavinio, priemonės kodas ir požymis | C4: Uždavinio, priemonės pavadinimas, finansavimo šaltiniai | D4: Vykdytojas (skyrius / asmuo) | E4: 2024 metų asignavimai ir kitos lėšos | F4: 2025 metų asignavimai ir kitos lėšos | G4: 2026 metų asignavimai ir kitos lėšos | H4: 2027 metų asignavimai ir kitos lėšos | I4: Savivaldybės strateginio plėtros plano priemonės kodas
B5: 1 | C5: 2 | D5: 3 | E5: 4 | F5: 5 | G5: 6 | H5: 7 | I5: 8
B6: 007-01 (T) | C6: Uždavinys: Siekti, kad miesto viešosios erdvės būtų tvarkingos, jaukios ir saugios
B7: 007-01-01 (TP) | C7: Priemonė: Miesto aikščių, skverų ir kitų bendro naudojimo teritorijų atnaujinimas ir priežiūra
B8: 007-01-01-01 | C8: Atgimimo aikštės sutvarkymas, didinant patrauklumą investicijoms, skatinant lankytojų srautus | D8: MVPD Statybos skyrius | I8: 3.1.1.4.
C9: Savivaldybės biudžeto lėšos (nuosavos, be ankstesnių metų likučio) | E9: 281.9 | F9: =8140.1-2140.1-967.1 -> 5032.9 | G9: =13365.6-7956-5409.6 -> 0 | H9: =2140.1-2140.1 -> 0
C10: Ankstesnių metų likučiai | E10: =500+663.6 -> 1163.6 | F10: 967.1 | G10: 5409.6
C11: Skolintos lėšos | G11: 7956 | H11: 2140.1
B12: 007-01-01-02 (RP) | C12: Turgaus aikštės su prieigomis atgaivinimas | D12: Projektų skyrius | I12: 3.2.2.3.
C13: Savivaldybės biudžeto lėšos (nuosavos, be ankstesnių metų likučio) | E13: 47.7 | F13: =361.5-169.5 -> 192 | G13: =1072.6-500.5-257 -> 315.1 | H13: 715.1
B14: ` | C14: Ankstesnių metų likučiai
C15: Skolintos lėšos | G15: 257
C16: Kiti šaltiniai (Europos Sąjungos paramos lėšos) | F16: =704.6-422.7 -> 281.9 | G16: =2113.6-886.3 -> 1227.3 | H16: 1409.1
C17: Muzikinio teatro pastato Danės g. 19 aplinkos tvarkybos darbai už sklypo ribos | D17: UAD Urbanistikos skyrius | I17: 3.2.2.5.
C18: Savivaldybės biudžeto lėšos (nuosavos, be ankstesnių metų likučio) | E18: =184.5+1.1+3.4 -> 189
C19: Vingio mikrorajono aikštės atnaujinimas | D19: MVPD Aplinkosaugos ir miesto tvarkymo skyrius | I19: 3.2.2.5.
C20: Savivaldybės biudžeto lėšos (nuosavos, be ankstesnių metų likučio) | E20: =20.1-3.1 -> 17
C21: Ankstesnių metų likučiai | E21: =18.6-12.4 -> 6.2
C22: Skvero ties prekybos centru „Maxima“ (Šilutės pl. 40A) ir pėsčiųjų ir dviračių tako nuo Šilutės pl. iki Taikos pr. atnaujinimas | D22: MVPD Aplinkosaugos ir miesto tvarkymo skyrius | I22: 3.2.2.5.
C23: Skolintos lėšos | E23: =1000+53.4 -> 1053.4
C24: Ankstesnių metų likučiai | E24: 378.5
C25: AB „Klaipėdos energija“ teritorijos Danės g. 8, Klaipėdoje, konversija | D25: UAD Urbanistikos skyrius | I25: 3.2.1.2.
C26: Savivaldybės biudžeto lėšos (nuosavos, be ankstesnių metų likučio) | E26: 18.2
B27: 007-01-01-03 (RP) | C27: Danės teritorijos prieigų atgaivinimas Šiauriniame rage | D27: Projektų skyrius | I27: 3.2.1.1.
C28: Savivaldybės biudžeto lėšos (nuosavos, be ankstesnių metų likučio) | F28: 912.4 | G28: =1138.9-78 -> 1060.9 | H28: 587
C29: Skolintos lėšos | G29: 78
C30: Kiti šaltiniai (Europos Sąjungos paramos lėšos) | F30: 59.5 | G30: 2677.5 | H30: 3213
B31: 007-01-01-04 | C31: Teritorijos prie Santuokų rūmų atnaujinimas | D31: MVPD Aplinkosaugos ir miesto tvarkymo skyrius | I31: 3.2.2.5
C32: Ankstesnių metų likučiai | E32: =1000-570 -> 430 | F32: 823.9
B33: 007-01-01-05 | C33: Neringos skvero atnaujinimas
C34: Savivaldybės biudžeto lėšos (nuosavos, be ankstesnių metų likučio) | G34: =40+3 -> 43 | H34: =500+4 -> 504
B35: 007-01-01-05 | C35: Gėlynų atnaujinimas ir įrengimas
C36: Savivaldybės biudžeto lėšos (nuosavos, be ankstesnių metų likučio) | E36: 200 | F36: 200 | G36: 200 | H36: 200
B37: 007-01-01-06 | C37: Fontanų priežiūra, remontas ir atnaujinimas
C38: Savivaldybės biudžeto lėšos (nuosavos, be ankstesnių metų likučio) | E38: =317.5+110-59.9-0.1-248 -> 119.5 | F38: 501.5 | G38: 101.5 | H38: 101.5
B39: 007-01-01-07 | C39: Miesto viešųjų teritorijų inventoriaus priežiūra, įrengimas ir įsigijimas
C40: Savivaldybės biudžeto lėšos (nuosavos, be ankstesnių metų likučio) | E40: =174.2+20 -> 194.2 | F40: =232.6+25 -> 257.6 | G40: =219.7+152.5 -> 372.2 | H40: =221+82.5 -> 303.5
B41: 007-01-01-08 | C41: Šventinis miesto papuošimas (kalėdinio laikotarpio)
...

Sheet Lėšų suvestinė 2 lentelė
B1: 2 lentelė. 2024–2027 metų asignavimų ir kitų lėšų pasiskirstymas (tūkst. Eur)
B3: Eil. Nr. | C3: Programos kodas ir pavadinimas | D3: 2024 m. asignavimai ir kitos lėšos | E3: 2025 metų asignavimai ir kitos lėšos | F3: 2026 metų asignavimai ir kitos lėšos | G3: 2027 metų asignavimai ir kitos lėšos
B4: 1 | C4: 2 | D4: 3 | E4: 4 | F4: 5 | G4: 6
B5: 007 Miesto infrastruktūros objektų priežiūros ir modernizvimo programa
B6: 1. | C6: Savivaldybės biudžetas (įskaitant skolintas lėšas) | D6: =+D8+D9+D10+D11+D12+D13 -> 29091.4 | E6: =+E8+E9+E10+E11+E12+E13 -> 35905.9 | F6: =+F8+F9+F10+F11+F12+F13 -> 43780.6 | G6: =+G8+G9+G10+G11+G12+G13 -> 33837.4
C7: Iš jo:
B8: 1.1. | C8: savivaldybės biudžeto lėšos (nuosavos, be ankstesnių metų likučio) | D8: =SUMIF('007 programa 3 lentelė'!$C6:$C238,'007 programa 3 lentelė'!$C13,'007 programa 3 lentelė'!E6:E238) -> 19819.5 | E8: =SUMIF('007 programa 3 lentelė'!$C6:$C238,'007 programa 3 lentelė'!$C13,'007 programa 3 lentelė'!F6:F238) -> 31113.3 | F8: =SUMIF('007 programa 3 lentelė'!$C6:$C238,'007 programa 3 lentelė'!$C13,'007 programa 3 lentelė'!G6:G238) -> 23262.5 | G8: =SUMIF('007 programa 3 lentelė'!$C6:$C238,'007 programa 3 lentelė'!$C13,'007 programa 3 lentelė'!H6:H238) -> 27787
B9: 1.2. | C9: Lietuvos Respublikos valstybės biudžeto dotacijos | D9: =SUMIF('007 programa 3 lentelė'!$C6:$C238,'007 programa 3 lentelė'!$C178,'007 programa 3 lentelė'!E6:E238) -> 3206.3 | E9: =SUMIF('007 programa 3 lentelė'!$C6:$C238,'007 programa 3 lentelė'!$C178,'007 programa 3 lentelė'!F6:F238) -> 2005 | F9: =SUMIF('007 programa 3 lentelė'!$C6:$C238,'007 programa 3 lentelė'!$C178,'007 programa 3 lentelė'!G6:G238) -> 2506.8 | G9: =SUMIF('007 programa 3 lentelė'!$C6:$C238,'007 programa 3 lentelė'!$C178,'007 programa 3 lentelė'!H6:H238) -> 3153
B10: 1.3. | C10: pajamų įmokos ir kitos pajamos | D10: =SUMIF('007 programa 3 lentelė'!$C6:$C238,'007 programa 3 lentelė'!$C57,'007 programa 3 lentelė'!E6:E238) -> 825.1 | E10: =SUMIF('007 programa 3 lentelė'!$C6:$C238,'007 programa 3 lentelė'!$C57,'007 programa 3 lentelė'!F6:F238) -> 742.3 | F10: =SUMIF('007 programa 3 lentelė'!$C6:$C238,'007 programa 3 lentelė'!$C57,'007 programa 3 lentelė'!G6:G238) -> 757.3 | G10: =SUMIF('007 programa 3 lentelė'!$C6:$C238,'007 programa 3 lentelė'!$C57,'007 programa 3 lentelė'!H6:H238) -> 757.3
B11: 1.4. | C11: Europos Sąjungos ir kitos tarptautinės finansinės paramos lėšos | D11: =SUMIF('007 programa 3 lentelė'!$C6:$C238,'007 programa 3 lentelė'!$C144,'007 programa 3 lentelė'!E6:E238) -> 302.1 | E11: =SUMIF('007 programa 3 lentelė'!$C6:$C238,'007 programa 3 lentelė'!$C144,'007 programa 3 lentelė'!F6:F238) -> 0 | F11: =SUMIF('007 programa 3 lentelė'!$C6:$C238,'007 programa 3 lentelė'!$C144,'007 programa 3 lentelė'!G6:G238) -> 0 | G11: =SUMIF('007 programa 3 lentelė'!$C6:$C238,'007 programa 3 lentelė'!$C144,'007 programa 3 lentelė'!H6:H238) -> 0
B12: 1.5. | C12: skolintos lėšos | D12: =SUMIF('007 programa 3 lentelė'!$C6:$C238,'007 programa 3 lentelė'!$C23,'007 programa 3 lentelė'!E6:E238) -> 1053.4 | E12: =SUMIF('007 programa 3 lentelė'!$C6:$C238,'007 programa 3 lentelė'!$C23,'007 programa 3 lentelė'!F6:F238) -> 0 | F12: =SUMIF('007 programa 3 lentelė'!$C6:$C238,'007 programa 3 lentelė'!$C23,'007 programa 3 lentelė'!G6:G238) -> 8291 | G12: =SUMIF('007 programa 3 lentelė'!$C6:$C238,'007 programa 3 lentelė'!$C23,'007 programa 3 lentelė'!H6:H238) -> 2140.1
B13: 1.6. | C13: ankstesnių metų likučiai | D13: =SUMIF('007 programa 3 lentelė'!$C6:$C238,'007 programa 3 lentelė'!$C10,'007 programa 3 lentelė'!E6:E238) -> 3885 | E13: =SUMIF('007 programa 3 lentelė'!$C6:$C238,'007 programa 3 lentelė'!$C10,'007 programa 3 lentelė'!F6:F238) -> 2045.3 | F13: =SUMIF('007 programa 3 lentelė'!$C6:$C238,'007 programa 3 lentelė'!$C10,'007 programa 3 lentelė'!G6:G238) -> 8963 | G13: =SUMIF('007 programa 3 lentelė'!$C6:$C238,'007 programa 3 lentelė'!$C10,'007 programa 3 lentelė'!H6:H238) -> 0
B14: 2. | C14: Kiti šaltiniai (Europos Sąjungos finansinė parama projektams įgyvendinti ir kitos teisėtai gautos lėšos, nurodant atskirus šaltinius) | D14: =+D16+D17+D18+D19+D20+D21 -> 20.8 | E14: =+E16+E17+E18+E19+E20+E21 -> 722 | F14: =+F16+F17+F18+F19+F20+F21 -> 3904.8 | G14: =+G16+G17+G18+G19+G20+G21 -> 4622.1
C15: Iš jo:
B16: 2.1. | C16: Europos Sąjungos paramos lėšos | D16: {=SUMIF('007 programa 3 lentelė'!$C6:$C238,'007 programa 3 lentelė'!C00,'007 programa 3 lentelė'!E6:E238)} -> 0 | E16: =SUMIF('007 programa 3 lentelė'!$C6:$C238,'007 programa 3 lentelė'!C16,'007 programa 3 lentelė'!F6:F238) -> 341.4 | F16: =SUMIF('007 programa 3 lentelė'!$C6:$C238,'007 programa 3 lentelė'!C16,'007 programa 3 lentelė'!G6:G238) -> 3904.8 | G16: =SUMIF('007 programa 3 lentelė'!$C6:$C238,'007 programa 3 lentelė'!C16,'007 programa 3 lentelė'!H6:H238) -> 4622.1
B17: 2.2. | C17: Privalomojo sveikatos draudimo fondo lėšos | D17: {=SUMIF('007 programa 3 lentelė'!$C6:$C238,'007 programa 3 lentelė'!C00,'007 programa 3 lentelė'!E6:E238)} -> 0 | E17: {=SUMIF('007 programa 3 lentelė'!$C6:$C238,'007 programa 3 lentelė'!C00,'007 programa 3 lentelė'!F6:F238)} -> 0 | F17: {=SUMIF('007 programa 3 lentelė'!$C6:$C238,'007 programa 3 lentelė'!C00,'007 programa 3 lentelė'!G6:G238)} -> 0 | G17: {=SUMIF('007 programa 3 lentelė'!$C6:$C238,'007 programa 3 lentelė'!C00,'007 programa 3 lentelė'!H6:H238)} -> 0
B18: 2.3. | C18: Klaipėdos valstybinio jūrų uosto direkcijos lėšos (KVJUD) | D18: {=SUMIF('007 programa 3 lentelė'!$C6:$C238,'007 programa 3 lentelė'!C00,'007 programa 3 lentelė'!E6:E238)} -> 0 | E18: {=SUMIF('007 programa 3 lentelė'!$C6:$C238,'007 programa 3 lentelė'!C00,'007 programa 3 lentelė'!F6:F238)} -> 0 | F18: {=SUMIF('007 programa 3 lentelė'!$C6:$C238,'007 programa 3 lentelė'!C00,'007 programa 3 lentelė'!G6:G238)} -> 0 | G18: {=SUMIF('007 programa 3 lentelė'!$C6:$C238,'007 programa 3 lentelė'!C00,'007 programa 3 lentelė'!H6:H238)} -> 0
B19: 2.4. | C19: Valstybės biudžeto lėšos (LRVB) | D19: =SUMIF('007 programa 3 lentelė'!$C6:$C238,'007 programa 3 lentelė'!C199,'007 programa 3 lentelė'!E6:E238) -> 0 | E19: =SUMIF('007 programa 3 lentelė'!$C6:$C238,'007 programa 3 lentelė'!C190,'007 programa 3 lentelė'!F6:F238) -> 285.6 | F19: =SUMIF('007 programa 3 lentelė'!$C6:$C238,'007 programa 3 lentelė'!E199,'007 programa 3 lentelė'!G6:G238) -> 0 | G19: =SUMIF('007 programa 3 lentelė'!$C6:$C238,'007 programa 3 lentelė'!F199,'007 programa 3 lentelė'!H6:H238) -> 0
B20: 2.5. | C20: Kiti finansavimo šaltiniai | D20: =SUMIF('007 programa 3 lentelė'!$C6:$C238,'007 programa 3 lentelė'!$C135,'007 programa 3 lentelė'!E6:E238) -> 20.8 | E20: =SUMIF('007 programa 3 lentelė'!$C6:$C238,'007 programa 3 lentelė'!$C135,'007 programa 3 lentelė'!F6:F238) -> 95 | F20: =SUMIF('007 programa 3 lentelė'!$C6:$C238,'007 programa 3 lentelė'!$C135,'007 programa 3 lentelė'!G6:G238) -> 0 | G20: =SUMIF('007 programa 3 lentelė'!$C6:$C238,'007 programa 3 lentelė'!$C135,'007 programa 3 lentelė'!H6:H238) -> 0
B21: 2.6. | C21: Kelių priežiūros ir plėtros programos lėšos (KPP) | D21: =SUMIF('007 programa 3 lentelė'!$C6:$C238,'007 programa 3 lentelė'!#REF!,'007 programa 3 lentelė'!E6:E238) -> 0 | E21: =SUMIF('007 programa 3 lentelė'!$C6:$C238,'007 programa 3 lentelė'!#REF!,'007 programa 3 lentelė'!F6:F238) -> 0 | F21: =SUMIF('007 programa 3 lentelė'!$C6:$C238,'007 programa 3 lentelė'!#REF!,'007 programa 3 lentelė'!G6:G238) -> 0 | G21: =SUMIF('007 programa 3 lentelė'!$C6:$C238,'007 programa 3 lentelė'!#REF!,'007 programa 3 lentelė'!H6:H238) -> 0
C22: IŠ VISO programai finansuoti pagal finansavimo šaltinius (1 ir 2 punktai) | D22: =+D6+D14 -> 29112.2 | E22: =+E6+E14 -> 36627.9 | F22: =+F6+F14 -> 47685.4 | G22: =+G6+G14 -> 38459.5
C23: Iš jų: regioninių pažangos priemonių lėšos | D23: =+'007 programa 3 lentelė'!E238 -> 47.7 | E23: =+'007 programa 3 lentelė'!F238 -> 1445.8 | F23: =+'007 programa 3 lentelė'!G238 -> 5280.8 | G23: =+'007 programa 3 lentelė'!H238 -> 715.1
C24: Asignavimų ir kitų lėšų pokytis, palyginti su ankstesnių metų patvirtintų asignavimų ir kitų lėšų planu | E24: =+E22-D22 -> 7515.7 | F24: =+F22-E22 -> 11057.5 | G24: =+G22-F22 -> -9225.9
D26: =+D22-'007 programa 3 lentelė'!E237 -> 0 | E26: =+E22-'007 programa 3 lentelė'!F237 -> 0 | F26: =+F22-'007 programa 3 lentelė'!G237 -> 0 | G26: =+G22-'007 programa 3 lentelė'!H237 -> 0
