Workbook

Sheet 005 programa 3 lentelė
H1: Aiškinamojo rašto
H2: 1 priedas
B4: 3 lentelė. Klaipėdos miesto savivaldybės 2024–2027 metų 005 Aplinkos apsaugos programos uždaviniai, priemonės, asignavimai ir kitos lėšos (tūkst. eurų)
B5: Programos uždavinio, priemonės kodas ir požymis | C5: Uždavinio, priemonės pavadinimas, finansavimo šaltiniai | D5: Vykdytojas (padalinys / asmuo) | E5: 2024 metų asignavimai ir kitos lėšos | F5: 2025 metų asignavimai ir kitos lėšos | G5: 2026 metų asignavimai ir kitos lėšos | H5: 2027 metų asignavimai ir kitos lėšos | I5: Savivaldybės strateginio plėtros plano priemonės kodas
B6: 1 | C6: 2 | D6: 3 | E6: 4 | F6: 5 | G6: 6 | H6: 7 | I6: 8
B7: 005-01 (T) | C7: Uždavinys: Tobulinti atliekų tvarkymo sistemą
B8: 005-01-01 (TP) | C8: Priemonė: Komunalinių atliekų tvarkymo organizavimas
B9: 005-01-01-01 | C9: Komunalinių atliekų surinkimas ir tvarkymas | D9: MVPD Aplinkosaugos ir miesto tvarkymo skyrius
C10: Savivaldybės biudžeto lėšos (nuosavos, be ankstesnių metų likučio) | E10: =6325.6+2.3 -> 6327.9 | F10: 6860 | G10: =6860+306.8 -> 7166.8 | H10: =6860+306.8 -> 7166.8
C11: Ankstesnių metų likučiai | E11: =750.6+8.2-2.3+144.7 -> 901.2 | F11: 306.8
B12: 005-01-01-02 | C12: Komunalinių atliekų surinkimas ir tvarkymas Lėbartų kapinėse
C13: Savivaldybės biudžeto lėšos (nuosavos, be ankstesnių metų likučio) | E13: 141.7 | G13: 170 | H13: 170
C14: Ankstesnių metų likučiai | F14: 170
B15: 005-01-01-03 | C15: Savavališkai užterštų teritorijų sutvarkymas
C16: Savivaldybės biudžeto lėšos (nuosavos, be ankstesnių metų likučio) | E16: =85+11.2 -> 96.2 | F16: 100 | G16: 100 | H16: 100
C17: Ankstesnių metų likučiai | E17: 50
B18: 005-01-01-04 | C18: Pavojingų atliekų šalinimas
C19: Savivaldybės biudžeto lėšos (nuosavos, be ankstesnių metų likučio) | E19: =30+40 -> 70 | F19: 50 | G19: 50 | H19: 50
C20: Savivaldybės biudžeto lėšos (nuosavos, be ankstesnių metų likučio) | D20: AD Administracinės veiklos, kontrolės ir prevencijos skyrius | E20: 22.8 | F20: 7.7 | G20: 7.7 | H20: 7.7
B21: 005-01-01-05 | C21: Visuomenės švietimo atliekų tvarkymo klausimais vykdymas | D21: MVPD Aplinkosaugos ir miesto tvarkymo skyrius
C22: Savivaldybės biudžeto lėšos (nuosavos, be ankstesnių metų likučio) | E22: =7.7-2.3 -> 5.4 | G22: 3.6 | H22: 3.6
C23: Ankstesnių metų likučiai | E23: =12.9-8.2+2.3 -> 7 | F23: 5.2
C24: Komunalinių atliekų tvarkymo infrastruktūros plėtra Klaipėdos miesto, Skuodo ir Kretingos rajonų bei Neringos savivaldybėse | D24: Projektų skyrius | I24: 3.3.4.1.
C25: Savivaldybės biudžeto lėšos (nuosavos, be ankstesnių metų likučio)
C26: Ankstesnių metų likučiai | E26: 246
B27: 005-01-01-06 | C27: Asbesto turinčių gaminių atliekų surinkimas apvažiavimo būdu, transportavimas ir šalinimas iš gyvenamųjų bei viešosios paskirties pastatų | D27: MVPD Aplinkosaugos ir miesto tvarkymo skyrius
C28: Savivaldybės biudžeto lėšos (nuosavos, be ankstesnių metų likučio) | F28: 9.9 | G28: 9.9 | H28: 9.9
C29: Kiti šaltiniai (valstybės biudžeto lėšos) | E29: 6.9
B30: 005-01-01-07 | C30: Atliekų surinkimo priemonių įsigijimas
C31: Savivaldybės biudžeto lėšos (nuosavos, be ankstesnių metų likučio) | G31: 33
C32: Ankstesnių metų likučiai | E32: 25.9 | F32: 61.7
B33: 005-01-01-08 (RP) | C33: Atliekų tvarkymo sistemos plėtra | D33: Projektų skyrius | I33: 3.3.4.1.
C34: Savivaldybės biudžeto lėšos (nuosavos, be ankstesnių metų likučio) | H34: 89.6
C35: Skolintos lėšos | G35: 111.3
C36: Ankstesnių metų likučiai | F36: 2.3
C37: Kiti šaltiniai (Europos Sąjungos paramos lėšos) | F37: 12.8 | G37: 627.5 | H37: 504.2
B38: 005-01-01-09 | C38: Komunalinių atliekų tvarkymo infrastruktūros plėtra | D38: MVPD Aplinkosaugos ir miesto tvarkymo skyrius | I38: 3.3.4.1.
C39: Savivaldybės biudžeto lėšos (nuosavos, be ankstesnių metų likučio) | G39: =0+21.1 -> 21.1
C40: Ankstesnių metų likučiai | E40: 92 | F40: =54.3+19.4 -> 73.7
C41: Savivaldybės biudžetas (įskaitant skolintas lėšas) | E41: =+E43+E44+E45 -> 7986.1 | F41: =+F43+F44+F45 -> 7647.3 | G41: =+G43+G44+G45 -> 7673.4 | H41: =+H43+H44+H45 -> 7597.6
...

Sheet Lėšų suvestinė 2 lentelė
B1: 2 lentelė. 2024–2027 metų asignavimų ir kitų lėšų pasiskirstymas (tūkst. Eur)
B3: Eil. Nr. | C3: Programos kodas ir pavadinimas | D3: 2024 m. asignavimai ir kitos lėšos | E3: 2025 m. asignavimai ir kitos lėšos | F3: 2026 m. asignavimai ir kitos lėšos | G3: 2027 m. asignavimai ir kitos lėšos
B4: 1 | C4: 2 | D4: 3 | E4: 4 | F4: 5 | G4: 6
B5: 005 Aplinkos apsaugos programa
B6: 1. | C6: Savivaldybės biudžetas (įskaitant skolintas lėšas) | D6: =+D8+D9+D10+D11+D12+D13 -> 11203.8 | E6: =+E8+E9+E10+E11+E12+E13 -> 9687.8 | F6: =+F8+F9+F10+F11+F12+F13 -> 9593.1 | G6: =+G8+G9+G10+G11+G12+G13 -> 8664.3
C7: Iš jo:
B8: 1.1. | C8: savivaldybės biudžeto lėšos (nuosavos, be ankstesnių metų likučio) | D8: =SUMIF('005 programa 3 lentelė'!$C7:$C197,'005 programa 3 lentelė'!$C10,'005 programa 3 lentelė'!E7:E197) -> 7673.5 | E8: =SUMIF('005 programa 3 lentelė'!$C7:$C197,'005 programa 3 lentelė'!$C10,'005 programa 3 lentelė'!F7:F197) -> 8809.9 | F8: =SUMIF('005 programa 3 lentelė'!$C7:$C197,'005 programa 3 lentelė'!$C10,'005 programa 3 lentelė'!G7:G197) -> 8988.1 | G8: =SUMIF('005 programa 3 lentelė'!$C7:$C197,'005 programa 3 lentelė'!$C10,'005 programa 3 lentelė'!H7:H197) -> 8664.3
B9: 1.2. | C9: Lietuvos Respublikos valstybės biudžeto dotacijos | D9: =SUMIF('005 programa 3 lentelė'!$C7:$C197,'005 programa 3 lentelė'!$C133,'005 programa 3 lentelė'!E7:E197) -> 521 | E9: =SUMIF('005 programa 3 lentelė'!$C8:$C198,'005 programa 3 lentelė'!$C133,'005 programa 3 lentelė'!F8:F198) -> 0 | F9: =SUMIF('005 programa 3 lentelė'!$C7:$C197,'005 programa 3 lentelė'!$C133,'005 programa 3 lentelė'!G7:G197) -> 0 | G9: =SUMIF('005 programa 3 lentelė'!$C7:$C197,'005 programa 3 lentelė'!$C133,'005 programa 3 lentelė'!H7:H197) -> 0
B10: 1.3. | C10: pajamų įmokos ir kitos pajamos | D10: {=SUMIF('005 programa 3 lentelė'!$C7:$C197,'005 programa 3 lentelė'!C00,'005 programa 3 lentelė'!E7:E197)} -> 0 | E10: =SUMIF('005 programa 3 lentelė'!$C9:$C199,'005 programa 3 lentelė'!$C12,'005 programa 3 lentelė'!F9:F199) -> 0 | F10: {=SUMIF('005 programa 3 lentelė'!$C7:$C197,'005 programa 3 lentelė'!C00,'005 programa 3 lentelė'!G7:G197)} -> 0 | G10: {=SUMIF('005 programa 3 lentelė'!$C7:$C197,'005 programa 3 lentelė'!C00,'005 programa 3 lentelė'!H7:H197)} -> 0
B11: 1.4. | C11: Europos Sąjungos ir kitos tarptautinės finansinės paramos lėšos | D11: {=SUMIF('005 programa 3 lentelė'!$C7:$C197,'005 programa 3 lentelė'!C00,'005 programa 3 lentelė'!E7:E197)} -> 0 | E11: {=SUMIF('005 programa 3 lentelė'!$C10:$C200,'005 programa 3 lentelė'!C00,'005 programa 3 lentelė'!F10:F200)} -> 0 | F11: {=SUMIF('005 programa 3 lentelė'!$C7:$C197,'005 programa 3 lentelė'!C00,'005 programa 3 lentelė'!G7:G197)} -> 0 | G11: {=SUMIF('005 programa 3 lentelė'!$C7:$C197,'005 programa 3 lentelė'!C00,'005 programa 3 lentelė'!H7:H197)} -> 0
B12: 1.5. | C12: skolintos lėšos | D12: =SUMIF('005 programa 3 lentelė'!$C7:$C197,'005 programa 3 lentelė'!$C35,'005 programa 3 lentelė'!E7:E197) -> 0 | E12: =SUMIF('005 programa 3 lentelė'!$C7:$C197,'005 programa 3 lentelė'!$C35,'005 programa 3 lentelė'!F7:F197) -> 0 | F12: =SUMIF('005 programa 3 lentelė'!$C7:$C197,'005 programa 3 lentelė'!$C35,'005 programa 3 lentelė'!G7:G197) -> 605 | G12: =SUMIF('005 programa 3 lentelė'!$C7:$C197,'005 programa 3 lentelė'!$C35,'005 programa 3 lentelė'!H7:H197) -> 0
B13: 1.6. | C13: ankstesnių metų likučiai | D13: =SUMIF('005 programa 3 lentelė'!$C7:$C197,'005 programa 3 lentelė'!$C23,'005 programa 3 lentelė'!E7:E197) -> 3009.3 | E13: =SUMIF('005 programa 3 lentelė'!$C7:$C197,'005 programa 3 lentelė'!$C23,'005 programa 3 lentelė'!F7:F197) -> 877.9 | F13: =SUMIF('005 programa 3 lentelė'!$C7:$C197,'005 programa 3 lentelė'!$C23,'005 programa 3 lentelė'!G7:G197) -> 0 | G13: =SUMIF('005 programa 3 lentelė'!$C7:$C197,'005 programa 3 lentelė'!$C23,'005 programa 3 lentelė'!H7:H197) -> 0
B14: 2. | C14: Kiti šaltiniai (Europos Sąjungos finansinė parama projektams įgyvendinti ir kitos teisėtai gautos lėšos, nurodant atskirus šaltinius) | D14: =+D16+D17+D18+D19+D20+D21 -> 21.2 | E14: =+E16+E17+E18+E19+E20+E21 -> 2772.4 | F14: =+F16+F17+F18+F19+F20+F21 -> 4262.5 | G14: =+G16+G17+G18+G19+G20+G21 -> 1050.6
C15: Iš jo:
B16: 2.1. | C16: Europos Sąjungos paramos lėšos | D16: =SUMIF('005 programa 3 lentelė'!$C7:$C197,'005 programa 3 lentelė'!$C37,'005 programa 3 lentelė'!E7:E197) -> 0 | E16: =SUMIF('005 programa 3 lentelė'!$C7:$C197,'005 programa 3 lentelė'!$C37,'005 programa 3 lentelė'!F7:F197) -> 2772.4 | F16: =SUMIF('005 programa 3 lentelė'!$C7:$C197,'005 programa 3 lentelė'!$C37,'005 programa 3 lentelė'!G7:G197) -> 4262.5 | G16: =SUMIF('005 programa 3 lentelė'!$C7:$C197,'005 programa 3 lentelė'!$C37,'005 programa 3 lentelė'!H7:H197) -> 1050.6
B17: 2.2. | C17: Privalomojo sveikatos draudimo fondo lėšos | D17: {=SUMIF('005 programa 3 lentelė'!$C7:$C197,'005 programa 3 lentelė'!C00,'005 programa 3 lentelė'!E7:E197)} -> 0 | E17: {=SUMIF('005 programa 3 lentelė'!$C7:$C197,'005 programa 3 lentelė'!C00,'005 programa 3 lentelė'!F7:F197)} -> 0 | F17: {=SUMIF('005 programa 3 lentelė'!$C7:$C197,'005 programa 3 lentelė'!C00,'005 programa 3 lentelė'!G7:G197)} -> 0 | G17: {=SUMIF('005 programa 3 lentelė'!$C7:$C197,'005 programa 3 lentelė'!C00,'005 programa 3 lentelė'!H7:H197)} -> 0
B18: 2.3. | C18: Klaipėdos valstybinio jūrų uosto direkcijos lėšos (KVJUD) | D18: {=SUMIF('005 programa 3 lentelė'!$C7:$C197,'005 programa 3 lentelė'!C00,'005 programa 3 lentelė'!E7:E197)} -> 0 | E18: {=SUMIF('005 programa 3 lentelė'!$C7:$C197,'005 programa 3 lentelė'!C00,'005 programa 3 lentelė'!F7:F197)} -> 0 | F18: {=SUMIF('005 programa 3 lentelė'!$C7:$C197,'005 programa 3 lentelė'!C00,'005 programa 3 lentelė'!G7:G197)} -> 0 | G18: {=SUMIF('005 programa 3 lentelė'!$C7:$C197,'005 programa 3 lentelė'!C00,'005 programa 3 lentelė'!H7:H197)} -> 0
B19: 2.4. | C19: Valstybės biudžeto lėšos (LRVB) | D19: =SUMIF('005 programa 3 lentelė'!$C7:$C197,'005 programa 3 lentelė'!$C29,'005 programa 3 lentelė'!E7:E197) -> 6.9 | E19: =SUMIF('005 programa 3 lentelė'!$C7:$C197,'005 programa 3 lentelė'!$C29,'005 programa 3 lentelė'!F7:F197) -> 0 | F19: =SUMIF('005 programa 3 lentelė'!$C7:$C197,'005 programa 3 lentelė'!$C29,'005 programa 3 lentelė'!G7:G197) -> 0 | G19: =SUMIF('005 programa 3 lentelė'!$C7:$C197,'005 programa 3 lentelė'!$C29,'005 programa 3 lentelė'!H7:H197) -> 0
B20: 2.5. | C20: Kiti finansavimo šaltiniai | D20: =SUMIF('005 programa 3 lentelė'!$C7:$C197,'005 programa 3 lentelė'!$C70,'005 programa 3 lentelė'!E7:E197) -> 14.3 | E20: =SUMIF('005 programa 3 lentelė'!$C7:$C197,'005 programa 3 lentelė'!$C70,'005 programa 3 lentelė'!F7:F197) -> 0 | F20: =SUMIF('005 programa 3 lentelė'!$C7:$C197,'005 programa 3 lentelė'!$C70,'005 programa 3 lentelė'!G7:G197) -> 0 | G20: =SUMIF('005 programa 3 lentelė'!$C7:$C197,'005 programa 3 lentelė'!$C70,'005 programa 3 lentelė'!H7:H197) -> 0
B21: 2.6. | C21: Kelių priežiūros ir plėtros programos lėšos (KPP) | D21: =SUMIF('005 programa 3 lentelė'!$C7:$C197,'005 programa 3 lentelė'!$C151,'005 programa 3 lentelė'!E7:E197) -> 0 | E21: =SUMIF('005 programa 3 lentelė'!$C7:$C197,'005 programa 3 lentelė'!$C151,'005 programa 3 lentelė'!F7:F197) -> 0 | F21: =SUMIF('005 programa 3 lentelė'!$C7:$C197,'005 programa 3 lentelė'!$C151,'005 programa 3 lentelė'!G7:G197) -> 0 | G21: =SUMIF('005 programa 3 lentelė'!$C7:$C197,'005 programa 3 lentelė'!$C151,'005 programa 3 lentelė'!H7:H197) -> 0
C22: IŠ VISO programai finansuoti pagal finansavimo šaltinius (1 ir 2 punktai) | D22: =+D6+D14 -> 11225 | E22: =+E6+E14 -> 12460.2 | F22: =+F6+F14 -> 13855.6 | G22: =+G6+G14 -> 9714.9
C23: Iš jų: regioninių pažangos priemonių lėšos | D23: =+'005 programa 3 lentelė'!E196 -> 322.9 | E23: =+'005 programa 3 lentelė'!F196 -> 3539.5 | F23: =+'005 programa 3 lentelė'!G196 -> 4640.4 | G23: =+'005 programa 3 lentelė'!H196 -> 1216.2
C24: Asignavimų ir kitų lėšų pokytis, palyginti su ankstesnių metų patvirtintų asignavimų ir kitų lėšų planu | E24: =+'005 programa 3 lentelė'!F197 -> 1235.2 | F24: =+'005 programa 3 lentelė'!G197 -> 1395.4 | G24: =+'005 programa 3 lentelė'!H197 -> -4140.7
