Workbook

Sheet 005 programa 3 lentelė
H1: Aiškinamojo rašto
H2: 1 priedas
B4: 3 lentelė. Klaipėdos miesto savivaldybės 2024–2027 metų 005 Aplinkos apsaugos programos uždaviniai, priemonės, asignavimai ir kitos lėšos (tūkst. eurų)
B5: Programos uždavinio, priemonės kodas ir požymis | C5: Uždavinio, priemonės pavadinimas, finansavimo šaltiniai | D5: Vykdytojas (padalinys / asmuo) | E5: 2024 metų asignavimai ir kitos lėšos | F5: 2025 metų asignavimai ir kitos lėšos | G5: 2026 metų asignavimai ir kitos lėšos | H5: 2027 metų asignavimai ir kitos lėšos | I5: Savivaldybės strateginio plėtros plano priemonės kodas
B6: 1 | C6: 2 | D6: 3 | E6: 4 | F6: 5 | G6: 6 | H6: 7 | I6: 8
B7: 005-01 (T) | C7: Uždavinys: Tobulinti atliekų tvarkymo sistemą
B8: 005-01-01 (TP) | C8: Priemonė: Komunalinių atliekų tvarkymo organizavimas
B9: 005-01-01-01 | C9: Komunalinių atliekų surinkimas ir tvarkymas | D9: MVPD Aplinkosaugos ir miesto tvarkymo skyrius
C10: Savivaldybės biudžeto lėšos (nuosavos, be ankstesnių metų likučio) | E10: =6325.6+2.3 -> 6327.9 | F10: 6860 | G10: =6860+306.8 -> 7166.8 | H10: =6860+306.8 -> 7166.8
C11: Ankstesnių metų likučiai | E11: =750.6+8.2-2.3+144.7 -> 901.2 | F11: 306.8
B12: 005-01-01-02 | C12: Komunalinių atliekų surinkimas ir tvarkymas Lėbartų kapinėse
C13: Savivaldybės biudžeto lėšos (nuosavos, be ankstesnių metų likučio) | E13: 141.7 | G13: 170 | H13: 170
C14: Ankstesnių metų likučiai | F14: 170
B15: 005-01-01-03 | C15: Savavališkai užterštų teritorijų sutvarkymas
C16: Savivaldybės biudžeto lėšos (nuosavos, be ankstesnių metų likučio) | E16: =85+11.2 -> 96.2 | F16: 100 | G16: 100 | H16: 100
C17: Ankstesnių metų likučiai | E17: 50
B18: 005-01-01-04 | C18: Pavojingų atliekų šalinimas
C19: Savivaldybės biudžeto lėšos (nuosavos, be ankstesnių metų likučio) | E19: =30+40 -> 70 | F19: 50 | G19: 50 | H19: 50
C20: Savivaldybės biudžeto lėšos (nuosavos, be ankstesnių metų likučio) | D20: AD Administracinės veiklos, kontrolės ir prevencijos skyrius | E20: 22.8 | F20: 7.7 | G20: 7.7 | H20: 7.7
B21: 005-01-01-05 | C21: Visuomenės švietimo atliekų tvarkymo klausimais vykdymas | D21: MVPD Aplinkosaugos ir miesto tvarkymo skyrius
C22: Savivaldybės biudžeto lėšos (nuosavos, be ankstesnių metų likučio) | E22: =7.7-2.3 -> 5.4 | G22: 3.6 | H22: 3.6
C23: Ankstesnių metų likučiai | E23: =12.9-8.2+2.3 -> 7 | F23: 5.2
C24: Komunalinių atliekų tvarkymo infrastruktūros plėtra Klaipėdos miesto, Skuodo ir Kretingos rajonų bei Neringos savivaldybėse | D24: Projektų skyrius | I24: 3.3.4.1.
C25: Savivaldybės biudžeto lėšos (nuosavos, be ankstesnių metų likučio)
C26: Ankstesnių metų likučiai | E26: 246
B27: 005-01-01-06 | C27: Asbesto turinčių gaminių atliekų surinkimas apvažiavimo būdu, transportavimas ir šalinimas iš gyvenamųjų bei viešosios paskirties pastatų | D27: MVPD Aplinkosaugos ir miesto tvarkymo skyrius
C28: Savivaldybės biudžeto lėšos (nuosavos, be ankstesnių metų likučio) | F28: 9.9 | G28: 9.9 | H28: 9.9
C29: Kiti šaltiniai (valstybės biudžeto lėšos) | E29: 6.9
B30: 005-01-01-07 | C30: Atliekų surinkimo priemonių įsigijimas
C31: Savivaldybės biudžeto lėšos (nuosavos, be ankstesnių metų likučio) | G31: 33
C32: Ankstesnių metų likučiai | E32: 25.9 | F32: 61.7
B33: 005-01-01-08 (RP) | C33: Atliekų tvarkymo sistemos plėtra | D33: Projektų skyrius | I33: 3.3.4.1.
C34: Savivaldybės biudžeto lėšos (nuosavos, be ankstesnių metų likučio) | H34: 89.6
C35: Skolintos lėšos | G35: 111.3
C36: Ankstesnių metų likučiai | F36: 2.3
C37: Kiti šaltiniai (Europos Sąjungos paramos lėšos) | F37: 12.8 | G37: 627.5 | H37: 504.2
B38: 005-01-01-09 | C38: Komunalinių atliekų tvarkymo infrastruktūros plėtra | D38: MVPD Aplinkosaugos ir miesto tvarkymo skyrius | I38: 3.3.4.1.
C39: Savivaldybės biudžeto lėšos (nuosavos, be ankstesnių metų likučio) | G39: =0+21.1 -> 21.1
C40: Ankstesnių metų likučiai | E40: 92 | F40: =54.3+19.4 -> 73.7
C41: Savivaldybės biudžetas (įskaitant skolintas lėšas) | E41: =+E43+E44+E45 -> 7986.1 | F41: =+F43+F44+F45 -> 7647.3 | G41: =+G43+G44+G45 -> 7673.4 | H41: =+H43+H44+H45 -> 7597.6
C42: Iš jo:
C43: Savivaldybės biudžeto lėšos (nuosavos, be ankstesnių metų likučio)' | E43: =SUMIF($C9:$C40,$C10,E9:E40) -> 6664 | F43: =SUMIF($C9:$C40,$C10,F9:F40) -> 7027.6 | G43: =SUMIF($C9:$C40,$C10,G9:G40) -> 7562.1 | H43: =SUMIF($C9:$C40,$C10,H9:H40) -> 7597.6
C44: Skolintos lėšos' | E44: =SUMIF($C10:$C41,$C35,E10:E41) -> 0 | F44: =SUMIF($C10:$C41,$C35,F10:F41) -> 0 | G44: =SUMIF($C10:$C41,$C35,G10:G41) -> 111.3 | H44: =SUMIF($C10:$C41,$C35,H10:H41) -> 0
C45: Ankstesnių metų likučiai' | E45: =SUMIF($C9:$C40,$C11,E9:E40) -> 1322.1 | F45: =SUMIF($C9:$C40,$C11,F9:F40) -> 619.7 | G45: =SUMIF($C9:$C40,$C11,G9:G40) -> 0 | H45: =SUMIF($C9:$C40,$C11,H9:H40) -> 0
C46: Kiti šaltiniai | E46: =+E48+E49 -> 6.9 | F46: =+F48+F49 -> 12.8 | G46: =+G48+G49 -> 627.5 | H46: =+H48+H49 -> 504.2
C47: Iš jų:
C48: Kiti šaltiniai (Europos Sąjungos paramos lėšos)' | E48: =SUMIF($C9:$C40,$C37,E9:E40) -> 0 | F48: =SUMIF($C9:$C40,$C37,F9:F40) -> 12.8 | G48: =SUMIF($C9:$C40,$C37,G9:G40) -> 627.5 | H48: =SUMIF($C9:$C40,$C37,H9:H40) -> 504.2
C49: Kiti šaltiniai (valstybės biudžeto lėšos)' | E49: =SUMIF($C9:$C40,$C29,E9:E40) -> 6.9 | F49: =SUMIF($C9:$C40,$C29,F9:F40) -> 0 | G49: =SUMIF($C9:$C40,$C29,G9:G40) -> 0 | H49: =SUMIF($C9:$C40,$C29,H9:H40) -> 0
B50: 005-02 (T) | C50: Uždavinys: Vykdyti gamtinės aplinkos stebėsenos ir gyventojų ekologinio švietimo priemones
B51: 005-02-01 (TP) | C51: Priemonė: Gamtinės aplinkos stebėsenos ir ekologinio švietimo vykdymas
B52: 005-02-01-01 | C52: Klaipėdos miesto savivaldybės aplinkos monitoringo vykdymas | D52: MVPD Aplinkosaugos ir miesto tvarkymo skyrius | I52: 3.3.5.1.
C53: Savivaldybės biudžeto lėšos (nuosavos, be ankstesnių metų likučio) | E53: 120.3 | F53: 136.3 | G53: =107.3+5 -> 112.3 | H53: 104.5
B54: 005-02-01-02 | C54: Visuomenės aplinkosauginis švietimas | I54: 3.3.2.6. 3.3.5.1.
C55: Savivaldybės biudžeto lėšos (nuosavos, be ankstesnių metų likučio) | E55: 15.8 | F55: 25.2 | G55: 25.2 | H55: 25.2
B56: 005-02-01-03 | C56: Želdynų ir želdinių būklės įvertinimas ir ekspertizė
C57: Savivaldybės biudžeto lėšos (nuosavos, be ankstesnių metų likučio) | E57: 10 | F57: 8.5 | G57: 8.5 | H57: 8.5
B58: 005-02-01-04 | C58: Želdynų ir želdinių inventorizavimas
C59: Savivaldybės biudžeto lėšos (nuosavos, be ankstesnių metų likučio) | E59: 70 | G59: 60
B60: 005-02-01-05 | C60: Strateginio triukšmo žemėlapio parengimas (atnaujinimas) | I60: 3.3.5.4.
C61: Savivaldybės biudžeto lėšos (nuosavos, be ankstesnių metų likučio) | E61: 40
C62: Ankstesnių metų likučiai | F62: 20
B63: 005-02-01-06 | C63: Želdynų ir želdinių apsaugos, priežiūros ir tvarkymo komisijos narių veiklos užtikrinimas
C64: Savivaldybės biudžeto lėšos (nuosavos, be ankstesnių metų likučio) | E64: 5 | F64: 4.3 | G64: 4.3 | H64: 4.3
C65: Gyvūnų populiacijos gausos reguliavimo paslaugos
C66: Savivaldybės biudžeto lėšos (nuosavos, be ankstesnių metų likučio) | E66: 2
B67: 005-02-01-07 | C67: Klaipėdos miesto savivaldybės aplinkos oro kokybės stebėjimo (monitoringo) informacinės sistemos sukūrimas, įdiegimas ir palaikymas | I67: 3.3.5.2.
C68: Savivaldybės biudžeto lėšos (nuosavos, be ankstesnių metų likučio) | G68: 150
C69: Projekto „Uostamiesčių partnerystė žaliojoje ateityje“ įgyvendinimas
C70: Kiti finansavimo šaltiniai | E70: 14.3
C71: Savivaldybės biudžetas (įskaitant skolintas lėšas) | E71: =+E73+E74 -> 263.1 | F71: =+F73+F74 -> 194.3 | G71: =+G73+G74 -> 360.3 | H71: =+H73+H74 -> 142.5
C72: Iš jo:
C73: Savivaldybės biudžeto lėšos (nuosavos, be ankstesnių metų likučio)' | E73: =SUMIF($C52:$C70,$C53,E52:E70) -> 263.1 | F73: =SUMIF($C52:$C70,$C53,F52:F70) -> 174.3 | G73: =SUMIF($C52:$C70,$C53,G52:G70) -> 360.3 | H73: =SUMIF($C52:$C70,$C53,H52:H70) -> 142.5
C74: Ankstesnių metų likučiai' | E74: =SUMIF($C54:$C70,$C62,E54:E70) -> 0 | F74: =SUMIF($C54:$C70,$C62,F54:F70) -> 20 | G74: =SUMIF($C54:$C70,$C65,G54:G70) -> 0 | H74: =SUMIF($C54:$C70,$C65,H54:H70) -> 0
C75: Kiti šaltiniai | E75: =+E77 -> 14.3 | F75: =+F77 -> 0 | G75: =+G77 -> 0 | H75: =+H77 -> 0
C76: Iš jų:
C77: Kiti finansavimo šaltiniai' | E77: =SUMIF($C52:$C70,$C70,E52:E70) -> 14.3 | F77: =SUMIF($C52:$C70,$C70,F52:F70) -> 0 | G77: =SUMIF($C52:$C70,$C70,G52:G70) -> 0 | H77: =SUMIF($C52:$C70,$C70,H52:H70) -> 0
B78: 005-03 (T) | C78: Uždavinys: Prižiūrėti, saugoti ir gausinti miesto poilsio zonų gamtinę aplinką
B79: 005-03-01 (TP) | C79: Priemonė: Miesto vandens telkinių priežiūra
B80: 005-03-01-01 | C80: Sanitarinis vandens telkinių valymas | D80: MVPD Aplinkosaugos ir miesto tvarkymo skyrius
C81: Savivaldybės biudžeto lėšos (nuosavos, be ankstesnių metų likučio) | E81: =11+0.7 -> 11.7 | F81: 13 | G81: 13 | H81: 13
B82: 005-03-01-02 | C82: Helofitų (nendrių, švendrių) šalinimas iš vandens telkinių
C83: Savivaldybės biudžeto lėšos (nuosavos, be ankstesnių metų likučio) | E83: =30+3.3 -> 33.3 | F83: 45.3 | G83: 45.3 | H83: 45.3
B84: 005-03-01-03 | C84: Smeltalės upės valymo darbai | D84: MVPD Aplinkosaugos ir miesto tvarkymo skyrius | I84: 3.3.1.4.
C85: Savivaldybės biudžeto lėšos (nuosavos, be ankstesnių metų likučio) | E85: 248.4 | F85: =145.2+5-150.2+125.6+22.8 -> 148.4 | G85: =285.9+5+10 -> 300.9 | H85: =381.7-98.9 -> 282.8
C86: Ankstesnių metų likučiai | E86: 34.8
B87: 005-03-01-04 | C87: Danės upės pakrantės šlaito erozijos ir jos padarinių šalinimas | D87: MVPD Aplinkosaugos ir miesto tvarkymo skyrius, BĮ „Klaipėdos paplūdimiai“
C88: Savivaldybės biudžeto lėšos (nuosavos, be ankstesnių metų likučio) | F88: =200.3+158.5 -> 358.8
C89: Ankstesnių metų likučiai | E89: 50.6 | F89: 231.6
C90: Savivaldybės biudžeto lėšos (nuosavos, be ankstesnių metų likučio) | E90: =13.1-12.1 -> 1
C91: Ankstesnių metų likučiai | E91: =110-50.6 -> 59.4
B92: 005-03-01-05 | C92: Danės upės pakrantės tvarkymo darbai
C93: Savivaldybės biudžeto lėšos (nuosavos, be ankstesnių metų likučio) | F93: 24.4 | G93: 26.8 | H93: 29.5
C94: Ankstesnių metų likučiai
B95: 005-03-01-06 | C95: Batimetrinių matavimų atlikimas
C96: Savivaldybės biudžeto lėšos (nuosavos, be ankstesnių metų likučio) | E96: 6.7 | F96: 6.7 | G96: 7.4 | H96: 8.1
B97: 005-03-01-07 | C97: Malūno tvenkinio priežiūra ir tvarkymas | D97: MVPD Aplinkosaugos ir miesto tvarkymo skyrius
C98: Savivaldybės biudžeto lėšos (nuosavos, be ankstesnių metų likučio) | F98: =22.3+3 -> 25.3 | G98: =48.4+2 -> 50.4
C99: Savivaldybės biudžetas (įskaitant skolintas lėšas) | E99: =+E101+E102 -> 445.9 | F99: =+F101+F102 -> 853.5 | G99: =+G101+G102 -> 443.8 | H99: =+H101+H102 -> 378.7
C100: Iš jo:
C101: Savivaldybės biudžeto lėšos (nuosavos, be ankstesnių metų likučio)' | E101: =SUMIF($C80:$C98,$C81,E80:E98) -> 301.1 | F101: =SUMIF($C80:$C98,$C81,F80:F98) -> 621.9 | G101: =SUMIF($C80:$C98,$C81,G80:G98) -> 443.8 | H101: =SUMIF($C80:$C98,$C81,H80:H98) -> 378.7
...

Sheet Lėšų suvestinė 2 lentelė
B1: 2 lentelė. 2024–2027 metų asignavimų ir kitų lėšų pasiskirstymas (tūkst. Eur)
B3: Eil. Nr. | C3: Programos kodas ir pavadinimas | D3: 2024 m. asignavimai ir kitos lėšos | E3: 2025 m. asignavimai ir kitos lėšos | F3: 2026 m. asignavimai ir kitos lėšos | G3: 2027 m. asignavimai ir kitos lėšos
B4: 1 | C4: 2 | D4: 3 | E4: 4 | F4: 5 | G4: 6
B5: 005 Aplinkos apsaugos programa
B6: 1. | C6: Savivaldybės biudžetas (įskaitant skolintas lėšas) | D6: =+D8+D9+D10+D11+D12+D13 -> 11203.8 | E6: =+E8+E9+E10+E11+E12+E13 -> 9687.8 | F6: =+F8+F9+F10+F11+F12+F13 -> 9593.1 | G6: =+G8+G9+G10+G11+G12+G13 -> 8664.3
C7: Iš jo:
B8: 1.1. | C8: savivaldybės biudžeto lėšos (nuosavos, be ankstesnių metų likučio) | D8: =SUMIF('005 programa 3 lentelė'!$C7:$C197,'005 programa 3 lentelė'!$C10,'005 programa 3 lentelė'!E7:E197) -> 7673.5 | E8: =SUMIF('005 programa 3 lentelė'!$C7:$C197,'005 programa 3 lentelė'!$C10,'005 programa 3 lentelė'!F7:F197) -> 8809.9 | F8: =SUMIF('005 programa 3 lentelė'!$C7:$C197,'005 programa 3 lentelė'!$C10,'005 programa 3 lentelė'!G7:G197) -> 8988.1 | G8: =SUMIF('005 programa 3 lentelė'!$C7:$C197,'005 programa 3 lentelė'!$C10,'005 programa 3 lentelė'!H7:H197) -> 8664.3
B9: 1.2. | C9: Lietuvos Respublikos valstybės biudžeto dotacijos | D9: =SUMIF('005 programa 3 lentelė'!$C7:$C197,'005 programa 3 lentelė'!$C133,'005 programa 3 lentelė'!E7:E197) -> 521 | E9: =SUMIF('005 programa 3 lentelė'!$C8:$C198,'005 programa 3 lentelė'!$C133,'005 programa 3 lentelė'!F8:F198) -> 0 | F9: =SUMIF('005 programa 3 lentelė'!$C7:$C197,'005 programa 3 lentelė'!$C133,'005 programa 3 lentelė'!G7:G197) -> 0 | G9: =SUMIF('005 programa 3 lentelė'!$C7:$C197,'005 programa 3 lentelė'!$C133,'005 programa 3 lentelė'!H7:H197) -> 0
B10: 1.3. | C10: pajamų įmokos ir kitos pajamos | D10: {=SUMIF('005 programa 3 lentelė'!$C7:$C197,'005 programa 3 lentelė'!C00,'005 programa 3 lentelė'!E7:E197)} -> 0 | E10: =SUMIF('005 programa 3 lentelė'!$C9:$C199,'005 programa 3 lentelė'!$C12,'005 programa 3 lentelė'!F9:F199) -> 0 | F10: {=SUMIF('005 programa 3 lentelė'!$C7:$C197,'005 programa 3 lentelė'!C00,'005 programa 3 lentelė'!G7:G197)} -> 0 | G10: {=SUMIF('005 programa 3 lentelė'!$C7:$C197,'005 programa 3 lentelė'!C00,'005 programa 3 lentelė'!H7:H197)} -> 0
B11: 1.4. | C11: Europos Sąjungos ir kitos tarptautinės finansinės paramos lėšos | D11: {=SUMIF('005 programa 3 lentelė'!$C7:$C197,'005 programa 3 lentelė'!C00,'005 programa 3 lentelė'!E7:E197)} -> 0 | E11: {=SUMIF('005 programa 3 lentelė'!$C10:$C200,'005 programa 3 lentelė'!C00,'005 programa 3 lentelė'!F10:F200)} -> 0 | F11: {=SUMIF('005 programa 3 lentelė'!$C7:$C197,'005 programa 3 lentelė'!C00,'005 programa 3 lentelė'!G7:G197)} -> 0 | G11: {=SUMIF('005 programa 3 lentelė'!$C7:$C197,'005 programa 3 lentelė'!C00,'005 programa 3 lentelė'!H7:H197)} -> 0
B12: 1.5. | C12: skolintos lėšos | D12: =SUMIF('005 programa 3 lentelė'!$C7:$C197,'005 programa 3 lentelė'!$C35,'005 programa 3 lentelė'!E7:E197) -> 0 | E12: =SUMIF('005 programa 3 lentelė'!$C7:$C197,'005 programa 3 lentelė'!$C35,'005 programa 3 lentelė'!F7:F197) -> 0 | F12: =SUMIF('005 programa 3 lentelė'!$C7:$C197,'005 programa 3 lentelė'!$C35,'005 programa 3 lentelė'!G7:G197) -> 605 | G12: =SUMIF('005 programa 3 lentelė'!$C7:$C197,'005 programa 3 lentelė'!$C35,'005 programa 3 lentelė'!H7:H197) -> 0
B13: 1.6. | C13: ankstesnių metų likučiai | D13: =SUMIF('005 programa 3 lentelė'!$C7:$C197,'005 programa 3 lentelė'!$C23,'005 programa 3 lentelė'!E7:E197) -> 3009.3 | E13: =SUMIF('005 programa 3 lentelė'!$C7:$C197,'005 programa 3 lentelė'!$C23,'005 programa 3 lentelė'!F7:F197) -> 877.9 | F13: =SUMIF('005 programa 3 lentelė'!$C7:$C197,'005 programa 3 lentelė'!$C23,'005 programa 3 lentelė'!G7:G197) -> 0 | G13: =SUMIF('005 programa 3 lentelė'!$C7:$C197,'005 programa 3 lentelė'!$C23,'005 programa 3 lentelė'!H7:H197) -> 0
B14: 2. | C14: Kiti šaltiniai (Europos Sąjungos finansinė parama projektams įgyvendinti ir kitos teisėtai gautos lėšos, nurodant atskirus šaltinius) | D14: =+D16+D17+D18+D19+D20+D21 -> 21.2 | E14: =+E16+E17+E18+E19+E20+E21 -> 2772.4 | F14: =+F16+F17+F18+F19+F20+F21 -> 4262.5 | G14: =+G16+G17+G18+G19+G20+G21 -> 1050.6
C15: Iš jo:
B16: 2.1. | C16: Europos Sąjungos paramos lėšos | D16: =SUMIF('005 programa 3 lentelė'!$C7:$C197,'005 programa 3 lentelė'!$C37,'005 programa 3 lentelė'!E7:E197) -> 0 | E16: =SUMIF('005 programa 3 lentelė'!$C7:$C197,'005 programa 3 lentelė'!$C37,'005 programa 3 lentelė'!F7:F197) -> 2772.4 | F16: =SUMIF('005 programa 3 lentelė'!$C7:$C197,'005 programa 3 lentelė'!$C37,'005 programa 3 lentelė'!G7:G197) -> 4262.5 | G16: =SUMIF('005 programa 3 lentelė'!$C7:$C197,'005 programa 3 lentelė'!$C37,'005 programa 3 lentelė'!H7:H197) -> 1050.6
B17: 2.2. | C17: Privalomojo sveikatos draudimo fondo lėšos | D17: {=SUMIF('005 programa 3 lentelė'!$C7:$C197,'005 programa 3 lentelė'!C00,'005 programa 3 lentelė'!E7:E197)} -> 0 | E17: {=SUMIF('005 programa 3 lentelė'!$C7:$C197,'005 programa 3 lentelė'!C00,'005 programa 3 lentelė'!F7:F197)} -> 0 | F17: {=SUMIF('005 programa 3 lentelė'!$C7:$C197,'005 programa 3 lentelė'!C00,'005 programa 3 lentelė'!G7:G197)} -> 0 | G17: {=SUMIF('005 programa 3 lentelė'!$C7:$C197,'005 programa 3 lentelė'!C00,'005 programa 3 lentelė'!H7:H197)} -> 0
B18: 2.3. | C18: Klaipėdos valstybinio jūrų uosto direkcijos lėšos (KVJUD) | D18: {=SUMIF('005 programa 3 lentelė'!$C7:$C197,'005 programa 3 lentelė'!C00,'005 programa 3 lentelė'!E7:E197)} -> 0 | E18: {=SUMIF('005 programa 3 lentelė'!$C7:$C197,'005 programa 3 lentelė'!C00,'005 programa 3 lentelė'!F7:F197)} -> 0 | F18: {=SUMIF('005 programa 3 lentelė'!$C7:$C197,'005 programa 3 lentelė'!C00,'005 programa 3 lentelė'!G7:G197)} -> 0 | G18: {=SUMIF('005 programa 3 lentelė'!$C7:$C197,'005 programa 3 lentelė'!C00,'005 programa 3 lentelė'!H7:H197)} -> 0
B19: 2.4. | C19: Valstybės biudžeto lėšos (LRVB) | D19: =SUMIF('005 programa 3 lentelė'!$C7:$C197,'005 programa 3 lentelė'!$C29,'005 programa 3 lentelė'!E7:E197) -> 6.9 | E19: =SUMIF('005 programa 3 lentelė'!$C7:$C197,'005 programa 3 lentelė'!$C29,'005 programa 3 lentelė'!F7:F197) -> 0 | F19: =SUMIF('005 programa 3 lentelė'!$C7:$C197,'005 programa 3 lentelė'!$C29,'005 programa 3 lentelė'!G7:G197) -> 0 | G19: =SUMIF('005 programa 3 lentelė'!$C7:$C197,'005 programa 3 lentelė'!$C29,'005 programa 3 lentelė'!H7:H197) -> 0
B20: 2.5. | C20: Kiti finansavimo šaltiniai | D20: =SUMIF('005 programa 3 lentelė'!$C7:$C197,'005 programa 3 lentelė'!$C70,'005 programa 3 lentelė'!E7:E197) -> 14.3 | E20: =SUMIF('005 programa 3 lentelė'!$C7:$C197,'005 programa 3 lentelė'!$C70,'005 programa 3 lentelė'!F7:F197) -> 0 | F20: =SUMIF('005 programa 3 lentelė'!$C7:$C197,'005 programa 3 lentelė'!$C70,'005 programa 3 lentelė'!G7:G197) -> 0 | G20: =SUMIF('005 programa 3 lentelė'!$C7:$C197,'005 programa 3 lentelė'!$C70,'005 programa 3 lentelė'!H7:H197) -> 0
B21: 2.6. | C21: Kelių priežiūros ir plėtros programos lėšos (KPP) | D21: =SUMIF('005 programa 3 lentelė'!$C7:$C197,'005 programa 3 lentelė'!$C151,'005 programa 3 lentelė'!E7:E197) -> 0 | E21: =SUMIF('005 programa 3 lentelė'!$C7:$C197,'005 programa 3 lentelė'!$C151,'005 programa 3 lentelė'!F7:F197) -> 0 | F21: =SUMIF('005 programa 3 lentelė'!$C7:$C197,'005 programa 3 lentelė'!$C151,'005 programa 3 lentelė'!G7:G197) -> 0 | G21: =SUMIF('005 programa 3 lentelė'!$C7:$C197,'005 programa 3 lentelė'!$C151,'005 programa 3 lentelė'!H7:H197) -> 0
C22: IŠ VISO programai finansuoti pagal finansavimo šaltinius (1 ir 2 punktai) | D22: =+D6+D14 -> 11225 | E22: =+E6+E14 -> 12460.2 | F22: =+F6+F14 -> 13855.6 | G22: =+G6+G14 -> 9714.9
C23: Iš jų: regioninių pažangos priemonių lėšos | D23: =+'005 programa 3 lentelė'!E196 -> 322.9 | E23: =+'005 programa 3 lentelė'!F196 -> 3539.5 | F23: =+'005 programa 3 lentelė'!G196 -> 4640.4 | G23: =+'005 programa 3 lentelė'!H196 -> 1216.2
C24: Asignavimų ir kitų lėšų pokytis, palyginti su ankstesnių metų patvirtintų asignavimų ir kitų lėšų planu | E24: =+'005 programa 3 lentelė'!F197 -> 1235.2 | F24: =+'005 programa 3 lentelė'!G197 -> 1395.4 | G24: =+'005 programa 3 lentelė'!H197 -> -4140.7
