Workbook

Sheet 001 programa 3 lentelė
H1: Aiškinamojo rašto
H2: 1 priedas
B4: 3 lentelė. Klaipėdos miesto savivaldybės 2024–2027 metų 001 Miesto urbanistinio planavimo programos uždaviniai, priemonės, asignavimai ir kitos lėšos (tūkst. eurų)
B5: Programos uždavinio, priemonės kodas ir požymis | C5: Uždavinio, priemonės pavadinimas, finansavimo šaltiniai | D5: Vykdytojas (padalinys / asmuo) | E5: 2024 metų asignavimai ir kitos lėšos | F5: 2025 metų asignavimai ir kitos lėšos | G5: 2026 metų asignavimai ir kitos lėšos | H5: 2027 metų asignavimai ir kitos lėšos | I5: Savivaldybės strateginio plėtros plano priemonės kodas
B6: 1 | C6: 2 | D6: 3 | E6: 4 | F6: 5 | G6: 6 | H6: 7 | I6: 8
B7: 001-01 (T) | C7: Uždavinys: Rengti miesto teritorijų planavimo bei susijusius dokumentus
B8: 001-01-01 (TP) | C8: Priemonė: Detaliųjų ir kitų planų rengimas
C9: Žemės sklypo Turgaus g. 24 detaliojo plano keitimas (Šv. Jono bažnyčios detalusis planas) | D9: UAD Urbanistikos skyrius | I9: 3.2.3.2.
C10: Savivaldybės biudžeto lėšos (nuosavos, be ankstesnių metų likučio) | E10: 19.2
B11: 001-01-01-01 | C11: Klaipėdos miesto vandens tiekimo ir nuotekų bei paviršinių nuotekų tvarkymo infrastruktūros plėtros specialiojo plano parengimas | I11: 3.3.3.2. 3.3.3.4.
C12: Savivaldybės biudžeto lėšos (nuosavos, be ankstesnių metų likučio) | E12: 83.9
C13: Ankstesnių metų likučiai | E13: 0.1 | F13: 83.9
B14: 001-01-01-02 | C14: Leidinio apie Klaipėdos miesto architektūrą ir urbanistiką išleidimas ir architektūrinės parodos organizavimas
C15: Savivaldybės biudžeto lėšos (nuosavos, be ankstesnių metų likučio) | E15: 8.9 | F15: 7.3 | G15: 7.3 | H15: 7.3
B16: 001-01-01-03 | C16: Planavimo dokumentų viešinimas ir sklaida
C17: Savivaldybės biudžeto lėšos (nuosavos, be ankstesnių metų likučio) | E17: =16.1-13.1 -> 3 | F17: 15.5 | G17: 3.2 | H17: 3.2
B18: 001-01-01-04 | C18: Rengiamų planavimo dokumentų ekspertinis vertinimas
C19: Savivaldybės biudžeto lėšos (nuosavos, be ankstesnių metų likučio) | E19: =2.2-0.1 -> 2.1 | F19: 2.2 | G19: 2.2 | H19: 2.2
B20: 001-01-01-05 | C20: Smiltynės kurortinės vietovės bendrojo plano parengimas | I20: 1.2.1.1.
C21: Savivaldybės biudžeto lėšos (nuosavos, be ankstesnių metų likučio) | H21: 31.4
B22: 001-01-01-06 | C22: Detaliųjų ar specialiųjų planų koregavimas ar keitimas
C23: Savivaldybės biudžeto lėšos (nuosavos, be ankstesnių metų likučio) | E23: 65.1 | F23: 53.8 | G23: 65.1 | H23: 65.1
C24: Atsinaujinančių išteklių energijos naudojimo plėtros veiksmų plano parengimas
C25: Savivaldybės biudžeto lėšos (nuosavos, be ankstesnių metų likučio) | E25: 16.7
B26: 001-01-01-07 | C26: Pietinio pocentrio Stariškių rajone bendrojo plano parengimas | I26: 1.2.3.2.
C27: Savivaldybės biudžeto lėšos (nuosavos, be ankstesnių metų likučio) | E27: 36.4 | F27: 46.7 | G27: 30 | H27: 30
C28: Kapinių plėtros įgyvendinimas | I28: 3.2.2.6.
C29: Savivaldybės biudžeto lėšos (nuosavos, be ankstesnių metų likučio) | E29: 10
B30: 001-01-01-08 | C30: Melnragės ir Girulių kurortinės vietovės bendrojo plano parengimas | I30: 1.2.1.2.
C31: Savivaldybės biudžeto lėšos (nuosavos, be ankstesnių metų likučio) | F31: 10.1 | G31: 24.1 | H31: 53
B32: 001-01-01-09 | C32: Teritorijos, pagal Bendrojo plano sprendinius patenkančios į 9.1, 9.2, 9.3, 9.4, 9.8 ir 9.9 nagrinėjamus rajonus, vietovės lygmens bendrojo plano parengimas
C33: Savivaldybės biudžeto lėšos (nuosavos, be ankstesnių metų likučio) | F33: 90 | G33: 45.4 | H33: 106
B34: 001-01-01-10 | C34: Dalyvavimas projekte „Išmanusis miestas 11“
C35: Savivaldybės biudžeto lėšos (nuosavos, be ankstesnių metų likučio) | E35: =5+0.1 -> 5.1 | F35: 12
B36: 001-01-01-11 | C36: Žemės sklypo Jaunystės g. 1, žemės sklypų, kurių kadastro Nr. 210100360313, Nr. 210100360102, ir laisvos valstybinės žemės detaliojo plano parengimas
C37: Savivaldybės biudžeto lėšos (nuosavos, be ankstesnių metų likučio) | F37: 14 | G37: 32.8
B38: 001-01-01-12 | C38: Žardės rajono (Bendrajame plane 1.8 nagrinėjamas rajonas) vietovės lygmens bendrojo plano parengimas
C39: Savivaldybės biudžeto lėšos (nuosavos, be ankstesnių metų likučio) | F39: 47.5 | G39: 110.9
B40: 001-01-01-13 | C40: Savivaldybės infrastruktūros plėtros įmokų tarifų peržiūros paslaugos įsigijimas | D40: UAD Savivaldybės vyriausiasis inžinierius
C41: Savivaldybės biudžeto lėšos (nuosavos, be ankstesnių metų likučio) | F41: 18.2
C42: Savivaldybės biudžetas (įskaitant skolintas lėšas) | E42: =+E44+E45 -> 250.5 | F42: =+F44+F45 -> 401.2 | G42: =+G44+G45 -> 321 | H42: =+H44+H45 -> 298.2
C43: Iš jo:
C44: Savivaldybės biudžeto lėšos (nuosavos, be ankstesnių metų likučio)' | E44: =SUMIF($C9:$C41,$C15,E9:E41) -> 250.4 | F44: =SUMIF($C9:$C41,$C15,F9:F41) -> 317.3 | G44: =SUMIF($C9:$C41,$C15,G9:G41) -> 321 | H44: =SUMIF($C9:$C41,$C15,H9:H41) -> 298.2
C45: Ankstesnių metų likučiai' | E45: =SUMIF($C9:$C39,$C13,E9:E39) -> 0.1 | F45: =SUMIF($C9:$C39,$C13,F9:F39) -> 83.9 | G45: =SUMIF($C9:$C39,$C13,G9:G39) -> 0 | H45: =SUMIF($C9:$C39,$C13,H9:H39) -> 0
B46: 001-01-02 (TP) | C46: Priemonė: Žemės sklypų planų rengimas
B47: 001-01-02-01 | C47: Atskirų žemės sklypų planų ir susijusių dokumentų parengimas | D47: UAD Žemėtvarkos skyrius
C48: Savivaldybės biudžeto lėšos (nuosavos, be ankstesnių metų likučio) | E48: 20 | F48: 24 | G48: 44 | H48: 44
C49: Ankstesnių metų likučiai | E49: =20-0.1 -> 19.9 | F49: 20
B50: 001-01-02-02 | C50: Žemės visuomenės poreikiams paėmimo dokumentų parengimas
C51: Savivaldybės biudžeto lėšos (nuosavos, be ankstesnių metų likučio)
C52: Ankstesnių metų likučiai | E52: 36 | F52: 41.4
B53: 001-01-02-03 | C53: Kompensacijų išmokėjimas už visuomenės poreikiams paimtą turtą ir turto įsigijimas infrastruktūros plėtrai
C54: Savivaldybės biudžeto lėšos (nuosavos, be ankstesnių metų likučio) | E54: =241.5-165 -> 76.5 | F54: 203 | G54: 1610 | H54: 1012
C55: Ankstesnių metų likučiai | E55: 810 | F55: 76.5
B56: 001-01-02-04 | C56: Miško žemės keitimas kitomis naudmenomis inžinerinės infrastruktūros plėtrai
C57: Savivaldybės biudžeto lėšos (nuosavos, be ankstesnių metų likučio) | F57: 9
C58: Savivaldybės biudžetas (įskaitant skolintas lėšas) | E58: =+E60+E61 -> 962.4 | F58: =+F60+F61 -> 373.9 | G58: =+G60+G61 -> 1654 | H58: =+H60+H61 -> 1056
C59: Iš jo:
C60: Savivaldybės biudžeto lėšos (nuosavos, be ankstesnių metų likučio)' | E60: =SUMIF($C47:$C57,$C51,E47:E57) -> 96.5 | F60: =SUMIF($C47:$C57,$C51,F47:F57) -> 236 | G60: =SUMIF($C47:$C57,$C51,G47:G57) -> 1654 | H60: =SUMIF($C47:$C57,$C51,H47:H57) -> 1056
C61: Ankstesnių metų likučiai' | E61: =SUMIF($C47:$C57,$C49,E47:E57) -> 865.9 | F61: =SUMIF($C47:$C57,$C49,F47:F57) -> 137.9 | G61: =SUMIF($C47:$C57,$C49,G47:G57) -> 0 | H61: =SUMIF($C47:$C57,$C49,H47:H57) -> 0
B62: 001-02 (T) | C62: Uždavinys: Užtikrinti geoinformacinių sistemų (GIS) administravimą ir vykdomų geodezinių darbų kontrolę
B63: 001-02-01 (TP) | C63: Priemonė: Geoinformacinių sistemų (GIS) administravimas ir kontrolė
B64: 001-02-01-01 | C64: Savivaldybės administracijos GIS programinės įrangos ir informacinių sistemų, veikiančių GIS pagrindu, atnaujinimas, papildymas | D64: UAD Išmanaus skaitmeninio miesto skyrius
C65: Savivaldybės biudžeto lėšos (nuosavos, be ankstesnių metų likučio) | E65: =55-4.9 -> 50.1 | F65: 68 | G65: 68 | H65: 68
B66: 001-02-01-02 | C66: Topografinėms-inžinerinėms nuotraukoms vykdyti reikalingų išeitinių duomenų išdavimas, atliktų geodezinių darbų kontrolės vykdymas, Klaipėdos miesto žemės kadastro skaitmeninių duomenų įsigijimas
C67: Savivaldybės biudžeto lėšos (nuosavos, be ankstesnių metų likučio) | E67: 9 | F67: 9 | G67: 9 | H67: 9
B68: 001-02-01-03 | C68: WebGIS aplikacijų sukūrimas, procesų automatizavimas, 3D objektų įkėlimas į miesto žemėlapį, teminių žemėlapių viešinimas
C69: Savivaldybės biudžeto lėšos (nuosavos, be ankstesnių metų likučio) | F69: 70 | G69: 74.9 | H69: 74.9
C70: Klaipėdos miesto realistinio modelio, ortofotografinio žemėlapio sukūrimas ir viešinimas | I70: 2.6.1.5.
C71: Savivaldybės biudžeto lėšos (nuosavos, be ankstesnių metų likučio) | E71: =150+4.9 -> 154.9
B72: 001-02-01-04 | C72: Aerofotografinių žemėlapių, panaudojant dronus, sukūrimas
C73: Savivaldybės biudžeto lėšos (nuosavos, be ankstesnių metų likučio) | F73: 10.6 | G73: 10.6 | H73: 10.6
C74: Savivaldybės biudžetas (įskaitant skolintas lėšas) | E74: =+E76 -> 214 | F74: =+F76 -> 157.6 | G74: =+G76 -> 162.5 | H74: =+H76 -> 162.5
C75: Iš jo:
C76: Savivaldybės biudžeto lėšos (nuosavos, be ankstesnių metų likučio)' | E76: =SUMIF($C64:$C73,$C65,E64:E73) -> 214 | F76: =SUMIF($C64:$C73,$C65,F64:F73) -> 157.6 | G76: =SUMIF($C64:$C73,$C65,G64:G73) -> 162.5 | H76: =SUMIF($C64:$C73,$C65,H64:H73) -> 162.5
B77: 001-03 (T) | C77: Uždavinys: Vykdyti paveldo objektų išsaugojimo priemones
B78: 001-03-01 (TP) | C78: Priemonė: Kultūros paveldo objektų apskaitos, tvarkybos ir sklaidos dokumentacijos parengimas
B79: 001-03-01-01 | C79: Kultūrinės vertės nustatymo objektų dokumentacijos parengimas | D79: UAD Paveldosaugos skyrius
C80: Savivaldybės biudžeto lėšos (nuosavos, be ankstesnių metų likučio) | E80: 6 | F80: 6 | G80: 6 | H80: 6
B81: 001-03-01-02 | C81: Klaipėdos miesto savivaldybės nekilnojamojo kultūros paveldo vertinimo tarybos darbo organizavimas (ekspertų paslaugų įsigijimas)
C82: Savivaldybės biudžeto lėšos (nuosavos, be ankstesnių metų likučio) | E82: 4 | F82: 4 | G82: 4 | H82: 4
B83: 001-03-01-03 | C83: Kultūros paveldo sklaida
C84: Savivaldybės biudžeto lėšos (nuosavos, be ankstesnių metų likučio) | E84: 12 | F84: 2 | G84: 12 | H84: 2
B85: 001-03-01-04 | C85: Archeologinių tyrimų vykdymas Klaipėdos miesto teritorijoje
C86: Savivaldybės biudžeto lėšos (nuosavos, be ankstesnių metų likučio) | E86: 5 | F86: 5 | G86: 5 | H86: 5
B87: 001-03-01-05 | C87: Pastatų fasadų tvarkymo rėmimo viešinimas
C88: Savivaldybės biudžeto lėšos (nuosavos, be ankstesnių metų likučio) | E88: 0.2 | F88: 0.2 | G88: 0.2 | H88: 0.2
C89: Savivaldybės biudžetas (įskaitant skolintas lėšas) | E89: =+E91 -> 27.2 | F89: =+F91 -> 17.2 | G89: =+G91 -> 27.2 | H89: =+H91 -> 17.2
C90: Iš jo:
C91: Savivaldybės biudžeto lėšos (nuosavos, be ankstesnių metų likučio)' | E91: =SUMIF($C79:$C88,$C80,E79:E88) -> 27.2 | F91: =SUMIF($C79:$C88,$C80,F79:F88) -> 17.2 | G91: =SUMIF($C79:$C88,$C80,G79:G88) -> 27.2 | H91: =SUMIF($C79:$C88,$C80,H79:H88) -> 17.2
B92: 001-03-02 (TP) | C92: Priemonė: Kultūros paveldo objektų tvarkyba
B93: 001-03-02-01 | C93: Kultūros paveldo objektų tvarkybos darbų vykdymas | D93: UAD Paveldosaugos skyrius | I93: 3.2.3.5.
C94: Savivaldybės biudžeto lėšos (nuosavos, be ankstesnių metų likučio) | E94: =207+6.2 -> 213.2 | F94: 200 | G94: 200 | H94: 200
C95: Naujų takų, dviračių stovų, suoliukų, stendų įrengimo Pakrantės baterijos „Memel-Sud“ (Kopgalio baterijos) teritorijoje aprašo parengimas | I95: 3.2.3.4.
C96: Savivaldybės biudžeto lėšos (nuosavos, be ankstesnių metų likučio) | E96: 6
C97: Klaipėdos Smeltės istorinių kapinių sutvarkymo projekto parengimas | I97: 3.2.3.6.
C98: Savivaldybės biudžeto lėšos (nuosavos, be ankstesnių metų likučio) | E98: 22
B99: 001-03-02-02 | C99: Pastatų fasadų tvarkymo rėmimas | I99: 3.2.3.5.
C100: Savivaldybės biudžeto lėšos (nuosavos, be ankstesnių metų likučio) | E100: =393-25 -> 368 | F100: 500 | G100: 500 | H100: 500
C101: Ankstesnių metų likučiai | E101: 257
...

Sheet Lėšų suvestinė 2 lentelė
B1: 2 lentelė. 2024–2027 metų asignavimų ir kitų lėšų pasiskirstymas (tūkst. Eur)
B3: Eil. Nr. | C3: Programos kodas ir pavadinimas | D3: 2024 m. asignavimai ir kitos lėšos | E3: 2025 m. asignavimai ir kitos lėšos | F3: 2026 m. asignavimai ir kitos lėšos | G3: 2027 m. asignavimai ir kitos lėšos
B4: 1 | C4: 2 | D4: 3 | E4: 4 | F4: 5 | G4: 6
B5: 001 Miesto urbanistinio planavimo programa
B6: 1. | C6: Savivaldybės biudžetas (įskaitant skolintas lėšas) | D6: =+D8+D9+D10+D11+D12+D13 -> 2375.3 | E6: =+E8+E9+E10+E11+E12+E13 -> 1696.8 | F6: =+F8+F9+F10+F11+F12+F13 -> 2879.7 | G6: =+G8+G9+G10+G11+G12+G13 -> 2243.9
C7: Iš jo:
B8: 1.1. | C8: savivaldybės biudžeto lėšos (nuosavos, be ankstesnių metų likučio) | D8: =SUMIF('001 programa 3 lentelė'!$C7:$C116,'001 programa 3 lentelė'!$C10,'001 programa 3 lentelė'!E7:E116) -> 1252.3 | E8: =SUMIF('001 programa 3 lentelė'!$C7:$C116,'001 programa 3 lentelė'!$C10,'001 programa 3 lentelė'!F7:F116) -> 1475 | F8: =SUMIF('001 programa 3 lentelė'!$C7:$C116,'001 programa 3 lentelė'!$C10,'001 programa 3 lentelė'!G7:G116) -> 2879.7 | G8: =SUMIF('001 programa 3 lentelė'!$C7:$C116,'001 programa 3 lentelė'!$C10,'001 programa 3 lentelė'!H7:H116) -> 2243.9
B9: 1.2. | C9: Lietuvos Respublikos valstybės biudžeto dotacijos | D9: {=SUMIF('001 programa 3 lentelė'!$C7:$C116,'001 programa 3 lentelė'!C00,'001 programa 3 lentelė'!E7:E116)} -> 0 | E9: {=SUMIF('001 programa 3 lentelė'!$C7:$C116,'001 programa 3 lentelė'!C00,'001 programa 3 lentelė'!F7:F116)} -> 0 | F9: {=SUMIF('001 programa 3 lentelė'!$C7:$C116,'001 programa 3 lentelė'!C00,'001 programa 3 lentelė'!G7:G116)} -> 0 | G9: {=SUMIF('001 programa 3 lentelė'!$C7:$C116,'001 programa 3 lentelė'!C00,'001 programa 3 lentelė'!H7:H116)} -> 0
B10: 1.3. | C10: pajamų įmokos ir kitos pajamos | D10: {=SUMIF('001 programa 3 lentelė'!$C7:$C116,'001 programa 3 lentelė'!C00,'001 programa 3 lentelė'!E7:E116)} -> 0 | E10: {=SUMIF('001 programa 3 lentelė'!$C7:$C116,'001 programa 3 lentelė'!C00,'001 programa 3 lentelė'!F7:F116)} -> 0 | F10: {=SUMIF('001 programa 3 lentelė'!$C7:$C116,'001 programa 3 lentelė'!C00,'001 programa 3 lentelė'!G7:G116)} -> 0 | G10: {=SUMIF('001 programa 3 lentelė'!$C7:$C116,'001 programa 3 lentelė'!C00,'001 programa 3 lentelė'!H7:H116)} -> 0
B11: 1.4. | C11: Europos Sąjungos ir kitos tarptautinės finansinės paramos lėšos | D11: {=SUMIF('001 programa 3 lentelė'!$C7:$C116,'001 programa 3 lentelė'!C00,'001 programa 3 lentelė'!E7:E116)} -> 0 | E11: {=SUMIF('001 programa 3 lentelė'!$C7:$C116,'001 programa 3 lentelė'!C00,'001 programa 3 lentelė'!F7:F116)} -> 0 | F11: {=SUMIF('001 programa 3 lentelė'!$C7:$C116,'001 programa 3 lentelė'!C00,'001 programa 3 lentelė'!G7:G116)} -> 0 | G11: {=SUMIF('001 programa 3 lentelė'!$C7:$C116,'001 programa 3 lentelė'!C00,'001 programa 3 lentelė'!H7:H116)} -> 0
B12: 1.5. | C12: skolintos lėšos | D12: {=SUMIF('001 programa 3 lentelė'!$C7:$C116,'001 programa 3 lentelė'!C00,'001 programa 3 lentelė'!E7:E116)} -> 0 | E12: {=SUMIF('001 programa 3 lentelė'!$C7:$C116,'001 programa 3 lentelė'!C00,'001 programa 3 lentelė'!F7:F116)} -> 0 | F12: {=SUMIF('001 programa 3 lentelė'!$C7:$C116,'001 programa 3 lentelė'!C00,'001 programa 3 lentelė'!G7:G116)} -> 0 | G12: {=SUMIF('001 programa 3 lentelė'!$C7:$C116,'001 programa 3 lentelė'!C00,'001 programa 3 lentelė'!H7:H116)} -> 0
B13: 1.6. | C13: ankstesnių metų likučiai | D13: =SUMIF('001 programa 3 lentelė'!$C7:$C116,'001 programa 3 lentelė'!$C49,'001 programa 3 lentelė'!E7:E116) -> 1123 | E13: =SUMIF('001 programa 3 lentelė'!$C7:$C116,'001 programa 3 lentelė'!$C49,'001 programa 3 lentelė'!F7:F116) -> 221.8 | F13: =SUMIF('001 programa 3 lentelė'!$C7:$C116,'001 programa 3 lentelė'!$C49,'001 programa 3 lentelė'!G7:G116) -> 0 | G13: =SUMIF('001 programa 3 lentelė'!$C7:$C116,'001 programa 3 lentelė'!$C49,'001 programa 3 lentelė'!H7:H116) -> 0
B14: 2. | C14: Kiti šaltiniai (Europos Sąjungos finansinė parama projektams įgyvendinti ir kitos teisėtai gautos lėšos, nurodant atskirus šaltinius) | D14: =+D16+D17+D18+D19+D20+D21 -> 0 | E14: =+E16+E17+E18+E19+E20+E21 -> 0 | F14: =+F16+F17+F18+F19+F20+F21 -> 0 | G14: =+G16+G17+G18+G19+G20+G21 -> 0
C15: Iš jo:
B16: 2.1. | C16: Europos Sąjungos paramos lėšos | D16: {=SUMIF('001 programa 3 lentelė'!$C7:$C116,'001 programa 3 lentelė'!C00,'001 programa 3 lentelė'!E7:E116)} -> 0 | E16: {=SUMIF('001 programa 3 lentelė'!$C7:$C116,'001 programa 3 lentelė'!C00,'001 programa 3 lentelė'!F7:F116)} -> 0 | F16: {=SUMIF('001 programa 3 lentelė'!$C7:$C116,'001 programa 3 lentelė'!C00,'001 programa 3 lentelė'!G7:G116)} -> 0 | G16: {=SUMIF('001 programa 3 lentelė'!$C7:$C116,'001 programa 3 lentelė'!C00,'001 programa 3 lentelė'!H7:H116)} -> 0
B17: 2.2. | C17: Privalomojo sveikatos draudimo fondo lėšos | D17: {=SUMIF('001 programa 3 lentelė'!$C7:$C116,'001 programa 3 lentelė'!C00,'001 programa 3 lentelė'!E7:E116)} -> 0 | E17: {=SUMIF('001 programa 3 lentelė'!$C7:$C116,'001 programa 3 lentelė'!C00,'001 programa 3 lentelė'!F7:F116)} -> 0 | F17: {=SUMIF('001 programa 3 lentelė'!$C7:$C116,'001 programa 3 lentelė'!C00,'001 programa 3 lentelė'!G7:G116)} -> 0 | G17: {=SUMIF('001 programa 3 lentelė'!$C7:$C116,'001 programa 3 lentelė'!C00,'001 programa 3 lentelė'!H7:H116)} -> 0
B18: 2.3. | C18: Klaipėdos valstybinio jūrų uosto direkcijos lėšos (KVJUD) | D18: {=SUMIF('001 programa 3 lentelė'!$C7:$C116,'001 programa 3 lentelė'!C00,'001 programa 3 lentelė'!E7:E116)} -> 0 | E18: {=SUMIF('001 programa 3 lentelė'!$C7:$C116,'001 programa 3 lentelė'!C00,'001 programa 3 lentelė'!F7:F116)} -> 0 | F18: {=SUMIF('001 programa 3 lentelė'!$C7:$C116,'001 programa 3 lentelė'!C00,'001 programa 3 lentelė'!G7:G116)} -> 0 | G18: {=SUMIF('001 programa 3 lentelė'!$C7:$C116,'001 programa 3 lentelė'!C00,'001 programa 3 lentelė'!H7:H116)} -> 0
B19: 2.4. | C19: Valstybės biudžeto lėšos (LRVB) | D19: {=SUMIF('001 programa 3 lentelė'!$C7:$C116,'001 programa 3 lentelė'!C00,'001 programa 3 lentelė'!E7:E116)} -> 0 | E19: {=SUMIF('001 programa 3 lentelė'!$C7:$C116,'001 programa 3 lentelė'!C00,'001 programa 3 lentelė'!F7:F116)} -> 0 | F19: {=SUMIF('001 programa 3 lentelė'!$C7:$C116,'001 programa 3 lentelė'!C00,'001 programa 3 lentelė'!G7:G116)} -> 0 | G19: {=SUMIF('001 programa 3 lentelė'!$C7:$C116,'001 programa 3 lentelė'!C00,'001 programa 3 lentelė'!H7:H116)} -> 0
B20: 2.5. | C20: Kiti finansavimo šaltiniai | D20: {=SUMIF('001 programa 3 lentelė'!$C7:$C116,'001 programa 3 lentelė'!C00,'001 programa 3 lentelė'!E7:E116)} -> 0 | E20: {=SUMIF('001 programa 3 lentelė'!$C7:$C116,'001 programa 3 lentelė'!C00,'001 programa 3 lentelė'!F7:F116)} -> 0 | F20: {=SUMIF('001 programa 3 lentelė'!$C7:$C116,'001 programa 3 lentelė'!C00,'001 programa 3 lentelė'!G7:G116)} -> 0 | G20: {=SUMIF('001 programa 3 lentelė'!$C7:$C116,'001 programa 3 lentelė'!C00,'001 programa 3 lentelė'!H7:H116)} -> 0
B21: 2.6. | C21: Kelių priežiūros ir plėtros programos lėšos (KPP) | D21: =SUMIF('001 programa 3 lentelė'!$C7:$C116,'001 programa 3 lentelė'!C115,'001 programa 3 lentelė'!E7:E116) -> 0 | E21: =SUMIF('001 programa 3 lentelė'!$C7:$C116,'001 programa 3 lentelė'!D115,'001 programa 3 lentelė'!F7:F116) -> 0 | F21: =SUMIF('001 programa 3 lentelė'!$C7:$C116,'001 programa 3 lentelė'!E115,'001 programa 3 lentelė'!G7:G116) -> 0 | G21: =SUMIF('001 programa 3 lentelė'!$C7:$C116,'001 programa 3 lentelė'!F115,'001 programa 3 lentelė'!H7:H116) -> 0
C22: IŠ VISO programai finansuoti pagal finansavimo šaltinius (1 ir 2 punktai) | D22: =+D6+D14 -> 2375.3 | E22: =+E6+E14 -> 1696.8 | F22: =+F6+F14 -> 2879.7 | G22: =+G6+G14 -> 2243.9
C23: Iš jų: regioninių pažangos priemonių lėšos | D23: =SUMIF('001 programa 3 lentelė'!$C9:$C118,'001 programa 3 lentelė'!$C115,'001 programa 3 lentelė'!E9:E118) -> 0 | E23: =SUMIF('001 programa 3 lentelė'!$C9:$C118,'001 programa 3 lentelė'!$C115,'001 programa 3 lentelė'!F9:F118) -> 0 | F23: =SUMIF('001 programa 3 lentelė'!$C9:$C118,'001 programa 3 lentelė'!$C115,'001 programa 3 lentelė'!G9:G118) -> 0 | G23: =SUMIF('001 programa 3 lentelė'!$C9:$C118,'001 programa 3 lentelė'!$C115,'001 programa 3 lentelė'!H9:H118) -> 0
C24: Asignavimų ir kitų lėšų pokytis, palyginti su ankstesnių metų patvirtintų asignavimų ir kitų lėšų planu | E24: =+'001 programa 3 lentelė'!F116 -> -678.5 | F24: =+'001 programa 3 lentelė'!G116 -> 1182.9 | G24: =+'001 programa 3 lentelė'!H116 -> -635.8
