Workbook

Sheet 006 programa 3 lentelė
H1: Aiškinamojo rašto
H2: 1 priedas
B4: 3 lentelė. Klaipėdos miesto savivaldybės 2024–2027 metų 006 Susisiekimo sistemos priežiūros ir plėtros programos uždaviniai, priemonės, asignavimai ir kitos lėšos (tūkst. eurų)
B5: Programos uždavinio, priemonės kodas ir požymis | C5: Uždavinio, priemonės pavadinimas, finansavimo šaltiniai | D5: Vykdytojas (padalinys / asmuo) | E5: 2024 metų asignavimai ir kitos lėšos | F5: 2025 metų asignavimai ir kitos lėšos | G5: 2026 metų asignavimai ir kitos lėšos | H5: 2027 metų asignavimai ir kitos lėšos | I5: Savivaldybės strateginio plėtros plano priemonės kodas
B6: 1 | C6: 2 | D6: 3 | E6: 4 | F6: 5 | G6: 6 | H6: 7 | I6: 8
B7: 006-01 (T) | C7: Uždavinys: Rekonstruoti, tiesti ir prižiūrėti gatves
B8: 006-01-01 (TP) | C8: Priemonė: Gatvių tiesimas ir rekonstravimas
B9: 006-01-01-01 | C9: Baltijos pr. ir Šilutės pl. žiedinės sankryžos rekonstravimas ir A1 magistralinio kelio remontas | D9: MVPD Statybos skyrius | I9: 3.1.3.1.
C10: Savivaldybės biudžeto lėšos (nuosavos, be ankstesnių metų likučio) | F10: =1000-300 -> 700
C11: Lietuvos Respublikos valstybės biudžeto dotacijos | E11: 1424.3
C12: Ankstesnių metų likučiai | E12: =271.7+100-7.3 -> 364.4 | F12: 176.6
C13: Kiti šaltiniai (valstybės biudžeto lėšos) | G13: 1800 | H13: 1993.4
C14: Kiti šaltiniai (kiti finansavimo šaltiniai) | E14: 12.4
C15: Klaipėdos miesto Lypkių g. tiesimas nuo Lypkių g. ir Kretainio g. sankryžos iki Šilutės pl. ir Statybininkų pr. sankryžos | I15: 3.1.3.1.
C16: Ankstesnių metų likučiai | E16: =143.4-139.9 -> 3.5
C17: Darnaus judumo priemonių diegimas Klaipėdos mieste | D17: Projektų skyrius | I17: 3.2.2.3.
C18: Europos Sąjungos ir kitos tarptautinės finansinės paramos lėšos | E18: 152.6
C19: Ankstesnių metų likučiai | E19: 88.9
C20: Teatro ir Sukilėlių g. rekonstrukcija | I20: 3.2.2.3.
C21: Europos Sąjungos ir kitos tarptautinės finansinės paramos lėšos | E21: 257.1
C22: Ankstesnių metų likučiai | E22: 14.3
B23: 006-01-01-02 | C23: Danės g. rekonstravimas nuo Laivų skg. iki Artojų g. | D23: MVPD Statybos skyrius | I23: 3.1.3.5.
C24: Savivaldybės biudžeto lėšos (nuosavos, be ankstesnių metų likučio) | E24: =10+0.2 -> 10.2 | F24: =500-100 -> 400 | G24: =2000+100 -> 2100 | H24: 1500
C25: Ankstesnių metų likučiai | E25: 2
C26: Kiti šaltiniai (KPP) | G26: 500 | H26: 1500
B27: 006-01-01-03 | C27: Mėgėjų sodų teritorijoje savivaldybės institucijų valdomų kelių remontas | I27: 3.1.3.4.
C28: Savivaldybės biudžeto lėšos (nuosavos, be ankstesnių metų likučio) | E28: 189.6 | F28: =580-100-150 -> 330 | G28: =520+100 -> 620 | H28: 400
C29: Lietuvos Respublikos valstybės biudžeto dotacijos | E29: 250
C30: Ankstesnių metų likučiai | E30: =380-100 -> 280
C31: Kiti šaltiniai (KPP) | F31: 100 | G31: 100 | H31: 100
B32: 006-01-01-04 | C32: Klaipėdos miesto gatvių rekonstravimas bendromis savivaldybės ir privačių asmenų lėšomis | I32: 3.1.3.4. 3.2.2.2.
C33: Savivaldybės biudžeto lėšos (nuosavos, be ankstesnių metų likučio) | E33: 110.6 | F33: =790-90 -> 700 | G33: 1600
C34: Ankstesnių metų likučiai | E34: 557
C35: Kiti šaltiniai (KPP)
C36: Kiti šaltiniai (kiti finansavimo šaltiniai) | E36: =72.8+30.3 -> 103.1 | F36: 529.3
B37: 006-01-01-05 | C37: Žvejybos produktų iškrovimo vietos įrengimas | D37: MVPD Aplinkosaugos ir miesto tvarkymo skyrius, BĮ „Klaipėdos paplūdimiai“
C38: Savivaldybės biudžeto lėšos (nuosavos, be ankstesnių metų likučio) | F38: 30
B39: 006-01-01-06 | C39: Medžiagų tyrimas ir kontroliniai bandymai, topografinių nuotraukų, išpildomųjų geodezinių nuotraukų įsigijimas, statinių projektų ekspertizių, inžinerinės bei želdinių tvarkymo paslaugos | D39: MVPD Statybos skyrius
C40: Savivaldybės biudžeto lėšos (nuosavos, be ankstesnių metų likučio) | E40: 30 | F40: 30 | G40: 30 | H40: 30
B41: 006-01-01-07 | C41: Ištisinio asfaltbetonio dangos remontas | D41: MVPD Aplinkosaugos ir miesto tvarkymo skyrius | I41: 3.1.3.4.
C42: Savivaldybės biudžeto lėšos (nuosavos, be ankstesnių metų likučio) | E42: 2 | F42: =533.3-183.3 -> 350 | G42: 354.8 | H42: 52.8
C43: Kiti šaltiniai (KPP) | F43: 150 | G43: 1750 | H43: 530
C44: Lietuvos Respublikos valstybės biudžeto dotacijos | E44: =432-152 -> 280
B45: 006-01-01-08 | C45: Kietųjų dangų (šaligatvių, gatvių, takų) remontas
C46: Savivaldybės biudžeto lėšos (nuosavos, be ankstesnių metų likučio) | E46: =2691+191+4.9 -> 2886.9 | F46: =2665.8-498+240.8 -> 2408.6 | G46: 2167.8 | H46: 2167.8
C47: Lietuvos Respublikos valstybės biudžeto dotacijos | E47: 450
C48: Kiti šaltiniai (KPP) | F48: 460 | G48: 460 | H48: 460
C49: Tako prie „Meridiano“ krantinės sutvarkymas
C50: Ankstesnių metų likučiai | E50: 7.3
C51: Savivaldybės biudžeto lėšos (nuosavos, be ankstesnių metų likučio) | E51: =394.2+69 -> 463.2
B52: 006-01-01-09 | C52: Sportininkų gatvės šaligatvių kapitalinis remontas
C53: Savivaldybės biudžeto lėšos (nuosavos, be ankstesnių metų likučio) | F53: 283.2
C54: Skolintos lėšos | E54: =721.4-471.4 -> 250
B55: 006-01-01-10 | C55: Požeminės perėjos uždarymas Vingio g.
C56: Savivaldybės biudžeto lėšos (nuosavos, be ankstesnių metų likučio) | F56: 103
B57: 006-01-01-11 | C57: Tiltų ir kelio statinių priežiūra
C58: Savivaldybės biudžeto lėšos (nuosavos, be ankstesnių metų likučio) | E58: =902-620-157 -> 125 | F58: 200 | G58: 170 | H58: 170
C59: Kiti šaltiniai (KPP) | F59: 200 | G59: 220 | H59: 220
C60: Lietuvos Respublikos valstybės biudžeto dotacijos | E60: 200
B61: 006-01-01-12 | C61: Biržos tilto kapitalinis remontas
C62: Savivaldybės biudžeto lėšos (nuosavos, be ankstesnių metų likučio) | F62: 718 | G62: 1312.4
C63: Paprastojo remonto ir priežiūros darbų techninė priežiūra bei užbaigimo deklaracijos ekspertizių paslaugos | D63: MVPD Aplinkosaugos ir miesto tvarkymo skyrius
C64: Savivaldybės biudžeto lėšos (nuosavos, be ankstesnių metų likučio)
C65: Lietuvos Respublikos valstybės biudžeto dotacijos | E65: 8
C66: Jaunystės g. ir privažiuojamojo kelio (įskaitant sankryžą) bei Rūko g. kapitalinis remontas | D66: MVPD Statybos skyrius | I66: 3.1.3.5.
C67: Ankstesnių metų likučiai | E67: 2.3
B68: 006-01-01-13 | C68: Klaipėdos miesto žvyruotų gatvių kapitalinis remontas | I68: 3.1.3.4.
C69: Savivaldybės biudžeto lėšos (nuosavos, be ankstesnių metų likučio) | E69: 19 | F69: 620 | G69: 950 | H69: =397.3 -> 397.3
C70: Ankstesnių metų likučiai | E70: =660-140 -> 520
C71: Lietuvos Respublikos valstybės biudžeto dotacijos | E71: =1300+140 -> 1440
C72: Kiti šaltiniai (KPP) | F72: 900 | G72: 900 | H72: 900
B73: 006-01-01-14 | C73: Įvažiuojamųjų kelių atnaujinimas ir įrengimas | D73: MVPD Aplinkosaugos ir miesto tvarkymo skyrius | I73: 3.2.2.2.
C74: Savivaldybės biudžeto lėšos (nuosavos, be ankstesnių metų likučio) | E74: =95+575.4-71-4.9 -> 594.5 | F74: 1209.4 | G74: 1268.8 | H74: =1147-887.1 -> 259.9
C75: Skolintos lėšos | H75: 887.1
C76: Lietuvos Respublikos valstybės biudžeto dotacijos
C77: Kiti šaltiniai (KPP)
C78: Kiti šaltiniai (kiti finansavimo šaltiniai) | E78: 24.6
B79: 006-01-01-15 | C79: Dubliuojančios gatvės nuo Šiltnamių g. iki Klaipėdos g. su pėsčiųjų ir dviračių taku ir įvažomis į Liepojos g. įrengimas | D79: MVPD Statybos skyrius | I79: 3.1.3.5.
C80: Savivaldybės biudžeto lėšos (nuosavos, be ankstesnių metų likučio) | E80: =609.6-200-190-151.7 -> 67.9 | F80: =140.2+151.7 -> 291.9
C81: Lietuvos Respublikos valstybės biudžeto dotacijos | E81: =200+200+190 -> 590
C82: Kiti šaltiniai (KPP)
C83: Papildomos eismo juostos ir pėsčiųjų saugumo salelės Mogiliovo gatvėje įrengimas
C84: Savivaldybės biudžeto lėšos (nuosavos, be ankstesnių metų likučio) | E84: =100.3-49.9 -> 50.4
B85: 006-01-01-16 | C85: Aukštosios g. rekonstrukcija | D85: MVPD Statybos skyrius
C86: Savivaldybės biudžeto lėšos (nuosavos, be ankstesnių metų likučio) | G86: 610.6
C87: Ankstesnių metų likučiai | E87: =359-357.2 -> 1.8
B88: 006-01-01-17 | C88: Paryžiaus Komunos g. kapitalinis remontas (nuo Šilutės pl. iki Taikos pr.) | D88: MVPD Statybos skyrius | I88: 3.1.3.5.
C89: Savivaldybės biudžeto lėšos (nuosavos, be ankstesnių metų likučio) | E89: =167+190-298.1 -> 58.9 | F89: =455.1+298.1 -> 753.2
C90: Ankstesnių metų likučiai | E90: =200-167+140 -> 173
C91: Lietuvos Respublikos valstybės biudžeto dotacijos | E91: =700-330 -> 370
C92: Kiti šaltiniai (KPP) | F92: 1700
B93: 006-01-01-18 | C93: Smiltynės g. ir kranto tvirtinimo kapitalinis remontas nuo Jūrų muziejaus iki Senosios Smiltynės perkėlos | I93: 1.2.1.1.
C94: Savivaldybės biudžeto lėšos (nuosavos, be ankstesnių metų likučio) | E94: =72-0.2-45 -> 26.8 | F94: 45
C95: Kiti šaltiniai (KVJUD) | F95: 124.3
C96: Lietuvos Respublikos valstybės biudžeto dotacijos
C97: Žaliosios energijos infrastruktūros įrengimas žemės sklype Pramonės g. 31, Klaipėdoje | D97: MVPD Statybos skyrius, Projektų skyrius | I97: 1.1.1.5.
C98: Savivaldybės biudžeto lėšos (nuosavos, be ankstesnių metų likučio)
C99: Kiti šaltiniai (valstybės biudžeto lėšos) | E99: =2321.8-1121.8 -> 1200
B100: 006-01-01-19 | C100: Privažiuojamojo kelio prie pastato Debreceno g. 48 įrengimas ir pastato aplinkos sutvarkymas | D100: MVPD Statybos skyrius | I100: 3.1.3.6.
C101: Savivaldybės biudžeto lėšos (nuosavos, be ankstesnių metų likučio) | E101: 161.6 | F101: =1400-161.7 -> 1238.3
...

Sheet Lėšų suvestinė 2 lentelė
B1: 2 lentelė. 2024–2027 metų asignavimų ir kitų lėšų pasiskirstymas (tūkst. Eur)
B3: Eil. Nr. | C3: Programos kodas ir pavadinimas | D3: 2024 m. asignavimai ir kitos lėšos | E3: 2025 m. asignavimai ir kitos lėšos | F3: 2026 m. asignavimai ir kitos lėšos | G3: 2027 m. asignavimai ir kitos lėšos
B4: 1 | C4: 2 | D4: 3 | E4: 4 | F4: 5 | G4: 6
B5: 006 Susisiekimo sistemos priežiūros ir plėtros programa
B6: 1. | C6: Savivaldybės biudžetas (įskaitant skolintas lėšas) | D6: =+D8+D9+D10+D11+D12+D13 -> 31470.7 | E6: =+E8+E9+E10+E11+E12+E13 -> 28122.7 | F6: =+F8+F9+F10+F11+F12+F13 -> 34412 | G6: =+G8+G9+G10+G11+G12+G13 -> 28782.9
C7: Iš jo:
B8: 1.1. | C8: savivaldybės biudžeto lėšos (nuosavos, be ankstesnių metų likučio) | D8: =SUMIF('006 programa 3 lentelė'!$C7:$C221,'006 programa 3 lentelė'!$C10,'006 programa 3 lentelė'!E7:E221) -> 11048.5 | E8: =SUMIF('006 programa 3 lentelė'!$C7:$C221,'006 programa 3 lentelė'!$C10,'006 programa 3 lentelė'!F7:F221) -> 27788.8 | F8: =SUMIF('006 programa 3 lentelė'!$C7:$C221,'006 programa 3 lentelė'!$C10,'006 programa 3 lentelė'!G7:G221) -> 19949.5 | G8: =SUMIF('006 programa 3 lentelė'!$C7:$C221,'006 programa 3 lentelė'!$C10,'006 programa 3 lentelė'!H7:H221) -> 22461.9
B9: 1.2. | C9: Lietuvos Respublikos valstybės biudžeto dotacijos | D9: =SUMIF('006 programa 3 lentelė'!$C7:$C221,'006 programa 3 lentelė'!$C11,'006 programa 3 lentelė'!E7:E221) -> 5072.3 | E9: =SUMIF('006 programa 3 lentelė'!$C7:$C221,'006 programa 3 lentelė'!$C11,'006 programa 3 lentelė'!F7:F221) -> 0 | F9: =SUMIF('006 programa 3 lentelė'!$C7:$C221,'006 programa 3 lentelė'!$C11,'006 programa 3 lentelė'!G7:G221) -> 0 | G9: =SUMIF('006 programa 3 lentelė'!$C7:$C221,'006 programa 3 lentelė'!$C11,'006 programa 3 lentelė'!H7:H221) -> 0
B10: 1.3. | C10: pajamų įmokos ir kitos pajamos | D10: {=SUMIF('006 programa 3 lentelė'!$C7:$C221,'006 programa 3 lentelė'!C00,'006 programa 3 lentelė'!E7:E221)} -> 0 | E10: {=SUMIF('006 programa 3 lentelė'!$C7:$C221,'006 programa 3 lentelė'!C00,'006 programa 3 lentelė'!F7:F221)} -> 0 | F10: {=SUMIF('006 programa 3 lentelė'!$C7:$C221,'006 programa 3 lentelė'!C00,'006 programa 3 lentelė'!G7:G221)} -> 0 | G10: {=SUMIF('006 programa 3 lentelė'!$C7:$C221,'006 programa 3 lentelė'!C00,'006 programa 3 lentelė'!H7:H221)} -> 0
B11: 1.4. | C11: Europos Sąjungos ir kitos tarptautinės finansinės paramos lėšos | D11: =SUMIF('006 programa 3 lentelė'!$C7:$C221,'006 programa 3 lentelė'!$C18,'006 programa 3 lentelė'!E7:E221) -> 409.7 | E11: =SUMIF('006 programa 3 lentelė'!$C7:$C221,'006 programa 3 lentelė'!$C18,'006 programa 3 lentelė'!F7:F221) -> 0 | F11: =SUMIF('006 programa 3 lentelė'!$C7:$C221,'006 programa 3 lentelė'!$C18,'006 programa 3 lentelė'!G7:G221) -> 0 | G11: =SUMIF('006 programa 3 lentelė'!$C7:$C221,'006 programa 3 lentelė'!$C18,'006 programa 3 lentelė'!H7:H221) -> 0
B12: 1.5. | C12: skolintos lėšos | D12: =SUMIF('006 programa 3 lentelė'!$C7:$C221,'006 programa 3 lentelė'!$C75,'006 programa 3 lentelė'!E7:E221) -> 250 | E12: =SUMIF('006 programa 3 lentelė'!$C7:$C221,'006 programa 3 lentelė'!$C75,'006 programa 3 lentelė'!F7:F221) -> 0 | F12: =SUMIF('006 programa 3 lentelė'!$C7:$C221,'006 programa 3 lentelė'!$C75,'006 programa 3 lentelė'!G7:G221) -> 1562.1 | G12: =SUMIF('006 programa 3 lentelė'!$C7:$C221,'006 programa 3 lentelė'!$C75,'006 programa 3 lentelė'!H7:H221) -> 887.1
B13: 1.6. | C13: ankstesnių metų likučiai | D13: =SUMIF('006 programa 3 lentelė'!$C7:$C221,'006 programa 3 lentelė'!$C12,'006 programa 3 lentelė'!E7:E221) -> 14690.2 | E13: =SUMIF('006 programa 3 lentelė'!$C7:$C221,'006 programa 3 lentelė'!$C12,'006 programa 3 lentelė'!F7:F221) -> 333.9 | F13: =SUMIF('006 programa 3 lentelė'!$C7:$C221,'006 programa 3 lentelė'!$C12,'006 programa 3 lentelė'!G7:G221) -> 12900.4 | G13: =SUMIF('006 programa 3 lentelė'!$C7:$C221,'006 programa 3 lentelė'!$C12,'006 programa 3 lentelė'!H7:H221) -> 5433.9
B14: 2. | C14: Kiti šaltiniai (Europos Sąjungos finansinė parama projektams įgyvendinti ir kitos teisėtai gautos lėšos, nurodant atskirus šaltinius) | D14: =+D16+D17+D18+D19+D20+D21 -> 1340.1 | E14: =+E16+E17+E18+E19+E20+E21 -> 6264.7 | F14: =+F16+F17+F18+F19+F20+F21 -> 9767.2 | G14: =+G16+G17+G18+G19+G20+G21 -> 13517.1
C15: Iš jo:
B16: 2.1. | C16: Europos Sąjungos paramos lėšos | D16: =SUMIF('006 programa 3 lentelė'!$C7:$C221,'006 programa 3 lentelė'!$C205,'006 programa 3 lentelė'!E7:E221) -> 0 | E16: =SUMIF('006 programa 3 lentelė'!$C7:$C221,'006 programa 3 lentelė'!$C205,'006 programa 3 lentelė'!F7:F221) -> 762.4 | F16: =SUMIF('006 programa 3 lentelė'!$C7:$C221,'006 programa 3 lentelė'!$C205,'006 programa 3 lentelė'!G7:G221) -> 3907.2 | G16: =SUMIF('006 programa 3 lentelė'!$C7:$C221,'006 programa 3 lentelė'!$C205,'006 programa 3 lentelė'!H7:H221) -> 7813.7
B17: 2.2. | C17: Privalomojo sveikatos draudimo fondo lėšos | D17: {=SUMIF('006 programa 3 lentelė'!$C7:$C221,'006 programa 3 lentelė'!C00,'006 programa 3 lentelė'!E7:E221)} -> 0 | E17: {=SUMIF('006 programa 3 lentelė'!$C7:$C221,'006 programa 3 lentelė'!C00,'006 programa 3 lentelė'!F7:F221)} -> 0 | F17: {=SUMIF('006 programa 3 lentelė'!$C7:$C221,'006 programa 3 lentelė'!C00,'006 programa 3 lentelė'!G7:G221)} -> 0 | G17: {=SUMIF('006 programa 3 lentelė'!$C7:$C221,'006 programa 3 lentelė'!C00,'006 programa 3 lentelė'!H7:H221)} -> 0
B18: 2.3. | C18: Klaipėdos valstybinio jūrų uosto direkcijos lėšos (KVJUD) | D18: =SUMIF('006 programa 3 lentelė'!$C7:$C221,'006 programa 3 lentelė'!$C95,'006 programa 3 lentelė'!E7:E221) -> 0 | E18: =SUMIF('006 programa 3 lentelė'!$C7:$C221,'006 programa 3 lentelė'!$C95,'006 programa 3 lentelė'!F7:F221) -> 194.3 | F18: =SUMIF('006 programa 3 lentelė'!$C7:$C221,'006 programa 3 lentelė'!$C95,'006 programa 3 lentelė'!G7:G221) -> 130 | G18: =SUMIF('006 programa 3 lentelė'!$C7:$C221,'006 programa 3 lentelė'!$C95,'006 programa 3 lentelė'!H7:H221) -> 0
B19: 2.4. | C19: Valstybės biudžeto lėšos (LRVB) | D19: =SUMIF('006 programa 3 lentelė'!$C7:$C221,'006 programa 3 lentelė'!$C99,'006 programa 3 lentelė'!E7:E221) -> 1200 | E19: =SUMIF('006 programa 3 lentelė'!$C7:$C221,'006 programa 3 lentelė'!$C99,'006 programa 3 lentelė'!F7:F221) -> 1268.7 | F19: =SUMIF('006 programa 3 lentelė'!$C7:$C221,'006 programa 3 lentelė'!$C99,'006 programa 3 lentelė'!G7:G221) -> 1800 | G19: =SUMIF('006 programa 3 lentelė'!$C7:$C221,'006 programa 3 lentelė'!$C99,'006 programa 3 lentelė'!H7:H221) -> 1993.4
B20: 2.5. | C20: Kiti finansavimo šaltiniai | D20: =SUMIF('006 programa 3 lentelė'!$C7:$C221,'006 programa 3 lentelė'!$C36,'006 programa 3 lentelė'!E7:E221) -> 140.1 | E20: =SUMIF('006 programa 3 lentelė'!$C7:$C221,'006 programa 3 lentelė'!$C36,'006 programa 3 lentelė'!F7:F221) -> 529.3 | F20: =SUMIF('006 programa 3 lentelė'!$C7:$C221,'006 programa 3 lentelė'!$C36,'006 programa 3 lentelė'!G7:G221) -> 0 | G20: =SUMIF('006 programa 3 lentelė'!$C7:$C221,'006 programa 3 lentelė'!$C36,'006 programa 3 lentelė'!H7:H221) -> 0
B21: 2.6. | C21: Kelių priežiūros ir plėtros programos lėšos (KPP) | D21: =SUMIF('006 programa 3 lentelė'!$C7:$C221,'006 programa 3 lentelė'!$C43,'006 programa 3 lentelė'!E7:E221) -> 0 | E21: =SUMIF('006 programa 3 lentelė'!$C7:$C221,'006 programa 3 lentelė'!$C43,'006 programa 3 lentelė'!F7:F221) -> 3510 | F21: =SUMIF('006 programa 3 lentelė'!$C7:$C221,'006 programa 3 lentelė'!$C43,'006 programa 3 lentelė'!G7:G221) -> 3930 | G21: =SUMIF('006 programa 3 lentelė'!$C7:$C221,'006 programa 3 lentelė'!$C43,'006 programa 3 lentelė'!H7:H221) -> 3710
C22: IŠ VISO programai finansuoti pagal finansavimo šaltinius (1 ir 2 punktai) | D22: =+D6+D14 -> 32810.8 | E22: =+E6+E14 -> 34387.4 | F22: =+F6+F14 -> 44179.2 | G22: =+G6+G14 -> 42300
C23: Iš jų: regioninių pažangos priemonių lėšos | D23: =+'006 programa 3 lentelė'!E220 -> 163 | E23: =+'006 programa 3 lentelė'!F220 -> 1123.4 | F23: =+'006 programa 3 lentelė'!G220 -> 4209.6 | G23: =+'006 programa 3 lentelė'!H220 -> 12205.4
C24: Asignavimų ir kitų lėšų pokytis, palyginti su ankstesnių metų patvirtintų asignavimų ir kitų lėšų planu | E24: =+'006 programa 3 lentelė'!F221 -> 1576.6 | F24: =+'006 programa 3 lentelė'!G221 -> 9791.8 | G24: =+'006 programa 3 lentelė'!H221 -> -1879.2
