Workbook

Sheet 8 programa 3 lentelė
H1: Aiškinamojo rašto
H2: 1 priedas
B4: 3 lentelė. Klaipėdos miesto savivaldybės 2024–2027 metų 008 Kultūros plėtros programos uždaviniai, priemonės, asignavimai ir kitos lėšos (tūkst. eurų)
B5: Programos uždavinio, priemonės kodas ir požymis | C5: Uždavinio, priemonės pavadinimas, finansavimo šaltiniai | D5: Vykdytojas (padalinys / asmuo) | E5: 2024 metų asignavimai ir kitos lėšos | F5: 2025 metų asignavimai ir kitos lėšos | G5: 2026 metų asignavimai ir kitos lėšos | H5: 2027 metų asignavimai ir kitos lėšos | I5: Savivaldybės strateginio plėtros plano priemonės kodas
B6: 1 | C6: 2 | D6: 3 | E6: 4 | F6: 5 | G6: 6 | H6: 7 | I6: 8
B7: 008-01 (T) | C7: Uždavinys: Remti kūrybinių organizacijų iniciatyvas ir miesto švenčių organizavimą
B8: 008-01-01 (TP) | C8: Priemonė: Kultūros ir meno projektų dalinis finansavimas | D8: KSTD Kultūros skyrius
C9: Savivaldybės biudžetas (įskaitant skolintas lėšas) | E9: =SUM(E11) -> 1271.7 | F9: =SUM(F11) -> 1299.1 | G9: =SUM(G11) -> 1299.1 | H9: =SUM(H11) -> 1299.1
C10: Iš jo:
C11: Savivaldybės biudžeto lėšos (nuosavos, be ankstesnių metų likučio) | E11: =1195+100-23.3 -> 1271.7 | F11: =1297+2.1 -> 1299.1 | G11: =1297+2.1 -> 1299.1 | H11: =1297+2.1 -> 1299.1
B12: 008-01-02 (TP) | C12: Priemonė: Kultūros didžiųjų renginių organizavimas
B13: 008-01-02-01 | C13: Jūros šventės (vykdytoja – VšĮ „Klaipėdos šventės“) | D13: KSTD Kultūros skyrius, VšĮ „Klaipėdos šventės“ | I13: 2.1.3.3.
C14: Savivaldybės biudžeto lėšos (nuosavos, be ankstesnių metų likučio) | E14: =302+26.4 -> 328.4 | F14: 322 | G14: 322 | H14: 322
B15: 008-01-02-02 | C15: Tarptautinių jūrinių regatų „The Tall Ships Races“ ir kt. organizavimas (vykdytoja – VšĮ „Klaipėdos šventės“) | I15: 2.1.3.3.
C16: Savivaldybės biudžeto lėšos (nuosavos, be ankstesnių metų likučio) | E16: 941.9 | F16: 130 | G16: 130 | H16: 130
C17: Ankstesnių metų likučiai | E17: 102.6
B18: 008-01-02-03 | C18: Festivalio „Šermukšnis“ | D18: KSTD Kultūros skyrius, BĮ Klaipėdos miesto savivaldybės kultūros centras Žvejų rūmai
C19: Savivaldybės biudžeto lėšos (nuosavos, be ankstesnių metų likučio) | E19: 15 | F19: 100 | G19: 15 | H19: 100
B20: 008-01-02-04 | C20: Tarptautinio nematerialaus kultūros paveldo festivalio „Lauksnos“ | D20: KSTD Kultūros skyrius, BĮ Klaipėdos miesto savivaldybės etnokultūros centras
C21: Savivaldybės biudžeto lėšos (nuosavos, be ankstesnių metų likučio) | E21: 129.5 | F21: 5 | G21: 134.5 | H21: 5
B22: 008-01-02-05 | C22: Tarptautinio Davido Geringo violončelės festivalio ir konkurso | D22: KSTD Kultūros skyrius, BĮ Klaipėdos miesto savivaldybės koncertinė įstaiga Klaipėdos koncertų salė
C23: Savivaldybės biudžeto lėšos (nuosavos, be ankstesnių metų likučio) | E23: 9 | F23: 250 | G23: 9 | H23: 250
C24: Projektų, skirtų Švyturių metams | I24: 2.1.3.3.
C25: Savivaldybės biudžeto lėšos (nuosavos, be ankstesnių metų likučio) | E25: =67+17.2+3 -> 87.2
B26: 008-01-02-06 | C26: Šviesų festivalio (vykdytoja – VšĮ „Klaipėdos šventės“) | D26: KSTD Kultūros skyrius, VšĮ „Klaipėdos šventės“
C27: Savivaldybės biudžeto lėšos (nuosavos, be ankstesnių metų likučio) | F27: 200 | G27: 200 | H27: 200
C28: Savivaldybės biudžetas (įskaitant skolintas lėšas) | E28: =SUM(E13:E27) -> 1613.6 | F28: =SUM(F13:F27) -> 1007 | G28: =SUM(G13:G27) -> 810.5 | H28: =SUM(H13:H27) -> 1007
C29: Iš jo:
C30: Savivaldybės biudžeto lėšos (nuosavos, be ankstesnių metų likučio)' | E30: =SUMIF($C13:$C27,$C14,E13:E27) -> 1511 | F30: =SUMIF($C13:$C27,$C14,F13:F27) -> 1007 | G30: =SUMIF($C13:$C27,$C14,G13:G27) -> 810.5 | H30: =SUMIF($C13:$C27,$C14,H13:H27) -> 1007
C31: Ankstesnių metų likučiai' | E31: =SUMIF($C13:$C27,$C17,E13:E27) -> 102.6
B32: 008-01-03 (TP) | C32: Priemonė: Stipendijų mokėjimas kultūros ir meno kūrėjams | D32: KSTD Kultūros skyrius
C33: Savivaldybės biudžetas (įskaitant skolintas lėšas) | E33: =SUM(E35:E35) -> 110.2 | F33: =SUM(F35:F35) -> 191.4 | G33: =SUM(G35:G35) -> 191.4 | H33: =SUM(H35:H35) -> 191.4
C34: Iš jo:
C35: Savivaldybės biudžeto lėšos (nuosavos, be ankstesnių metų likučio) | E35: 110.2 | F35: 191.4 | G35: 191.4 | H35: 191.4
B36: 008-01-04 (TP) | C36: Priemonė: Miesto kultūrinio gyvenimo skatinimas
B37: 008-01-04-01 | C37: Miesto kultūrinio paveldo ir kultūrinės atminties išsaugojimas ir puoselėjimas
C38: Savivaldybės biudžeto lėšos (nuosavos, be ankstesnių metų likučio) | D38: KSTD Kultūros skyrius, BĮ Klaipėdos miesto savivaldybės kultūros centras Žvejų rūmai | E38: =304.4+38-3 -> 339.4 | F38: =280.4-199.8-6.7 -> 73.9 | G38: =73.9-20 -> 53.9 | H38: =73.9-20 -> 53.9
C39: Ankstesnių metų likučiai | F39: 16.4
C40: Savivaldybės biudžeto lėšos (nuosavos, be ankstesnių metų likučio) | D40: KSTD Kultūros skyrius – priemonės vykdymas, ŠSD Planavimo ir analizės skyrius – programos sąmatų rengimas | E40: =42+2.4 -> 44.4
B41: 008-01-04-02 | C41: Kalėdinių ir naujametinių renginių ciklo organizavimas (vykdytoja – VšĮ „Klaipėdos šventės“) | D41: KSTD Kultūros skyrius, VšĮ „Klaipėdos šventės“
...

Sheet Lėšų suvestinė 2 lentelė
B1: 2 lentelė. 2024–2027 metų asignavimų ir kitų lėšų pasiskirstymas (tūkst. Eur)
B3: Eil. Nr. | C3: Programos kodas ir pavadinimas | D3: 2024 m. asignavimai ir kitos lėšos | E3: 2025 metų asignavimai ir kitos lėšos | F3: 2026 metų asignavimai ir kitos lėšos | G3: 2027 metų asignavimai ir kitos lėšos
B4: 1 | C4: 2 | D4: 3 | E4: 4 | F4: 5 | G4: 6
B5: 008 Kultūros plėtros programa
B6: 1. | C6: Savivaldybės biudžetas (įskaitant skolintas lėšas) | D6: =SUM(D8:D13) -> 15059.7 | E6: =SUM(E8:E13) -> 17121.7 | F6: =SUM(F8:F13) -> 17709.6 | G6: =SUM(G8:G13) -> 19287.5
C7: Iš jo:
B8: 1.1. | C8: savivaldybės biudžeto lėšos (nuosavos, be ankstesnių metų likučio) | D8: =SUMIF('8 programa 3 lentelė'!$C7:$C226,'8 programa 3 lentelė'!$C11,'8 programa 3 lentelė'!E7:E226) -> 13995.3 | E8: =SUMIF('8 programa 3 lentelė'!$C7:$C226,'8 programa 3 lentelė'!$C11,'8 programa 3 lentelė'!F7:F226) -> 16372.7 | F8: =SUMIF('8 programa 3 lentelė'!$C7:$C226,'8 programa 3 lentelė'!$C11,'8 programa 3 lentelė'!G7:G226) -> 16977.3 | G8: =SUMIF('8 programa 3 lentelė'!$C7:$C226,'8 programa 3 lentelė'!$C11,'8 programa 3 lentelė'!H7:H226) -> 14732.6
B9: 1.2. | C9: Lietuvos Respublikos valstybės biudžeto dotacijos | D9: =SUMIF('8 programa 3 lentelė'!$C7:$C226,'8 programa 3 lentelė'!$C159,'8 programa 3 lentelė'!E7:E226) -> 64.2 | E9: =SUMIF('8 programa 3 lentelė'!$C7:$C226,'8 programa 3 lentelė'!$C159,'8 programa 3 lentelė'!F7:F226) -> 0 | F9: =SUMIF('8 programa 3 lentelė'!$C7:$C226,'8 programa 3 lentelė'!$C159,'8 programa 3 lentelė'!G7:G226) -> 0 | G9: =SUMIF('8 programa 3 lentelė'!$C7:$C226,'8 programa 3 lentelė'!$C159,'8 programa 3 lentelė'!H7:H226) -> 0
B10: 1.3. | C10: pajamų įmokos ir kitos pajamos | D10: =SUMIF('8 programa 3 lentelė'!$C7:$C226,'8 programa 3 lentelė'!$C57,'8 programa 3 lentelė'!E7:E226) -> 633.7 | E10: =SUMIF('8 programa 3 lentelė'!$C7:$C226,'8 programa 3 lentelė'!$C57,'8 programa 3 lentelė'!F7:F226) -> 732.6 | F10: =SUMIF('8 programa 3 lentelė'!$C7:$C226,'8 programa 3 lentelė'!$C57,'8 programa 3 lentelė'!G7:G226) -> 732.3 | G10: =SUMIF('8 programa 3 lentelė'!$C7:$C226,'8 programa 3 lentelė'!$C57,'8 programa 3 lentelė'!H7:H226) -> 764.3
B11: 1.4. | C11: Europos Sąjungos ir kitos tarptautinės finansinės paramos lėšos | D11: {=SUMIF('8 programa 3 lentelė'!$C7:$C226,C00,'8 programa 3 lentelė'!E7:E226)} -> 0 | E11: {=SUMIF('8 programa 3 lentelė'!$C7:$C226,C00,'8 programa 3 lentelė'!F7:F226)} -> 0 | F11: {=SUMIF('8 programa 3 lentelė'!$C7:$C226,C00,'8 programa 3 lentelė'!G7:G226)} -> 0 | G11: {=SUMIF('8 programa 3 lentelė'!$C7:$C226,C00,'8 programa 3 lentelė'!H7:H226)} -> 0
B12: 1.5. | C12: skolintos lėšos | D12: =SUMIF('8 programa 3 lentelė'!$C7:$C227,'8 programa 3 lentelė'!$C193,'8 programa 3 lentelė'!E7:E227) -> 0 | E12: =SUMIF('8 programa 3 lentelė'!$C7:$C227,'8 programa 3 lentelė'!$C193,'8 programa 3 lentelė'!F7:F227) -> 0 | F12: =SUMIF('8 programa 3 lentelė'!$C7:$C227,'8 programa 3 lentelė'!$C193,'8 programa 3 lentelė'!G7:G227) -> 0 | G12: =SUMIF('8 programa 3 lentelė'!$C7:$C227,'8 programa 3 lentelė'!$C193,'8 programa 3 lentelė'!H7:H227) -> 3790.6
B13: 1.6. | C13: ankstesnių metų likučiai | D13: =SUMIF('8 programa 3 lentelė'!$C7:$C226,'8 programa 3 lentelė'!$C31,'8 programa 3 lentelė'!E7:E226) -> 366.5 | E13: =SUMIF('8 programa 3 lentelė'!$C7:$C226,'8 programa 3 lentelė'!$C31,'8 programa 3 lentelė'!F7:F226) -> 16.4 | F13: =SUMIF('8 programa 3 lentelė'!$C7:$C226,'8 programa 3 lentelė'!$C31,'8 programa 3 lentelė'!G7:G226) -> 0 | G13: =SUMIF('8 programa 3 lentelė'!$C7:$C226,'8 programa 3 lentelė'!$C31,'8 programa 3 lentelė'!H7:H226) -> 0
B14: 2. | C14: Kiti šaltiniai (Europos Sąjungos finansinė parama projektams įgyvendinti ir kitos teisėtai gautos lėšos, nurodant atskirus šaltinius) | D14: =SUM(D16:D21) -> 0 | E14: =SUM(E16:E21) -> 212.5 | F14: =SUM(F16:F21) -> 850 | G14: =SUM(G16:G21) -> 1062
C15: Iš jo:
B16: 2.1. | C16: Europos Sąjungos paramos lėšos | D16: =SUMIF('8 programa 3 lentelė'!$C7:$C227,'8 programa 3 lentelė'!$C195,'8 programa 3 lentelė'!E7:E227) -> 0 | E16: =SUMIF('8 programa 3 lentelė'!$C7:$C227,'8 programa 3 lentelė'!$C195,'8 programa 3 lentelė'!F7:F227) -> 212.5 | F16: =SUMIF('8 programa 3 lentelė'!$C7:$C227,'8 programa 3 lentelė'!$C195,'8 programa 3 lentelė'!G7:G227) -> 850 | G16: =SUMIF('8 programa 3 lentelė'!$C7:$C227,'8 programa 3 lentelė'!$C195,'8 programa 3 lentelė'!H7:H227) -> 1062
B17: 2.2. | C17: Privalomojo sveikatos draudimo fondo lėšos | D17: =SUMIF('8 programa 3 lentelė'!C7:C227,'8 programa 3 lentelė'!C195,'8 programa 3 lentelė'!E7:E227) -> 0 | E17: {=SUMIF('8 programa 3 lentelė'!$C7:$C226,C00,'8 programa 3 lentelė'!F7:F226)} -> 0 | F17: {=SUMIF('8 programa 3 lentelė'!$C7:$C226,C00,'8 programa 3 lentelė'!G7:G226)} -> 0 | G17: {=SUMIF('8 programa 3 lentelė'!$C7:$C226,C00,'8 programa 3 lentelė'!H7:H226)} -> 0
B18: 2.3. | C18: Klaipėdos valstybinio jūrų uosto direkcijos lėšos (KVJUD) | D18: {=SUMIF('8 programa 3 lentelė'!$C7:$C226,C00,'8 programa 3 lentelė'!E7:E226)} -> 0 | E18: {=SUMIF('8 programa 3 lentelė'!$C7:$C226,C00,'8 programa 3 lentelė'!F7:F226)} -> 0 | F18: {=SUMIF('8 programa 3 lentelė'!$C7:$C226,C00,'8 programa 3 lentelė'!G7:G226)} -> 0 | G18: {=SUMIF('8 programa 3 lentelė'!$C7:$C226,C00,'8 programa 3 lentelė'!H7:H226)} -> 0
B19: 2.4. | C19: Valstybės biudžeto lėšos (LRVB) | D19: {=SUMIF('8 programa 3 lentelė'!$C7:$C226,C00,'8 programa 3 lentelė'!E7:E226)} -> 0 | E19: {=SUMIF('8 programa 3 lentelė'!$C7:$C226,C00,'8 programa 3 lentelė'!F7:F226)} -> 0 | F19: {=SUMIF('8 programa 3 lentelė'!$C7:$C226,C00,'8 programa 3 lentelė'!G7:G226)} -> 0 | G19: {=SUMIF('8 programa 3 lentelė'!$C7:$C226,C00,'8 programa 3 lentelė'!H7:H226)} -> 0
B20: 2.5. | C20: Kiti finansavimo šaltiniai | D20: {=SUMIF('8 programa 3 lentelė'!$C7:$C226,C00,'8 programa 3 lentelė'!E7:E226)} -> 0 | E20: {=SUMIF('8 programa 3 lentelė'!$C7:$C226,C00,'8 programa 3 lentelė'!F7:F226)} -> 0 | F20: {=SUMIF('8 programa 3 lentelė'!$C7:$C226,C00,'8 programa 3 lentelė'!G7:G226)} -> 0 | G20: {=SUMIF('8 programa 3 lentelė'!$C7:$C226,C00,'8 programa 3 lentelė'!H7:H226)} -> 0
B21: 2.6. | C21: Kelių priežiūros ir plėtros programos lėšos (KPP) | D21: {=SUMIF('8 programa 3 lentelė'!$C7:$C226,C00,'8 programa 3 lentelė'!E7:E226)} -> 0 | E21: {=SUMIF('8 programa 3 lentelė'!$C7:$C226,C00,'8 programa 3 lentelė'!F7:F226)} -> 0 | F21: {=SUMIF('8 programa 3 lentelė'!$C7:$C226,C00,'8 programa 3 lentelė'!G7:G226)} -> 0 | G21: {=SUMIF('8 programa 3 lentelė'!$C7:$C226,C00,'8 programa 3 lentelė'!H7:H226)} -> 0
C22: IŠ VISO programai finansuoti pagal finansavimo šaltinius (1 ir 2 punktai) | D22: =D6+D14 -> 15059.7 | E22: =E6+E14 -> 17334.2 | F22: =F6+F14 -> 18559.6 | G22: =G6+G14 -> 20349.5
C23: Iš jų: regioninių pažangos priemonių lėšos | D23: ='8 programa 3 lentelė'!E226 -> 103.1 | E23: ='8 programa 3 lentelė'!F226 -> 1104.5 | F23: ='8 programa 3 lentelė'!G226 -> 4035.6 | G23: ='8 programa 3 lentelė'!H226 -> 191.4
C24: Asignavimų ir kitų lėšų pokytis, palyginti su ankstesnių metų patvirtintų asignavimų ir kitų lėšų planu | E24: =E22-D22 -> 2274.5 | F24: =F22-E22 -> 1225.4 | G24: =G22-F22 -> 1789.9
