Workbook

Sheet 4 programa 3 lentelė
H1: Aiškinamojo rašto
H2: 1 priedas
B4: 3 lentelė. Klaipėdos miesto savivaldybės 2024–2027 metų 004 Sveikatos apsaugos programos uždaviniai, priemonės, asignavimai ir kitos lėšos (tūkst. eurų)
B5: Programos uždavinio, priemonės kodas ir požymis | C5: Uždavinio, priemonės pavadinimas, finansavimo šaltiniai | D5: Vykdytojas (padalinys / asmuo) | E5: 2024 metų asignavimai ir kitos lėšos | F5: 2025 metų asignavimai ir kitos lėšos | G5: 2026 metų asignavimai ir kitos lėšos | H5: 2027 metų asignavimai ir kitos lėšos | I5: Savivaldybės strateginio plėtros plano priemonės kodas
B6: 1 | C6: 2 | D6: 3 | E6: 4 | F6: 5 | G6: 6 | H6: 7 | I6: 8
B7: 004-01 (T) | C7: Uždavinys: Užtikrinti visuomenės sveikatos priežiūros paslaugų teikimą
B8: 004-01-01 (TP) | C8: Priemonė: Klaipėdos miesto savivaldybės visuomenės sveikatos rėmimo specialiosios programos įgyvendinimas prioritetinėse srityse | D8: ŠSD Sveikatos ir šeimos skyrius | I8: 2.3.2.1.
C9: Savivaldybės biudžetas (įskaitant skolintas lėšas) | E9: =+E11+E12 -> 344.2 | F9: =+F11+F12 -> 347.7 | G9: =+G11+G12 -> 347.7 | H9: =+H11+H12 -> 347.7
C10: Iš jo:
C11: Savivaldybės biudžeto lėšos (nuosavos, be ankstesnių metų likučio) | E11: 342.9 | F11: 347.7 | G11: 347.7 | H11: 347.7
C12: Ankstesnių metų likučiai | E12: 1.3
B13: 004-01-02 (TP) | C13: Priemonė: BĮ Klaipėdos miesto visuomenės sveikatos biuro veiklos organizavimas, vykdant visuomenės sveikatos stiprinimą ir stebėseną ugdymo įstaigose ir bendruomenėse | D13: ŠSD Sveikatos ir šeimos skyrius, BĮ Klaipėdos miesto visuomenės sveikatos biuras | I13: 2.3.2.1.
C14: Savivaldybės biudžetas (įskaitant skolintas lėšas) | E14: =SUM(E16:E19) -> 2741.6 | F14: =SUM(F16:F19) -> 2785.5 | G14: =SUM(G16:G19) -> 2779.8 | H14: =SUM(H16:H19) -> 2779.8
C15: Iš jo:
C16: Savivaldybės biudžeto lėšos (nuosavos, be ankstesnių metų likučio) | E16: =1339.3+4.8 -> 1344.1 | F16: 1387 | G16: 1381.3 | H16: 1381.3
C17: Lietuvos Respublikos valstybės biudžeto dotacijos | E17: 1382.2 | F17: 1388.9 | G17: 1388.9 | H17: 1388.9
C18: Pajamų įmokos ir kitos pajamos | E18: 9.6 | F18: 9.6 | G18: 9.6 | H18: 9.6
C19: Ankstesnių metų likučiai | E19: =5.6+0.1 -> 5.7
B20: 004-01-03 (TP) | C20: Priemonė: Sveikatos ir su sveikata susijusių dienų minėjimo renginių organizavimas
C21: Savivaldybės biudžetas (įskaitant skolintas lėšas) | E21: =+E23+E24 -> 13.1 | F21: =+F23+F24 -> 20 | G21: =+G23+G24 -> 20 | H21: =+H23+H24 -> 20
C22: Iš jo:
C23: Savivaldybės biudžeto lėšos (nuosavos, be ankstesnių metų likučio) | D23: ŠSD Sveikatos ir šeimos skyrius, VŠĮ Klaipėdos miesto poliklinika | E23: =7 -> 7 | F23: 20 | G23: 20 | H23: 20
C24: Savivaldybės biudžeto lėšos (nuosavos, be ankstesnių metų likučio) | D24: KSTD Kultūros skyrius – priemonės vykdymas, ŠSD Planavimo ir analizės skyrius – programos sąmatos rengimas | E24: 6.1
B25: 004-01-04 (PP) | C25: Priemonė: Projekto ,,Neįtikėtini metai“ įgyvendinimas | D25: ŠSD Sveikatos ir šeimos skyrius, BĮ Klaipėdos miesto visuomenės sveikatos biuras | I25: 2.3.2.1.
C26: Savivaldybės biudžetas (įskaitant skolintas lėšas) | E26: =E28 -> 41.4 | F26: =F28 -> 41.4 | G26: =G28 -> 41.4 | H26: =H28 -> 41.4
C27: Iš jo:
C28: Europos Sąjungos ir kitos tarptautinės finansinės paramos lėšos | E28: 41.4 | F28: 41.4 | G28: 41.4 | H28: 41.4
B29: 004-01-05 (RP) | C29: Priemonė: Projekto ,,Sveikos gyvensenos skatinimas, sveikatos raštingumo, visuomenės sveikatos paslaugų prieinamumo ir kokybės tikslinėms grupėms didinimas Klaipėdos mieste“ įgyvendinimas | D29: ŠSD Sveikatos ir šeimos skyrius, BĮ Klaipėdos miesto visuomenės sveikatos biuras | I29: 2.3.2.1.
C30: Savivaldybės biudžetas (įskaitant skolintas lėšas) | F30: =F32 -> 32.6 | G30: =G32 -> 32.6 | H30: =H32 -> 32.6
C31: Iš jo:
C32: Savivaldybės biudžeto lėšos (nuosavos, be ankstesnių metų likučio) | F32: 32.6 | G32: 32.6 | H32: 32.6
C33: Kiti šaltiniai | F33: =+F35 -> 184.9 | G33: =+G35 -> 184.9 | H33: =+H35 -> 194.9
C34: Iš jų:
C35: Kiti šaltiniai (Europos Sąjungos paramos lėšos) | F35: 184.9 | G35: 184.9 | H35: 194.9
B36: 004-01-06 (PP) | C36: Priemonė: Projekto ,,Jungtiniai veiksmai įgyvendinant gerąją praktiką pirminėje sveikatos priežiūroje“ įgyvendinimas | D36: ŠSD Sveikatos ir šeimos skyrius, BĮ Klaipėdos miesto visuomenės sveikatos biuras | I36: 2.3.2.1.
C37: Savivaldybės biudžetas (įskaitant skolintas lėšas) | E37: =SUM(E39:E40) -> 27.1 | F37: =SUM(F39:F40) -> 48.3 | G37: =SUM(G39:G40) -> 2
C38: Iš jo:
C39: Savivaldybės biudžeto lėšos (nuosavos, be ankstesnių metų likučio) | E39: 5.4 | F39: 9.7 | G39: 0.4
C40: Europos Sąjungos ir kitos tarptautinės finansinės paramos lėšos | E40: 21.7 | F40: 38.6 | G40: 1.6
B41: 004-01-07 (PP) | C41: Priemonė: Projekto ,,Holistinis klimato kaitos, aplinkos streso veiksnių ir epidemiologinių modelių Borealiniame regione supratimas – AURORA“ įgyvendinimas | D41: ŠSD Sveikatos ir šeimos skyrius, BĮ Klaipėdos miesto visuomenės sveikatos biuras | I41: 2.3.2.1.
...

Sheet Lėšų suvestinė 2 lentelė
B1: 2 lentelė. 2024–2027 metų asignavimų ir kitų lėšų pasiskirstymas (tūkst. Eur)
B3: Eil. Nr. | C3: Programos kodas ir pavadinimas | D3: 2024 m. asignavimai ir kitos lėšos | E3: 2025 metų asignavimai ir kitos lėšos | F3: 2026 metų asignavimai ir kitos lėšos | G3: 2027 metų asignavimai ir kitos lėšos
B4: 1 | C4: 2 | D4: 3 | E4: 4 | F4: 5 | G4: 6
B5: 004 Sveikatos apsaugos programa
B6: 1. | C6: Savivaldybės biudžetas (įskaitant skolintas lėšas) | D6: =SUM(D8:D13) -> 6344.7 | E6: =SUM(E8:E13) -> 9273.6 | F6: =SUM(F8:F13) -> 7857.3 | G6: =SUM(G8:G13) -> 6906.1
C7: Iš jo:
B8: 1.1. | C8: savivaldybės biudžeto lėšos (nuosavos, be ankstesnių metų likučio) | D8: =SUMIF('4 programa 3 lentelė'!C7:C177,'4 programa 3 lentelė'!C58,'4 programa 3 lentelė'!E7:E177) -> 4429.9 | E8: =SUMIF('4 programa 3 lentelė'!$C7:$C179,'4 programa 3 lentelė'!$C11,'4 programa 3 lentelė'!F7:F179) -> 6894.4 | F8: =SUMIF('4 programa 3 lentelė'!$C7:$C179,'4 programa 3 lentelė'!$C11,'4 programa 3 lentelė'!G7:G179) -> 4876.7 | G8: =SUMIF('4 programa 3 lentelė'!$C7:$C179,'4 programa 3 lentelė'!$C11,'4 programa 3 lentelė'!H7:H179) -> 5386.9
B9: 1.2. | C9: Lietuvos Respublikos valstybės biudžeto dotacijos | D9: =SUMIF('4 programa 3 lentelė'!$C7:$C179,'4 programa 3 lentelė'!$C17,'4 programa 3 lentelė'!E7:E179) -> 1599.4 | E9: =SUMIF('4 programa 3 lentelė'!$C7:$C179,'4 programa 3 lentelė'!$C17,'4 programa 3 lentelė'!F7:F179) -> 1537.1 | F9: =SUMIF('4 programa 3 lentelė'!$C7:$C179,'4 programa 3 lentelė'!$C17,'4 programa 3 lentelė'!G7:G179) -> 1407 | G9: =SUMIF('4 programa 3 lentelė'!$C7:$C179,'4 programa 3 lentelė'!$C17,'4 programa 3 lentelė'!H7:H179) -> 1408.2
B10: 1.3. | C10: pajamų įmokos ir kitos pajamos | D10: =SUMIF('4 programa 3 lentelė'!$C7:$C179,'4 programa 3 lentelė'!$C18,'4 programa 3 lentelė'!E7:E179) -> 69.6 | E10: =SUMIF('4 programa 3 lentelė'!$C7:$C179,'4 programa 3 lentelė'!$C18,'4 programa 3 lentelė'!F7:F179) -> 69.6 | F10: =SUMIF('4 programa 3 lentelė'!$C7:$C179,'4 programa 3 lentelė'!$C18,'4 programa 3 lentelė'!G7:G179) -> 69.6 | G10: =SUMIF('4 programa 3 lentelė'!$C7:$C179,'4 programa 3 lentelė'!$C18,'4 programa 3 lentelė'!H7:H179) -> 69.6
B11: 1.4. | C11: Europos Sąjungos ir kitos tarptautinės finansinės paramos lėšos | D11: =SUMIF('4 programa 3 lentelė'!$C7:$C179,'4 programa 3 lentelė'!$C40,'4 programa 3 lentelė'!E7:E179) -> 142.8 | E11: =SUMIF('4 programa 3 lentelė'!$C7:$C179,'4 programa 3 lentelė'!$C40,'4 programa 3 lentelė'!F7:F179) -> 699.3 | F11: =SUMIF('4 programa 3 lentelė'!$C7:$C179,'4 programa 3 lentelė'!$C40,'4 programa 3 lentelė'!G7:G179) -> 43 | G11: =SUMIF('4 programa 3 lentelė'!$C7:$C179,'4 programa 3 lentelė'!$C40,'4 programa 3 lentelė'!H7:H179) -> 41.4
B12: 1.5. | C12: skolintos lėšos | D12: =SUMIF('4 programa 3 lentelė'!$C7:$C180,'4 programa 3 lentelė'!$C131,'4 programa 3 lentelė'!E7:E180) -> 0 | E12: =SUMIF('4 programa 3 lentelė'!$C7:$C180,'4 programa 3 lentelė'!$C131,'4 programa 3 lentelė'!F7:F180) -> 0 | F12: =SUMIF('4 programa 3 lentelė'!$C7:$C180,'4 programa 3 lentelė'!$C131,'4 programa 3 lentelė'!G7:G180) -> 1461 | G12: =SUMIF('4 programa 3 lentelė'!$C7:$C180,'4 programa 3 lentelė'!$C131,'4 programa 3 lentelė'!H7:H180) -> 0
B13: 1.6. | C13: ankstesnių metų likučiai | D13: =SUMIF('4 programa 3 lentelė'!$C7:$C179,'4 programa 3 lentelė'!$C19,'4 programa 3 lentelė'!E7:E179) -> 103 | E13: =SUMIF('4 programa 3 lentelė'!$C7:$C179,'4 programa 3 lentelė'!$C19,'4 programa 3 lentelė'!F7:F179) -> 73.2 | F13: =SUMIF('4 programa 3 lentelė'!$C7:$C179,'4 programa 3 lentelė'!$C19,'4 programa 3 lentelė'!G7:G179) -> 0 | G13: =SUMIF('4 programa 3 lentelė'!$C7:$C179,'4 programa 3 lentelė'!$C19,'4 programa 3 lentelė'!H7:H179) -> 0
B14: 2. | C14: Kiti šaltiniai (Europos Sąjungos finansinė parama projektams įgyvendinti ir kitos teisėtai gautos lėšos, nurodant atskirus šaltinius) | D14: =SUM(D16:D21) -> 880.2 | E14: =SUM(E16:E21) -> 5683.7 | F14: =SUM(F16:F21) -> 9605 | G14: =SUM(G16:G21) -> 7820
C15: Iš jo:
B16: 2.1. | C16: Europos Sąjungos paramos lėšos | D16: =SUMIF('4 programa 3 lentelė'!$C7:$C179,'4 programa 3 lentelė'!$C44,'4 programa 3 lentelė'!E7:E179) -> 10.6 | E16: =SUMIF('4 programa 3 lentelė'!$C7:$C179,'4 programa 3 lentelė'!$C44,'4 programa 3 lentelė'!F7:F179) -> 4590.8 | F16: =SUMIF('4 programa 3 lentelė'!$C7:$C179,'4 programa 3 lentelė'!$C44,'4 programa 3 lentelė'!G7:G179) -> 8719.5 | G16: =SUMIF('4 programa 3 lentelė'!$C7:$C179,'4 programa 3 lentelė'!$C44,'4 programa 3 lentelė'!H7:H179) -> 6905.1
B17: 2.2. | C17: Privalomojo sveikatos draudimo fondo lėšos | D17: =SUMIF('4 programa 3 lentelė'!$C7:$C179,'4 programa 3 lentelė'!$C64,'4 programa 3 lentelė'!E7:E179) -> 868.5 | E17: =SUMIF('4 programa 3 lentelė'!$C7:$C179,'4 programa 3 lentelė'!$C64,'4 programa 3 lentelė'!F7:F179) -> 1091.8 | F17: =SUMIF('4 programa 3 lentelė'!$C7:$C179,'4 programa 3 lentelė'!$C64,'4 programa 3 lentelė'!G7:G179) -> 885.5 | G17: =SUMIF('4 programa 3 lentelė'!$C7:$C179,'4 programa 3 lentelė'!$C64,'4 programa 3 lentelė'!H7:H179) -> 914.9
B18: 2.3. | C18: Klaipėdos valstybinio jūrų uosto direkcijos lėšos (KVJUD) | D18: {=SUMIF('4 programa 3 lentelė'!$C7:$C179,C00,'4 programa 3 lentelė'!E7:E179)} -> 0 | E18: {=SUMIF('4 programa 3 lentelė'!$C7:$C179,C00,'4 programa 3 lentelė'!F7:F179)} -> 0 | F18: {=SUMIF('4 programa 3 lentelė'!$C7:$C179,C00,'4 programa 3 lentelė'!G7:G179)} -> 0 | G18: {=SUMIF('4 programa 3 lentelė'!$C7:$C179,C00,'4 programa 3 lentelė'!H7:H179)} -> 0
B19: 2.4. | C19: Valstybės biudžeto lėšos (LRVB) | D19: {=SUMIF('4 programa 3 lentelė'!$C7:$C179,C00,'4 programa 3 lentelė'!E7:E179)} -> 0 | E19: {=SUMIF('4 programa 3 lentelė'!$C7:$C179,C00,'4 programa 3 lentelė'!F7:F179)} -> 0 | F19: {=SUMIF('4 programa 3 lentelė'!$C7:$C179,C00,'4 programa 3 lentelė'!G7:G179)} -> 0 | G19: {=SUMIF('4 programa 3 lentelė'!$C7:$C179,C00,'4 programa 3 lentelė'!H7:H179)} -> 0
B20: 2.5. | C20: Kiti finansavimo šaltiniai | D20: =SUMIF('4 programa 3 lentelė'!$C7:$C177,'4 programa 3 lentelė'!$C177,'4 programa 3 lentelė'!E7:E177) -> 1.1 | E20: =SUMIF('4 programa 3 lentelė'!$C7:$C177,'4 programa 3 lentelė'!$C177,'4 programa 3 lentelė'!F7:F177) -> 1.1 | F20: =SUMIF('4 programa 3 lentelė'!$C7:$C177,'4 programa 3 lentelė'!$C177,'4 programa 3 lentelė'!G7:G177) -> 0 | G20: =SUMIF('4 programa 3 lentelė'!$C7:$C177,'4 programa 3 lentelė'!$C177,'4 programa 3 lentelė'!H7:H177) -> 0
B21: 2.6. | C21: Kelių priežiūros ir plėtros programos lėšos (KPP) | D21: {=SUMIF('4 programa 3 lentelė'!$C7:$C179,C00,'4 programa 3 lentelė'!E7:E179)} -> 0 | E21: {=SUMIF('4 programa 3 lentelė'!$C7:$C179,C00,'4 programa 3 lentelė'!F7:F179)} -> 0 | F21: {=SUMIF('4 programa 3 lentelė'!$C7:$C179,C00,'4 programa 3 lentelė'!G7:G179)} -> 0 | G21: {=SUMIF('4 programa 3 lentelė'!$C7:$C179,C00,'4 programa 3 lentelė'!H7:H179)} -> 0
C22: IŠ VISO programai finansuoti pagal finansavimo šaltinius (1 ir 2 punktai) | D22: =D6+D14 -> 7224.9 | E22: =E6+E14 -> 14957.3 | F22: =F6+F14 -> 17462.3 | G22: =G6+G14 -> 14726.1
C23: Iš jų: regioninių pažangos priemonių lėšos | D23: ='4 programa 3 lentelė'!E30+'4 programa 3 lentelė'!E33+'4 programa 3 lentelė'!E130 -> 121.9 | E23: ='4 programa 3 lentelė'!F30+'4 programa 3 lentelė'!F33+'4 programa 3 lentelė'!F130 -> 476.7 | F23: ='4 programa 3 lentelė'!G30+'4 programa 3 lentelė'!G33+'4 programa 3 lentelė'!G130 -> 807.1 | G23: ='4 programa 3 lentelė'!H30+'4 programa 3 lentelė'!H33+'4 programa 3 lentelė'!H130 -> 1958.7
C24: Asignavimų ir kitų lėšų pokytis, palyginti su ankstesnių metų patvirtintų asignavimų ir kitų lėšų planu | E24: =E22-D22 -> 7732.4 | F24: =F22-E22 -> 2505 | G24: =G22-F22 -> -2736.2
