Workbook

Sheet 003
H1: Aiškinamojo rašto
H2: 1 priedas
B4: 3 lentelė. Klaipėdos miesto savivaldybės 2024–2027 metų 003 Savivaldybės valdymo programos uždaviniai, priemonės, asignavimai ir kitos lėšos (tūkst. eurų)
B5: Programos uždavinio, priemonės kodas ir požymis | C5: Uždavinio, priemonės pavadinimas, finansavimo šaltiniai | D5: Vykdytojas (padalinys / asmuo) | E5: 2024 metų asignavimai ir kitos lėšos | F5: 2025 metų asignavimai ir kitos lėšos | G5: 2026 metų asignavimai ir kitos lėšos | H5: 2027 metų asignavimai ir kitos lėšos | I5: Savivaldybės strateginio plėtros plano priemonės kodas
B6: 1 | C6: 2 | D6: 3 | E6: 4 | F6: 5 | G6: 6 | H6: 7 | I6: 8
B7: 003-01 (T) | C7: Uždavinys: Organizuoti savivaldybės veiklos bendrųjų funkcijų vykdymą
B8: 003-01-01 (TP) | C8: Priemonė: Savivaldybės administracijos veiklos užtikrinimas
B9: 003-01-01-01 | C9: Savivaldybės tarybos ir administracijos veiklos užtikrinimas (darbo užmokestis) | D9: Savivaldybės administracijos direktorius – programos sąmatų tvirtinimas
C10: Savivaldybės biudžeto lėšos (nuosavos, be ankstesnių metų likučio) | E10: 16591.4 | F10: =16683.8-F12 -> 16638 | G10: 17565.7 | H10: 17565.7
C11: Lietuvos Respublikos valstybės biudžeto dotacijos | E11: =1192.4+2.3 -> 1194.7 | F11: 1237.3 | G11: 1237.3 | H11: 1237.3
C12: Ankstesnių metų likučiai | E12: 92.4 | F12: =100.8-55 -> 45.8
C13: Kiti šaltiniai (Europos Sąjungos paramos lėšos) | F13: 28.7 | G13: 28.7 | H13: 28.7
B14: 003-01-01-02 | C14: Savivaldybės tarybos ir administracijos veiklos užtikrinimas (pastatų eksploatacija, prekių ir paslaugų įsigijimas, korespondencijos siuntimas paštu, spaudinių prenumerata ir kt.) | D14: AD Bendrasis skyrius
C15: Savivaldybės biudžeto lėšos (nuosavos, be ankstesnių metų likučio) | E15: 1473.2 | F15: =2142.4-F16+7-F17 -> 1982.4 | G15: =1800.3-G16+7 -> 1657.3 | H15: =1813.4-H16+7 -> 1670.4
C16: Pajamų įmokos ir kitos pajamos | E16: 150 | F16: 150 | G16: 150 | H16: 150
C17: Ankstesnių metų likučiai | E17: 30.1 | F17: 17
C18: Viešosios tvarkos funkcijos užtikrinimas (pastatų eksploatacija, prekių ir paslaugų įsigijimas, korespondencijos siuntimas paštu ir kt.) | D18: AD Administracinės veiklos, kontrolės ir prevencijos skyrius
C19: Savivaldybės biudžeto lėšos (nuosavos, be ankstesnių metų likučio) | E19: 54.2
B20: 003-01-01-03 | C20: Ekstremaliųjų situacijų ir (arba) įvykių prevencija | D20: AD Civilinės saugos ir mobilizacijos skyrius
C21: Savivaldybės biudžeto lėšos (nuosavos, be ankstesnių metų likučio) | E21: 6.9 | F21: 46.2 | G21: 11.3 | H21: 11.3
C22: Ankstesnių metų likučiai | E22: 57.6
B23: 003-01-01-04 | C23: Žmogiškųjų išteklių valdymo tobulinimas ir motyvacinių priemonių įgyvendinimas | D23: Teisės ir personalo skyrius Strateginio planavimo skyrius | I23: 2.6.1.4.
C24: Savivaldybės biudžeto lėšos (nuosavos, be ankstesnių metų likučio) | E24: 164.6 | F24: =322.3+50 -> 372.3 | G24: =322.3+50 -> 372.3 | H24: =322.3+50 -> 372.3
B25: 003-01-01-05 | C25: Viešųjų ryšių plėtojimas (gyventojų apklausos, nuomonių tyrimai, informacijos sklaida žiniasklaidos priemonėse, socialiniuose tinkluose savivaldybės skelbimų publikavimas | D25: Komunikacijos skyrius | I25: 2.6.3.1.
C26: Savivaldybės biudžeto lėšos (nuosavos, be ankstesnių metų likučio) | E26: 358.3 | F26: 350.7 | G26: 345 | H26: 345.2
B27: 003-01-01-06 | C27: Atstovavimo teismuose ir teismų sprendimų vykdymo organizavimas bei teismo išlaidų apmokėjimas | D27: Teisės ir personalo skyrius
C28: Savivaldybės biudžeto lėšos (nuosavos, be ankstesnių metų likučio) | E28: 132.7 | F28: 200 | G28: 200 | H28: 200
C29: Ankstesnių metų likučiai | E29: 100
B30: 003-01-01-07 | C30: Daugiabučių gyvenamųjų namų žemės nuomos mokesčio paskirstymo ir administravimo paslaugos pirkimas | D30: Finansų skyrius
C31: Savivaldybės biudžeto lėšos (nuosavos, be ankstesnių metų likučio) | E31: 32.5 | F31: 32.4 | G31: 32.4 | H31: 32.4
B32: 003-01-01-08 | C32: Seniūnaičių mokymai ir išmokų seniūnaičiams mokėjimas | D32: KSTD Sporto, jaunimo ir bendruomenių reikalų skyrius | I32: 2.6.4.2.
C33: Savivaldybės biudžeto lėšos (nuosavos, be ankstesnių metų likučio) | E33: 33.1 | F33: 34.1 | G33: 34.1 | H33: 34
B34: 003-01-01-09 | C34: Civilinės atsakomybės draudimo įsigijimas | D34: Teisės ir personalo skyrius
C35: Savivaldybės biudžeto lėšos (nuosavos, be ankstesnių metų likučio) | E35: 15 | F35: 15 | G35: 15 | H35: 15
B36: 003-01-01-10 | C36: Duomenų apsaugos pareigūno paslaugų centralizuotas teikimas savivaldybės biudžetinėms įstaigoms | D36: Duomenų apsaugos pareigūnas
C37: Savivaldybės biudžeto lėšos (nuosavos, be ankstesnių metų likučio) | E37: 37.2 | F37: 42 | G37: 44.6 | H37: 44.6
C38: Dalyvavimas organizuojant rinkimus | D38: AD Bendrasis skyrius
C39: Savivaldybės biudžeto lėšos (nuosavos, be ankstesnių metų likučio) | E39: 103.5
C40: Dalyvavimas projekte „Išmanusis miestas 10“ | D40: UAD Urbanistikos skyrius
C41: Savivaldybės biudžeto lėšos (nuosavos, be ankstesnių metų likučio) | E41: 3
...

Sheet Lėšų suvestinė 2 lentelė
B1: 2 lentelė. 2024–2027 metų asignavimų ir kitų lėšų pasiskirstymas (tūkst. Eur)
B3: Eil. Nr. | C3: Programos kodas ir pavadinimas | D3: 2024 m. asignavimai ir kitos lėšos | E3: 2025 m. asignavimai ir kitos lėšos | F3: 2026 m. asignavimai ir kitos lėšos | G3: 2027 m. asignavimai ir kitos lėšos
B4: 1 | C4: 2 | D4: 3 | E4: 4 | F4: 5 | G4: 6
B5: 003 Valdymo programa
B6: 1. | C6: Savivaldybės biudžetas (įskaitant skolintas lėšas) | D6: =+D8+D9+D10+D11+D12+D13 -> 28892.4 | E6: =+E8+E9+E10+E11+E12+E13 -> 29725.7 | F6: =+F8+F9+F10+F11+F12+F13 -> 28665.9 | G6: =+G8+G9+G10+G11+G12+G13 -> 28795.8
C7: Iš jo:
B8: 1.1. | C8: savivaldybės biudžeto lėšos (nuosavos, be ankstesnių metų likučio) | D8: =SUMIF('003'!$C7:$C126,'003'!$C10,'003'!E7:E126) -> 25756.5 | E8: =SUMIF('003'!$C7:$C126,'003'!$C10,'003'!F7:F126) -> 28250.7 | F8: =SUMIF('003'!$C7:$C126,'003'!$C10,'003'!G7:G126) -> 27271.7 | G8: =SUMIF('003'!$C7:$C126,'003'!$C10,'003'!H7:H126) -> 27401.6
B9: 1.2. | C9: Lietuvos Respublikos valstybės biudžeto dotacijos | D9: =SUMIF('003'!$C7:$C126,'003'!$C11,'003'!E7:E126) -> 1201.6 | E9: =SUMIF('003'!$C7:$C126,'003'!$C11,'003'!F7:F126) -> 1244.2 | F9: =SUMIF('003'!$C7:$C126,'003'!$C11,'003'!G7:G126) -> 1244.2 | G9: =SUMIF('003'!$C7:$C126,'003'!$C11,'003'!H7:H126) -> 1244.2
B10: 1.3. | C10: pajamų įmokos ir kitos pajamos | D10: =SUMIF('003'!$C7:$C126,'003'!$C16,'003'!E7:E126) -> 150 | E10: =SUMIF('003'!$C7:$C126,'003'!$C16,'003'!F7:F126) -> 150 | F10: =SUMIF('003'!$C7:$C126,'003'!$C16,'003'!G7:G126) -> 150 | G10: =SUMIF('003'!$C7:$C126,'003'!$C16,'003'!H7:H126) -> 150
B11: 1.4. | C11: Europos Sąjungos ir kitos tarptautinės finansinės paramos lėšos | D11: {=SUMIF('003'!$C7:$C126,'003'!C00,'003'!E7:E126)} -> 0 | E11: {=SUMIF('003'!$C7:$C126,'003'!C00,'003'!F7:F126)} -> 0 | F11: {=SUMIF('003'!$C7:$C126,'003'!C00,'003'!G7:G126)} -> 0 | G11: {=SUMIF('003'!$C7:$C126,'003'!C00,'003'!H7:H126)} -> 0
B12: 1.5. | C12: skolintos lėšos | D12: {=SUMIF('003'!$C8:$C127,'003'!C00,'003'!E8:E127)} -> 0 | E12: {=SUMIF('003'!$C7:$C126,'003'!C00,'003'!F7:F126)} -> 0 | F12: {=SUMIF('003'!$C7:$C126,'003'!C00,'003'!G7:G126)} -> 0 | G12: {=SUMIF('003'!$C7:$C126,'003'!C00,'003'!H7:H126)} -> 0
B13: 1.6. | C13: ankstesnių metų likučiai | D13: =SUMIF('003'!$C9:$C128,'003'!$C22,'003'!E9:E128) -> 1784.3 | E13: =SUMIF('003'!$C9:$C128,'003'!$C22,'003'!F9:F128) -> 80.8 | F13: =SUMIF('003'!$C9:$C128,'003'!$C22,'003'!G9:G128) -> 0 | G13: =SUMIF('003'!$C9:$C128,'003'!$C22,'003'!H9:H128) -> 0
B14: 2. | C14: Kiti šaltiniai (Europos Sąjungos finansinė parama projektams įgyvendinti ir kitos teisėtai gautos lėšos, nurodant atskirus šaltinius) | D14: =+D16+D17+D18+D19+D20+D21 -> 0 | E14: =+E16+E17+E18+E19+E20+E21 -> 28.7 | F14: =+F16+F17+F18+F19+F20+F21 -> 28.7 | G14: =+G16+G17+G18+G19+G20+G21 -> 28.7
C15: Iš jo:
B16: 2.1. | C16: Europos Sąjungos paramos lėšos | D16: =SUMIF('003'!$C7:$C126,'003'!C77,'003'!E7:E126) -> 0 | E16: =SUMIF('003'!$C7:$C126,'003'!C77,'003'!F7:F126) -> 28.7 | F16: =SUMIF('003'!$C7:$C126,'003'!C77,'003'!G7:G126) -> 28.7 | G16: =SUMIF('003'!$C7:$C126,'003'!C77,'003'!H7:H126) -> 28.7
B17: 2.2. | C17: Privalomojo sveikatos draudimo fondo lėšos | D17: {=SUMIF('003'!$C7:$C126,'003'!C00,'003'!E7:E126)} -> 0 | E17: {=SUMIF('003'!$C7:$C126,'003'!C00,'003'!F7:F126)} -> 0 | F17: {=SUMIF('003'!$C7:$C126,'003'!C00,'003'!G7:G126)} -> 0 | G17: {=SUMIF('003'!$C7:$C126,'003'!C00,'003'!H7:H126)} -> 0
B18: 2.3. | C18: Klaipėdos valstybinio jūrų uosto direkcijos lėšos (KVJUD) | D18: {=SUMIF('003'!$C7:$C126,'003'!C00,'003'!E7:E126)} -> 0 | E18: {=SUMIF('003'!$C7:$C126,'003'!C00,'003'!F7:F126)} -> 0 | F18: {=SUMIF('003'!$C7:$C126,'003'!C00,'003'!G7:G126)} -> 0 | G18: {=SUMIF('003'!$C7:$C126,'003'!C00,'003'!H7:H126)} -> 0
B19: 2.4. | C19: Valstybės biudžeto lėšos (LRVB) | D19: {=SUMIF('003'!$C7:$C126,'003'!C00,'003'!E7:E126)} -> 0 | E19: {=SUMIF('003'!$C7:$C126,'003'!C00,'003'!F7:F126)} -> 0 | F19: {=SUMIF('003'!$C7:$C126,'003'!C00,'003'!G7:G126)} -> 0 | G19: {=SUMIF('003'!$C7:$C126,'003'!C00,'003'!H7:H126)} -> 0
B20: 2.5. | C20: Kiti finansavimo šaltiniai | D20: {=SUMIF('003'!$C7:$C126,'003'!C00,'003'!E7:E126)} -> 0 | E20: {=SUMIF('003'!$C7:$C126,'003'!C00,'003'!F7:F126)} -> 0 | F20: {=SUMIF('003'!$C7:$C126,'003'!C00,'003'!G7:G126)} -> 0 | G20: {=SUMIF('003'!$C7:$C126,'003'!C00,'003'!H7:H126)} -> 0
B21: 2.6. | C21: Kelių priežiūros ir plėtros programos lėšos (KPP) | D21: {=SUMIF('003'!$C7:$C126,'003'!C00,'003'!E7:E126)} -> 0 | E21: =SUMIF('003'!$C7:$C126,'003'!#REF!,'003'!F7:F126) -> 0 | F21: =SUMIF('003'!$C7:$C126,'003'!#REF!,'003'!G7:G126) -> 0 | G21: =SUMIF('003'!$C7:$C126,'003'!#REF!,'003'!H7:H126) -> 0
C22: IŠ VISO programai finansuoti pagal finansavimo šaltinius (1 ir 2 punktai) | D22: =+D6+D14 -> 28892.4 | E22: =+E6+E14 -> 29754.4 | F22: =+F6+F14 -> 28694.6 | G22: =+G6+G14 -> 28824.5
C23: Iš jų: regioninių pažangos priemonių lėšos | D23: =+'003'!E125 -> 0 | E23: =+'003'!F125 -> 0 | F23: =+'003'!G125 -> 0 | G23: =+'003'!H125 -> 0
C24: Asignavimų ir kitų lėšų pokytis, palyginti su ankstesnių metų patvirtintų asignavimų ir kitų lėšų planu | E24: =+'003'!F126 -> 862 | F24: =+'003'!G126 -> -1059.8 | G24: =+'003'!H126 -> 129.9
