Workbook

Sheet 11 programa 3 lentelė
H1: Aiškinamojo rašto
H2: 1 priedas
B4: 3 lentelė. Klaipėdos miesto savivaldybės 2024–2027 metų 011 Kūno kultūros ir sporto plėtros programos uždaviniai, priemonės, asignavimai ir kitos lėšos (tūkst. eurų)
B5: Programos uždavinio, priemonės kodas ir požymis | C5: Uždavinio, priemonės pavadinimas, finansavimo šaltiniai | D5: Vykdytojas (padalinys / asmuo) | E5: 2024 metų asignavimai ir kitos lėšos | F5: 2025 metų asignavimai ir kitos lėšos | G5: 2026 metų asignavimai ir kitos lėšos | H5: 2027 metų asignavimai ir kitos lėšos | I5: Savivaldybės strateginio plėtros plano priemonės kodas
B6: 1 | C6: 2 | D6: 3 | E6: 4 | F6: 5 | G6: 6 | H6: 7 | I6: 8
B7: 011-01 (T) | C7: Uždavinys: Pritraukti didesnį dalyvių skaičių, užtikrinant sporto renginių organizavimo kokybę
B8: 011-01-01 (TP) | C8: Priemonė: Prestižinių, tarptautinių ir nacionalinių sporto renginių pritraukimas ir organizavimas | D8: KSTD Sporto, jaunimo ir bendruomeninių reikalų skyrius | I8: 2.2.3.3.
C9: Savivaldybės biudžetas (įskaitant skolintas lėšas) | E9: =SUM(E11:E11) -> 192 | F9: =SUM(F11:F11) -> 244.5 | G9: =SUM(G11:G11) -> 244.5 | H9: =SUM(H11:H11) -> 244.5
C10: Iš jo:
C11: Savivaldybės biudžeto lėšos (nuosavos, be ankstesnių metų likučio) | E11: =244.5-52.5 -> 192 | F11: 244.5 | G11: 244.5 | H11: 244.5
C12: Priemonė: Miestą reprezentuojančių komandų, miestą garsinančių individualių sporto šakų sportininkų ir trenerių pagerbimas | D12: KSTD Sporto, jaunimo ir bendruomeninių reikalų skyrius | I12: 2.2.3.2.
C13: Savivaldybės biudžetas (įskaitant skolintas lėšas) | E13: =E15 -> 25
C14: Iš jo:
C15: Savivaldybės biudžeto lėšos (nuosavos, be ankstesnių metų likučio) | E15: 25
B16: 011-01-02 (TP) | C16: Priemonė: Neatlygintinai suteiktų sporto bazių paslaugų kompensavimas | D16: KSTD Sporto, jaunimo ir bendruomeninių reikalų skyrius; BĮ Klaipėdos miesto sporto bazių valdymo centras
C17: Savivaldybės biudžetas (įskaitant skolintas lėšas) | E17: =SUM(E19:E19) -> 20 | F17: =SUM(F19:F19) -> 20 | G17: =SUM(G19:G19) -> 20 | H17: =SUM(H19:H19) -> 20
C18: Iš jo:
C19: Savivaldybės biudžeto lėšos (nuosavos, be ankstesnių metų likučio) | E19: 20 | F19: 20 | G19: 20 | H19: 20
B20: 011-01-03 (TP) | C20: Priemonė: Miesto bendruomenei aktualių sporto renginių, švenčių organizavimas | D20: KSTD Sporto, jaunimo ir bendruomeninių reikalų skyrius; BĮ Klaipėdos miesto lengvosios atletikos mokykla | I20: 2.2.2.1.
C21: Savivaldybės biudžetas (įskaitant skolintas lėšas) | E21: =+E23 -> 50 | F21: =+F23 -> 110 | G21: =+G23 -> 110 | H21: =+H23 -> 110
C22: Iš jo:
C23: Savivaldybės biudžeto lėšos (nuosavos, be ankstesnių metų likučio) | E23: 50 | F23: 110 | G23: 110 | H23: 110
B24: 011-01-04 (TP) | C24: Priemonė: Neatlygintinai suteiktų baseino paslaugų kompensavimas | D24: KSTD Sporto, jaunimo ir bendruomeninių reikalų skyrius; BĮ Klaipėdos „Gintaro“ sporto centras
C25: Savivaldybės biudžetas (įskaitant skolintas lėšas) | E25: =+E27 -> 3 | F25: =+F27 -> 3 | G25: =+G27 -> 3 | H25: =+H27 -> 3
C26: Iš jo:
C27: Savivaldybės biudžeto lėšos (nuosavos, be ankstesnių metų likučio) | E27: 3 | F27: 3 | G27: 3 | H27: 3
B28: 011-02 (T) | C28: Uždavinys: Sudaryti sąlygas sportuoti visų amžiaus grupių miestiečiams, įgyvendinant sveikos gyvensenos ir fizinio aktyvumo programas
B29: 011-02-01 (TP) | C29: Priemonė: Sąlygų ugdytis biudžetinėse sporto įstaigose sudarymas
B30: 011-02-01-01 | C30: BĮ Klaipėdos „Viesulo“ sporto centre | D30: KSTD Sporto, jaunimo ir bendruomeninių reikalų skyrius; biudžetinės sporto įstaigos
C31: Savivaldybės biudžeto lėšos (nuosavos, be ankstesnių metų likučio) | E31: =3281.4+58.1 -> 3339.5 | F31: 3503.1 | G31: =3503.1-77.4 -> 3425.7 | H31: =3503.1-81.9 -> 3421.2
C32: Pajamų įmokos ir kitos pajamos | E32: 70 | F32: 78.5 | G32: 78.5 | H32: 78.5
C33: Ankstesnių metų likučiai | E33: 8.6
B34: 011-02-01-02 | C34: BĮ Klaipėdos „Gintaro“ sporto centre
C35: Savivaldybės biudžeto lėšos (nuosavos, be ankstesnių metų likučio) | E35: =1295.4+37.6+24.9 -> 1357.9 | F35: 1446.1 | G35: =1446.1-57.9 -> 1388.2 | H35: =1446.1-57.2 -> 1388.9
C36: Pajamų įmokos ir kitos pajamos | E36: 74.6 | F36: 75.9 | G36: 75.9 | H36: 75.9
C37: Ankstesnių metų likučiai | E37: 35.2
B38: 011-02-01-03 | C38: BĮ Klaipėdos Vlado Knašiaus krepšinio mokykloje
C39: Savivaldybės biudžeto lėšos (nuosavos, be ankstesnių metų likučio) | E39: =1059.8+30.8+24.7 -> 1115.3 | F39: 1177.4 | G39: =1177.4-5.9 -> 1171.5 | H39: =1177.4-5.9 -> 1171.5
C40: Pajamų įmokos ir kitos pajamos | E40: 53 | F40: 55.5 | G40: 55.5 | H40: 55.5
C41: Ankstesnių metų likučiai | E41: 7.6
...

Sheet Lėšų suvestinė 2 lentelė
B1: 2 lentelė. 2024–2027 metų asignavimų ir kitų lėšų pasiskirstymas (tūkst. Eur)
B3: Eil. Nr. | C3: Programos kodas ir pavadinimas | D3: 2024 m. asignavimai ir kitos lėšos | E3: 2025 metų asignavimai ir kitos lėšos | F3: 2026 metų asignavimai ir kitos lėšos | G3: 2027 metų asignavimai ir kitos lėšos
B4: 1 | C4: 2 | D4: 3 | E4: 4 | F4: 5 | G4: 6
B5: 011 Kūno kultūros ir sporto plėtros programa
B6: 1. | C6: Savivaldybės biudžetas (įskaitant skolintas lėšas) | D6: =SUM(D8:D13) -> 16981 | E6: =SUM(E8:E13) -> 19913.9 | F6: =SUM(F8:F13) -> 30445.7 | G6: =SUM(G8:G13) -> 31018.8
C7: Iš jo:
B8: 1.1. | C8: savivaldybės biudžeto lėšos (nuosavos, be ankstesnių metų likučio) | D8: =SUMIF('11 programa 3 lentelė'!$C7:$C165,'11 programa 3 lentelė'!$C31,'11 programa 3 lentelė'!E7:E165) -> 16252.1 | E8: =SUMIF('11 programa 3 lentelė'!$C7:$C165,'11 programa 3 lentelė'!$C31,'11 programa 3 lentelė'!F7:F165) -> 19362.7 | F8: =SUMIF('11 programa 3 lentelė'!$C7:$C165,'11 programa 3 lentelė'!$C31,'11 programa 3 lentelė'!G7:G165) -> 29961.3 | G8: =SUMIF('11 programa 3 lentelė'!$C7:$C165,'11 programa 3 lentelė'!$C31,'11 programa 3 lentelė'!H7:H165) -> 30534.4
B9: 1.2. | C9: Lietuvos Respublikos valstybės biudžeto dotacijos | D9: {=SUMIF('11 programa 3 lentelė'!$C7:$C165,'11 programa 3 lentelė'!C00,'11 programa 3 lentelė'!E7:E165)} -> 0 | E9: {=SUMIF('11 programa 3 lentelė'!$C7:$C165,'11 programa 3 lentelė'!C00,'11 programa 3 lentelė'!F7:F165)} -> 0 | F9: {=SUMIF('11 programa 3 lentelė'!$C7:$C165,'11 programa 3 lentelė'!C00,'11 programa 3 lentelė'!G7:G165)} -> 0 | G9: {=SUMIF('11 programa 3 lentelė'!$C7:$C165,'11 programa 3 lentelė'!C00,'11 programa 3 lentelė'!H7:H165)} -> 0
B10: 1.3. | C10: pajamų įmokos ir kitos pajamos | D10: =SUMIF('11 programa 3 lentelė'!$C7:$C165,'11 programa 3 lentelė'!$C36,'11 programa 3 lentelė'!E7:E165) -> 443.4 | E10: =SUMIF('11 programa 3 lentelė'!$C7:$C165,'11 programa 3 lentelė'!$C36,'11 programa 3 lentelė'!F7:F165) -> 484.4 | F10: =SUMIF('11 programa 3 lentelė'!$C7:$C165,'11 programa 3 lentelė'!$C36,'11 programa 3 lentelė'!G7:G165) -> 484.4 | G10: =SUMIF('11 programa 3 lentelė'!$C7:$C165,'11 programa 3 lentelė'!$C36,'11 programa 3 lentelė'!H7:H165) -> 484.4
B11: 1.4. | C11: Europos Sąjungos ir kitos tarptautinės finansinės paramos lėšos | D11: {=SUMIF('11 programa 3 lentelė'!$C7:$C165,'11 programa 3 lentelė'!C00,'11 programa 3 lentelė'!E7:E165)} -> 0 | E11: {=SUMIF('11 programa 3 lentelė'!$C7:$C165,'11 programa 3 lentelė'!C00,'11 programa 3 lentelė'!F7:F165)} -> 0 | F11: {=SUMIF('11 programa 3 lentelė'!$C7:$C165,'11 programa 3 lentelė'!C00,'11 programa 3 lentelė'!G7:G165)} -> 0 | G11: {=SUMIF('11 programa 3 lentelė'!$C7:$C165,'11 programa 3 lentelė'!C00,'11 programa 3 lentelė'!H7:H165)} -> 0
B12: 1.5. | C12: skolintos lėšos | D12: {=SUMIF('11 programa 3 lentelė'!C7:C166,C00,'11 programa 3 lentelė'!E7:E166)} -> 0 | E12: {=SUMIF('11 programa 3 lentelė'!D7:D166,C00,'11 programa 3 lentelė'!F7:F166)} -> 0 | F12: {=SUMIF('11 programa 3 lentelė'!E7:E166,C00,'11 programa 3 lentelė'!G7:G166)} -> 0 | G12: {=SUMIF('11 programa 3 lentelė'!F7:F166,C00,'11 programa 3 lentelė'!H7:H166)} -> 0
B13: 1.6. | C13: ankstesnių metų likučiai | D13: =SUMIF('11 programa 3 lentelė'!$C7:$C165,'11 programa 3 lentelė'!$C33,'11 programa 3 lentelė'!E7:E165) -> 285.5 | E13: =SUMIF('11 programa 3 lentelė'!$C7:$C165,'11 programa 3 lentelė'!$C33,'11 programa 3 lentelė'!F7:F165) -> 66.8 | F13: =SUMIF('11 programa 3 lentelė'!$C7:$C165,'11 programa 3 lentelė'!$C33,'11 programa 3 lentelė'!G7:G165) -> 0 | G13: =SUMIF('11 programa 3 lentelė'!$C7:$C165,'11 programa 3 lentelė'!$C33,'11 programa 3 lentelė'!H7:H165) -> 0
B14: 2. | C14: Kiti šaltiniai (Europos Sąjungos finansinė parama projektams įgyvendinti ir kitos teisėtai gautos lėšos, nurodant atskirus šaltinius) | D14: =SUM(D16:D21) -> 0 | E14: =SUM(E16:E21) -> 0 | F14: =SUM(F16:F21) -> 0 | G14: =SUM(G16:G21) -> 0
C15: Iš jo:
B16: 2.1. | C16: Europos Sąjungos paramos lėšos | D16: {=SUMIF('11 programa 3 lentelė'!$C7:$C165,'11 programa 3 lentelė'!C00,'11 programa 3 lentelė'!E7:E165)} -> 0 | E16: {=SUMIF('11 programa 3 lentelė'!$C7:$C165,'11 programa 3 lentelė'!C00,'11 programa 3 lentelė'!F7:F165)} -> 0 | F16: {=SUMIF('11 programa 3 lentelė'!$C7:$C165,'11 programa 3 lentelė'!C00,'11 programa 3 lentelė'!G7:G165)} -> 0 | G16: {=SUMIF('11 programa 3 lentelė'!$C7:$C165,'11 programa 3 lentelė'!C00,'11 programa 3 lentelė'!H7:H165)} -> 0
B17: 2.2. | C17: Privalomojo sveikatos draudimo fondo lėšos | D17: {=SUMIF('11 programa 3 lentelė'!$C7:$C165,'11 programa 3 lentelė'!C00,'11 programa 3 lentelė'!E7:E165)} -> 0 | E17: {=SUMIF('11 programa 3 lentelė'!$C7:$C165,'11 programa 3 lentelė'!C00,'11 programa 3 lentelė'!F7:F165)} -> 0 | F17: {=SUMIF('11 programa 3 lentelė'!$C7:$C165,'11 programa 3 lentelė'!C00,'11 programa 3 lentelė'!G7:G165)} -> 0 | G17: {=SUMIF('11 programa 3 lentelė'!$C7:$C165,'11 programa 3 lentelė'!C00,'11 programa 3 lentelė'!H7:H165)} -> 0
B18: 2.3. | C18: Klaipėdos valstybinio jūrų uosto direkcijos lėšos (KVJUD) | D18: {=SUMIF('11 programa 3 lentelė'!$C7:$C165,'11 programa 3 lentelė'!C00,'11 programa 3 lentelė'!E7:E165)} -> 0 | E18: {=SUMIF('11 programa 3 lentelė'!$C7:$C165,'11 programa 3 lentelė'!C00,'11 programa 3 lentelė'!F7:F165)} -> 0 | F18: {=SUMIF('11 programa 3 lentelė'!$C7:$C165,'11 programa 3 lentelė'!C00,'11 programa 3 lentelė'!G7:G165)} -> 0 | G18: {=SUMIF('11 programa 3 lentelė'!$C7:$C165,'11 programa 3 lentelė'!C00,'11 programa 3 lentelė'!H7:H165)} -> 0
B19: 2.4. | C19: Valstybės biudžeto lėšos (LRVB) | D19: {=SUMIF('11 programa 3 lentelė'!$C7:$C165,'11 programa 3 lentelė'!C00,'11 programa 3 lentelė'!E7:E165)} -> 0 | E19: {=SUMIF('11 programa 3 lentelė'!$C7:$C165,'11 programa 3 lentelė'!C00,'11 programa 3 lentelė'!F7:F165)} -> 0 | F19: {=SUMIF('11 programa 3 lentelė'!$C7:$C165,'11 programa 3 lentelė'!C00,'11 programa 3 lentelė'!G7:G165)} -> 0 | G19: {=SUMIF('11 programa 3 lentelė'!$C7:$C165,'11 programa 3 lentelė'!C00,'11 programa 3 lentelė'!H7:H165)} -> 0
B20: 2.5. | C20: Kiti finansavimo šaltiniai | D20: {=SUMIF('11 programa 3 lentelė'!$C7:$C165,'11 programa 3 lentelė'!C00,'11 programa 3 lentelė'!E7:E165)} -> 0 | E20: {=SUMIF('11 programa 3 lentelė'!$C7:$C165,'11 programa 3 lentelė'!C00,'11 programa 3 lentelė'!F7:F165)} -> 0 | F20: {=SUMIF('11 programa 3 lentelė'!$C7:$C165,'11 programa 3 lentelė'!C00,'11 programa 3 lentelė'!G7:G165)} -> 0 | G20: {=SUMIF('11 programa 3 lentelė'!$C7:$C165,'11 programa 3 lentelė'!C00,'11 programa 3 lentelė'!H7:H165)} -> 0
B21: 2.6. | C21: Kelių priežiūros ir plėtros programos lėšos (KPP) | D21: {=SUMIF('11 programa 3 lentelė'!$C7:$C165,'11 programa 3 lentelė'!C00,'11 programa 3 lentelė'!E7:E165)} -> 0 | E21: {=SUMIF('11 programa 3 lentelė'!$C7:$C165,'11 programa 3 lentelė'!C00,'11 programa 3 lentelė'!F7:F165)} -> 0 | F21: {=SUMIF('11 programa 3 lentelė'!$C7:$C165,'11 programa 3 lentelė'!C00,'11 programa 3 lentelė'!G7:G165)} -> 0 | G21: {=SUMIF('11 programa 3 lentelė'!$C7:$C165,'11 programa 3 lentelė'!C00,'11 programa 3 lentelė'!H7:H165)} -> 0
C22: IŠ VISO programai finansuoti pagal finansavimo šaltinius (1 ir 2 punktai) | D22: =D6+D14 -> 16981 | E22: =E6+E14 -> 19913.9 | F22: =F6+F14 -> 30445.7 | G22: =G6+G14 -> 31018.8
C23: Iš jų: regioninių pažangos priemonių lėšos | D23: 0 | E23: 0 | F23: 0 | G23: 0
C24: Asignavimų ir kitų lėšų pokytis, palyginti su ankstesnių metų patvirtintų asignavimų ir kitų lėšų planu | E24: =E22-D22 -> 2932.9 | F24: =F22-E22 -> 10531.8 | G24: =G22-F22 -> 573.1
