Workbook

Sheet 11 programa 3 lentelė
H1: Aiškinamojo rašto
H2: 1 priedas
B4: 3 lentelė. Klaipėdos miesto savivaldybės 2024–2027 metų 011 Kūno kultūros ir sporto plėtros programos uždaviniai, priemonės, asignavimai ir kitos lėšos (tūkst. eurų)
B5: Programos uždavinio, priemonės kodas ir požymis | C5: Uždavinio, priemonės pavadinimas, finansavimo šaltiniai | D5: Vykdytojas (padalinys / asmuo) | E5: 2024 metų asignavimai ir kitos lėšos | F5: 2025 metų asignavimai ir kitos lėšos | G5: 2026 metų asignavimai ir kitos lėšos | H5: 2027 metų asignavimai ir kitos lėšos | I5: Savivaldybės strateginio plėtros plano priemonės kodas
B6: 1 | C6: 2 | D6: 3 | E6: 4 | F6: 5 | G6: 6 | H6: 7 | I6: 8
B7: 011-01 (T) | C7: Uždavinys: Pritraukti didesnį dalyvių skaičių, užtikrinant sporto renginių organizavimo kokybę
B8: 011-01-01 (TP) | C8: Priemonė: Prestižinių, tarptautinių ir nacionalinių sporto renginių pritraukimas ir organizavimas | D8: KSTD Sporto, jaunimo ir bendruomeninių reikalų skyrius | I8: 2.2.3.3.
C9: Savivaldybės biudžetas (įskaitant skolintas lėšas) | E9: =SUM(E11:E11) -> 192 | F9: =SUM(F11:F11) -> 244.5 | G9: =SUM(G11:G11) -> 244.5 | H9: =SUM(H11:H11) -> 244.5
C10: Iš jo:
C11: Savivaldybės biudžeto lėšos (nuosavos, be ankstesnių metų likučio) | E11: =244.5-52.5 -> 192 | F11: 244.5 | G11: 244.5 | H11: 244.5
C12: Priemonė: Miestą reprezentuojančių komandų, miestą garsinančių individualių sporto šakų sportininkų ir trenerių pagerbimas | D12: KSTD Sporto, jaunimo ir bendruomeninių reikalų skyrius | I12: 2.2.3.2.
C13: Savivaldybės biudžetas (įskaitant skolintas lėšas) | E13: =E15 -> 25
C14: Iš jo:
C15: Savivaldybės biudžeto lėšos (nuosavos, be ankstesnių metų likučio) | E15: 25
B16: 011-01-02 (TP) | C16: Priemonė: Neatlygintinai suteiktų sporto bazių paslaugų kompensavimas | D16: KSTD Sporto, jaunimo ir bendruomeninių reikalų skyrius; BĮ Klaipėdos miesto sporto bazių valdymo centras
C17: Savivaldybės biudžetas (įskaitant skolintas lėšas) | E17: =SUM(E19:E19) -> 20 | F17: =SUM(F19:F19) -> 20 | G17: =SUM(G19:G19) -> 20 | H17: =SUM(H19:H19) -> 20
C18: Iš jo:
C19: Savivaldybės biudžeto lėšos (nuosavos, be ankstesnių metų likučio) | E19: 20 | F19: 20 | G19: 20 | H19: 20
B20: 011-01-03 (TP) | C20: Priemonė: Miesto bendruomenei aktualių sporto renginių, švenčių organizavimas | D20: KSTD Sporto, jaunimo ir bendruomeninių reikalų skyrius; BĮ Klaipėdos miesto lengvosios atletikos mokykla | I20: 2.2.2.1.
C21: Savivaldybės biudžetas (įskaitant skolintas lėšas) | E21: =+E23 -> 50 | F21: =+F23 -> 110 | G21: =+G23 -> 110 | H21: =+H23 -> 110
C22: Iš jo:
C23: Savivaldybės biudžeto lėšos (nuosavos, be ankstesnių metų likučio) | E23: 50 | F23: 110 | G23: 110 | H23: 110
B24: 011-01-04 (TP) | C24: Priemonė: Neatlygintinai suteiktų baseino paslaugų kompensavimas | D24: KSTD Sporto, jaunimo ir bendruomeninių reikalų skyrius; BĮ Klaipėdos „Gintaro“ sporto centras
C25: Savivaldybės biudžetas (įskaitant skolintas lėšas) | E25: =+E27 -> 3 | F25: =+F27 -> 3 | G25: =+G27 -> 3 | H25: =+H27 -> 3
C26: Iš jo:
C27: Savivaldybės biudžeto lėšos (nuosavos, be ankstesnių metų likučio) | E27: 3 | F27: 3 | G27: 3 | H27: 3
B28: 011-02 (T) | C28: Uždavinys: Sudaryti sąlygas sportuoti visų amžiaus grupių miestiečiams, įgyvendinant sveikos gyvensenos ir fizinio aktyvumo programas
B29: 011-02-01 (TP) | C29: Priemonė: Sąlygų ugdytis biudžetinėse sporto įstaigose sudarymas
B30: 011-02-01-01 | C30: BĮ Klaipėdos „Viesulo“ sporto centre | D30: KSTD Sporto, jaunimo ir bendruomeninių reikalų skyrius; biudžetinės sporto įstaigos
C31: Savivaldybės biudžeto lėšos (nuosavos, be ankstesnių metų likučio) | E31: =3281.4+58.1 -> 3339.5 | F31: 3503.1 | G31: =3503.1-77.4 -> 3425.7 | H31: =3503.1-81.9 -> 3421.2
C32: Pajamų įmokos ir kitos pajamos | E32: 70 | F32: 78.5 | G32: 78.5 | H32: 78.5
C33: Ankstesnių metų likučiai | E33: 8.6
B34: 011-02-01-02 | C34: BĮ Klaipėdos „Gintaro“ sporto centre
C35: Savivaldybės biudžeto lėšos (nuosavos, be ankstesnių metų likučio) | E35: =1295.4+37.6+24.9 -> 1357.9 | F35: 1446.1 | G35: =1446.1-57.9 -> 1388.2 | H35: =1446.1-57.2 -> 1388.9
C36: Pajamų įmokos ir kitos pajamos | E36: 74.6 | F36: 75.9 | G36: 75.9 | H36: 75.9
C37: Ankstesnių metų likučiai | E37: 35.2
B38: 011-02-01-03 | C38: BĮ Klaipėdos Vlado Knašiaus krepšinio mokykloje
C39: Savivaldybės biudžeto lėšos (nuosavos, be ankstesnių metų likučio) | E39: =1059.8+30.8+24.7 -> 1115.3 | F39: 1177.4 | G39: =1177.4-5.9 -> 1171.5 | H39: =1177.4-5.9 -> 1171.5
C40: Pajamų įmokos ir kitos pajamos | E40: 53 | F40: 55.5 | G40: 55.5 | H40: 55.5
C41: Ankstesnių metų likučiai | E41: 7.6
B42: 011-02-01-04 | C42: BĮ Klaipėdos miesto lengvosios atletikos mokykloje
C43: Savivaldybės biudžeto lėšos (nuosavos, be ankstesnių metų likučio) | E43: =1499.5+24.6 -> 1524.1 | F43: 1553.4 | G43: =1553.4-30 -> 1523.4 | H43: =1553.4-30 -> 1523.4
C44: Pajamų įmokos ir kitos pajamos | E44: 59.8 | F44: 68.5 | G44: 68.5 | H44: 68.5
C45: Ankstesnių metų likučiai | E45: 18
B46: 011-02-01-05 | C46: BĮ Klaipėdos miesto sporto bazių valdymo centre
C47: Savivaldybės biudžeto lėšos (nuosavos, be ankstesnių metų likučio) | E47: 1264.2 | F47: 1390.2 | G47: =1390.2-141.8 -> 1248.4 | H47: =1390.2-141.8 -> 1248.4
C48: Pajamų įmokos ir kitos pajamos | E48: 186 | F48: 206 | G48: 206 | H48: 206
C49: Ankstesnių metų likučiai | E49: 78.6
B50: 011-02-01-06 | C50: Sporto bazių paslaugų teikimas sporto renginiams vykdyti
C51: Savivaldybės biudžeto lėšos (nuosavos, be ankstesnių metų likučio) | E51: 147.4 | F51: 148.7 | G51: 148.7 | H51: 148.7
C52: Savivaldybės biudžetas (įskaitant skolintas lėšas) | E52: =SUM(E54:E56) -> 9339.8 | F52: =SUM(F54:F56) -> 9703.3 | G52: =SUM(G54:G56) -> 9390.3 | H52: =SUM(H54:H56) -> 9386.5
C53: Iš jo:
C54: Savivaldybės biudžeto lėšos (nuosavos, be ankstesnių metų likučio)' | E54: =SUMIF($C30:$C51,$C31,E30:E51) -> 8748.4 | F54: =SUMIF($C30:$C51,$C31,F30:F51) -> 9218.9 | G54: =SUMIF($C30:$C51,$C31,G30:G51) -> 8905.9 | H54: =SUMIF($C30:$C51,$C31,H30:H51) -> 8902.1
C55: Pajamų įmokos ir kitos pajamos' | E55: =SUMIF($C30:$C51,$C32,E30:E51) -> 443.4 | F55: =SUMIF($C30:$C51,$C32,F30:F51) -> 484.4 | G55: =SUMIF($C30:$C51,$C32,G30:G51) -> 484.4 | H55: =SUMIF($C30:$C51,$C32,H30:H51) -> 484.4
C56: Ankstesnių metų likučiai' | E56: =SUMIF($C30:$C51,$C33,E30:E51) -> 148 | F56: =SUMIF($C30:$C51,$C33,F30:F51) -> 0
B57: 011-02-02 (TP) | C57: Priemonė: Sportinės veiklos projektų dalinis finansavimas
B58: 011-02-02-01 | C58: Buriavimo, irklavimo, baidarių ir kanojų irklavimo sporto šakų | D58: KSTD Sporto, jaunimo ir bendruomeninių reikalų skyrius | I58: 2.2.1.3. 2.2.3.1.
C59: Savivaldybės biudžeto lėšos (nuosavos, be ankstesnių metų likučio) | E59: 691 | F59: 691 | G59: 691 | H59: 691
B60: 011-02-02-02 | C60: Sportuojančio vaiko ugdymo | I60: 2.2.3.1.
C61: Savivaldybės biudžeto lėšos (nuosavos, be ankstesnių metų likučio) | E61: =904-57.4 -> 846.6 | F61: 1134.7 | G61: 1200 | H61: 1200
B62: 011-02-02-03 | C62: Tradicinių tarptautinių sporto renginių | I62: 2.2.3.3.
C63: Savivaldybės biudžeto lėšos (nuosavos, be ankstesnių metų likučio) | E63: 104.3 | F63: 104.9 | G63: 104.9 | H63: 104.9
B64: 011-02-02-04 | C64: „Sportas visiems“ renginių | I64: 2.2.2.1.
C65: Savivaldybės biudžeto lėšos (nuosavos, be ankstesnių metų likučio) | E65: 50 | F65: 50.4 | G65: 50.4 | H65: 50.4
B66: 011-02-02-05 | C66: Miesto sporto šakų federacijų | I66: 2.2.3.1.
C67: Savivaldybės biudžeto lėšos (nuosavos, be ankstesnių metų likučio) | E67: 133 | F67: 133 | G67: 133 | H67: 133
B68: 011-02-02-06 | C68: Futbolo sporto šakos motyvuojančio (diferencijuoto) krepšelio principu | I68: 2.2.3.1.
C69: Savivaldybės biudžeto lėšos (nuosavos, be ankstesnių metų likučio) | E69: =951.8-21.5 -> 930.3 | F69: 1053.6 | G69: 1053.4 | H69: 1053.4
B70: 011-02-02-07 | C70: Asmenų su negalia fizinio aktyvumo ir sporto | I70: 2.2.3.1.
C71: Savivaldybės biudžeto lėšos (nuosavos, be ankstesnių metų likučio) | E71: =110.2-4.9 -> 105.3 | F71: 115.8 | G71: 115.8 | H71: 115.8
B72: 011-02-02-08 | C72: Miesto jachtų su jaunųjų buriuotojų įgulomis dalyvavimo tarptautinėse regatose | I72: 2.2.1.3.
C73: Savivaldybės biudžeto lėšos (nuosavos, be ankstesnių metų likučio) | E73: =11-1 -> 10 | F73: 11 | G73: 11 | H73: 11
C74: Savivaldybės biudžetas (įskaitant skolintas lėšas) | E74: =SUM(E58:E73) -> 2870.5 | F74: =SUM(F58:F73) -> 3294.4 | G74: =SUM(G58:G73) -> 3359.5 | H74: =SUM(H58:H73) -> 3359.5
C75: Iš jo:
C76: Savivaldybės biudžeto lėšos (nuosavos, be ankstesnių metų likučio)' | E76: =SUMIF($C58:$C73,$C59,E58:E73) -> 2870.5 | F76: =SUMIF($C58:$C73,$C59,F58:F73) -> 3294.4 | G76: =SUMIF($C58:$C73,$C59,G58:G73) -> 3359.5 | H76: =SUMIF($C58:$C73,$C59,H58:H73) -> 3359.5
B77: 011-02-03 (TP) | C77: Priemonė: Paslaugų miesto bendruomenei teikimas Klaipėdos miesto daugiafunkciame sveikatingumo centre | I77: 2.2.3.1.
C78: Savivaldybės biudžeto lėšos (nuosavos, be ankstesnių metų likučio) | D78: KSTD Sporto, jaunimo ir bendruomeninių reikalų skyrius | E78: 140 | F78: 162 | G78: 162 | H78: 162
C79: Savivaldybės biudžeto lėšos (nuosavos, be ankstesnių metų likučio) | D79: ŠSD Sveikatos ir šeimos skyrius; BĮ Klaipėdos miesto visuomenės sveikatos biuras | E79: =11.6+2 -> 13.6 | F79: 15.4 | G79: 15.4 | H79: 15.4
C80: Savivaldybės biudžetas (įskaitant skolintas lėšas) | E80: =SUM(E78:E79) -> 153.6 | F80: =SUM(F78:F79) -> 177.4 | G80: =SUM(G78:G79) -> 177.4 | H80: =SUM(H78:H79) -> 177.4
C81: Iš jo:
C82: Savivaldybės biudžeto lėšos (nuosavos, be ankstesnių metų likučio)'
B83: 011-02-04 (TP) | C83: Priemonė: Klaipėdos miesto antrųjų klasių mokinių mokymas plaukti | D83: KSTD Sporto, jaunimo ir bendruomeninių reikalų skyrius; BĮ Klaipėdos „Gintaro“ sporto centras | I83: 2.2.2.2.
C84: Savivaldybės biudžetas (įskaitant skolintas lėšas) | E84: =E86 -> 182.1 | F84: =F86 -> 182.3 | G84: =G86 -> 182.3 | H84: =H86 -> 182.3
C85: Iš jo:
C86: Savivaldybės biudžeto lėšos (nuosavos, be ankstesnių metų likučio) | E86: 182.1 | F86: 182.3 | G86: 182.3 | H86: 182.3
B87: 011-02-05 (TP) | C87: Priemonė: Motyvuojančios sporto sistemos (fizinio aktyvumo ir aukšto sportinio meistriškumo) modelio įgyvendinimas | D87: AD Kibernetinio saugumo ir IT skyrius; KSTD Sporto, jaunimo ir bendruomeninių reikalų skyrius | I87: 2.2.3.1.
C88: Savivaldybės biudžetas (įskaitant skolintas lėšas) | E88: =E90 -> 3 | F88: =F90+F91 -> 6 | G88: =G90+G91 -> 3 | H88: =H90+H91 -> 3
C89: Iš jo:
C90: Savivaldybės biudžeto lėšos (nuosavos, be ankstesnių metų likučio) | E90: 3 | F90: 3 | G90: 3 | H90: 3
C91: Ankstesnių metų likučiai | F91: 3
B92: 011-02-06 (TP) | C92: Priemonė: VšĮ Klaipėdos krašto buriavimo sporto mokyklos „Žiemys“ dalininko kapitalo didinimas | D92: Turto valdymo skyrius
C93: Savivaldybės biudžetas (įskaitant skolintas lėšas) | E93: =E95 -> 39.8 | F93: =+F95 -> 41.9
C94: Iš jo:
C95: Savivaldybės biudžeto lėšos (nuosavos, be ankstesnių metų likučio) | E95: 39.8 | F95: 41.9
C96: Priemonė: Dalininko įnašo perdavimas VšĮ Klaipėdos futbolo mokyklai | D96: Turto valdymo skyrius
C97: Savivaldybės biudžetas (įskaitant skolintas lėšas) | E97: =E99 -> 50
C98: Iš jo:
C99: Savivaldybės biudžeto lėšos (nuosavos, be ankstesnių metų likučio) | E99: 50
B100: 011-02-07 (PP) | C100: Priemonė: Sporto infrastruktūros užimtumo stebėjimas ir fiskalinės sistemos įvedimas bei priežiūra | D100: AD Kibernetinio saugumo ir IT skyrius | I100: 2.2.2.6.
C101: Savivaldybės biudžetas (įskaitant skolintas lėšas) | E101: =E103+E104 -> 37 | F101: =F103+F104 -> 31.7 | G101: =G103+G104 -> 3.7 | H101: =H103+H104 -> 3.7
...

Sheet Lėšų suvestinė 2 lentelė
B1: 2 lentelė. 2024–2027 metų asignavimų ir kitų lėšų pasiskirstymas (tūkst. Eur)
B3: Eil. Nr. | C3: Programos kodas ir pavadinimas | D3: 2024 m. asignavimai ir kitos lėšos | E3: 2025 metų asignavimai ir kitos lėšos | F3: 2026 metų asignavimai ir kitos lėšos | G3: 2027 metų asignavimai ir kitos lėšos
B4: 1 | C4: 2 | D4: 3 | E4: 4 | F4: 5 | G4: 6
B5: 011 Kūno kultūros ir sporto plėtros programa
B6: 1. | C6: Savivaldybės biudžetas (įskaitant skolintas lėšas) | D6: =SUM(D8:D13) -> 16981 | E6: =SUM(E8:E13) -> 19913.9 | F6: =SUM(F8:F13) -> 30445.7 | G6: =SUM(G8:G13) -> 31018.8
C7: Iš jo:
B8: 1.1. | C8: savivaldybės biudžeto lėšos (nuosavos, be ankstesnių metų likučio) | D8: =SUMIF('11 programa 3 lentelė'!$C7:$C165,'11 programa 3 lentelė'!$C31,'11 programa 3 lentelė'!E7:E165) -> 16252.1 | E8: =SUMIF('11 programa 3 lentelė'!$C7:$C165,'11 programa 3 lentelė'!$C31,'11 programa 3 lentelė'!F7:F165) -> 19362.7 | F8: =SUMIF('11 programa 3 lentelė'!$C7:$C165,'11 programa 3 lentelė'!$C31,'11 programa 3 lentelė'!G7:G165) -> 29961.3 | G8: =SUMIF('11 programa 3 lentelė'!$C7:$C165,'11 programa 3 lentelė'!$C31,'11 programa 3 lentelė'!H7:H165) -> 30534.4
B9: 1.2. | C9: Lietuvos Respublikos valstybės biudžeto dotacijos | D9: {=SUMIF('11 programa 3 lentelė'!$C7:$C165,'11 programa 3 lentelė'!C00,'11 programa 3 lentelė'!E7:E165)} -> 0 | E9: {=SUMIF('11 programa 3 lentelė'!$C7:$C165,'11 programa 3 lentelė'!C00,'11 programa 3 lentelė'!F7:F165)} -> 0 | F9: {=SUMIF('11 programa 3 lentelė'!$C7:$C165,'11 programa 3 lentelė'!C00,'11 programa 3 lentelė'!G7:G165)} -> 0 | G9: {=SUMIF('11 programa 3 lentelė'!$C7:$C165,'11 programa 3 lentelė'!C00,'11 programa 3 lentelė'!H7:H165)} -> 0
B10: 1.3. | C10: pajamų įmokos ir kitos pajamos | D10: =SUMIF('11 programa 3 lentelė'!$C7:$C165,'11 programa 3 lentelė'!$C36,'11 programa 3 lentelė'!E7:E165) -> 443.4 | E10: =SUMIF('11 programa 3 lentelė'!$C7:$C165,'11 programa 3 lentelė'!$C36,'11 programa 3 lentelė'!F7:F165) -> 484.4 | F10: =SUMIF('11 programa 3 lentelė'!$C7:$C165,'11 programa 3 lentelė'!$C36,'11 programa 3 lentelė'!G7:G165) -> 484.4 | G10: =SUMIF('11 programa 3 lentelė'!$C7:$C165,'11 programa 3 lentelė'!$C36,'11 programa 3 lentelė'!H7:H165) -> 484.4
B11: 1.4. | C11: Europos Sąjungos ir kitos tarptautinės finansinės paramos lėšos | D11: {=SUMIF('11 programa 3 lentelė'!$C7:$C165,'11 programa 3 lentelė'!C00,'11 programa 3 lentelė'!E7:E165)} -> 0 | E11: {=SUMIF('11 programa 3 lentelė'!$C7:$C165,'11 programa 3 lentelė'!C00,'11 programa 3 lentelė'!F7:F165)} -> 0 | F11: {=SUMIF('11 programa 3 lentelė'!$C7:$C165,'11 programa 3 lentelė'!C00,'11 programa 3 lentelė'!G7:G165)} -> 0 | G11: {=SUMIF('11 programa 3 lentelė'!$C7:$C165,'11 programa 3 lentelė'!C00,'11 programa 3 lentelė'!H7:H165)} -> 0
B12: 1.5. | C12: skolintos lėšos | D12: {=SUMIF('11 programa 3 lentelė'!C7:C166,C00,'11 programa 3 lentelė'!E7:E166)} -> 0 | E12: {=SUMIF('11 programa 3 lentelė'!D7:D166,C00,'11 programa 3 lentelė'!F7:F166)} -> 0 | F12: {=SUMIF('11 programa 3 lentelė'!E7:E166,C00,'11 programa 3 lentelė'!G7:G166)} -> 0 | G12: {=SUMIF('11 programa 3 lentelė'!F7:F166,C00,'11 programa 3 lentelė'!H7:H166)} -> 0
B13: 1.6. | C13: ankstesnių metų likučiai | D13: =SUMIF('11 programa 3 lentelė'!$C7:$C165,'11 programa 3 lentelė'!$C33,'11 programa 3 lentelė'!E7:E165) -> 285.5 | E13: =SUMIF('11 programa 3 lentelė'!$C7:$C165,'11 programa 3 lentelė'!$C33,'11 programa 3 lentelė'!F7:F165) -> 66.8 | F13: =SUMIF('11 programa 3 lentelė'!$C7:$C165,'11 programa 3 lentelė'!$C33,'11 programa 3 lentelė'!G7:G165) -> 0 | G13: =SUMIF('11 programa 3 lentelė'!$C7:$C165,'11 programa 3 lentelė'!$C33,'11 programa 3 lentelė'!H7:H165) -> 0
B14: 2. | C14: Kiti šaltiniai (Europos Sąjungos finansinė parama projektams įgyvendinti ir kitos teisėtai gautos lėšos, nurodant atskirus šaltinius) | D14: =SUM(D16:D21) -> 0 | E14: =SUM(E16:E21) -> 0 | F14: =SUM(F16:F21) -> 0 | G14: =SUM(G16:G21) -> 0
C15: Iš jo:
B16: 2.1. | C16: Europos Sąjungos paramos lėšos | D16: {=SUMIF('11 programa 3 lentelė'!$C7:$C165,'11 programa 3 lentelė'!C00,'11 programa 3 lentelė'!E7:E165)} -> 0 | E16: {=SUMIF('11 programa 3 lentelė'!$C7:$C165,'11 programa 3 lentelė'!C00,'11 programa 3 lentelė'!F7:F165)} -> 0 | F16: {=SUMIF('11 programa 3 lentelė'!$C7:$C165,'11 programa 3 lentelė'!C00,'11 programa 3 lentelė'!G7:G165)} -> 0 | G16: {=SUMIF('11 programa 3 lentelė'!$C7:$C165,'11 programa 3 lentelė'!C00,'11 programa 3 lentelė'!H7:H165)} -> 0
B17: 2.2. | C17: Privalomojo sveikatos draudimo fondo lėšos | D17: {=SUMIF('11 programa 3 lentelė'!$C7:$C165,'11 programa 3 lentelė'!C00,'11 programa 3 lentelė'!E7:E165)} -> 0 | E17: {=SUMIF('11 programa 3 lentelė'!$C7:$C165,'11 programa 3 lentelė'!C00,'11 programa 3 lentelė'!F7:F165)} -> 0 | F17: {=SUMIF('11 programa 3 lentelė'!$C7:$C165,'11 programa 3 lentelė'!C00,'11 programa 3 lentelė'!G7:G165)} -> 0 | G17: {=SUMIF('11 programa 3 lentelė'!$C7:$C165,'11 programa 3 lentelė'!C00,'11 programa 3 lentelė'!H7:H165)} -> 0
B18: 2.3. | C18: Klaipėdos valstybinio jūrų uosto direkcijos lėšos (KVJUD) | D18: {=SUMIF('11 programa 3 lentelė'!$C7:$C165,'11 programa 3 lentelė'!C00,'11 programa 3 lentelė'!E7:E165)} -> 0 | E18: {=SUMIF('11 programa 3 lentelė'!$C7:$C165,'11 programa 3 lentelė'!C00,'11 programa 3 lentelė'!F7:F165)} -> 0 | F18: {=SUMIF('11 programa 3 lentelė'!$C7:$C165,'11 programa 3 lentelė'!C00,'11 programa 3 lentelė'!G7:G165)} -> 0 | G18: {=SUMIF('11 programa 3 lentelė'!$C7:$C165,'11 programa 3 lentelė'!C00,'11 programa 3 lentelė'!H7:H165)} -> 0
B19: 2.4. | C19: Valstybės biudžeto lėšos (LRVB) | D19: {=SUMIF('11 programa 3 lentelė'!$C7:$C165,'11 programa 3 lentelė'!C00,'11 programa 3 lentelė'!E7:E165)} -> 0 | E19: {=SUMIF('11 programa 3 lentelė'!$C7:$C165,'11 programa 3 lentelė'!C00,'11 programa 3 lentelė'!F7:F165)} -> 0 | F19: {=SUMIF('11 programa 3 lentelė'!$C7:$C165,'11 programa 3 lentelė'!C00,'11 programa 3 lentelė'!G7:G165)} -> 0 | G19: {=SUMIF('11 programa 3 lentelė'!$C7:$C165,'11 programa 3 lentelė'!C00,'11 programa 3 lentelė'!H7:H165)} -> 0
B20: 2.5. | C20: Kiti finansavimo šaltiniai | D20: {=SUMIF('11 programa 3 lentelė'!$C7:$C165,'11 programa 3 lentelė'!C00,'11 programa 3 lentelė'!E7:E165)} -> 0 | E20: {=SUMIF('11 programa 3 lentelė'!$C7:$C165,'11 programa 3 lentelė'!C00,'11 programa 3 lentelė'!F7:F165)} -> 0 | F20: {=SUMIF('11 programa 3 lentelė'!$C7:$C165,'11 programa 3 lentelė'!C00,'11 programa 3 lentelė'!G7:G165)} -> 0 | G20: {=SUMIF('11 programa 3 lentelė'!$C7:$C165,'11 programa 3 lentelė'!C00,'11 programa 3 lentelė'!H7:H165)} -> 0
B21: 2.6. | C21: Kelių priežiūros ir plėtros programos lėšos (KPP) | D21: {=SUMIF('11 programa 3 lentelė'!$C7:$C165,'11 programa 3 lentelė'!C00,'11 programa 3 lentelė'!E7:E165)} -> 0 | E21: {=SUMIF('11 programa 3 lentelė'!$C7:$C165,'11 programa 3 lentelė'!C00,'11 programa 3 lentelė'!F7:F165)} -> 0 | F21: {=SUMIF('11 programa 3 lentelė'!$C7:$C165,'11 programa 3 lentelė'!C00,'11 programa 3 lentelė'!G7:G165)} -> 0 | G21: {=SUMIF('11 programa 3 lentelė'!$C7:$C165,'11 programa 3 lentelė'!C00,'11 programa 3 lentelė'!H7:H165)} -> 0
C22: IŠ VISO programai finansuoti pagal finansavimo šaltinius (1 ir 2 punktai) | D22: =D6+D14 -> 16981 | E22: =E6+E14 -> 19913.9 | F22: =F6+F14 -> 30445.7 | G22: =G6+G14 -> 31018.8
C23: Iš jų: regioninių pažangos priemonių lėšos | D23: 0 | E23: 0 | F23: 0 | G23: 0
C24: Asignavimų ir kitų lėšų pokytis, palyginti su ankstesnių metų patvirtintų asignavimų ir kitų lėšų planu | E24: =E22-D22 -> 2932.9 | F24: =F22-E22 -> 10531.8 | G24: =G22-F22 -> 573.1
