Workbook

Sheet 9 programa 3 lentelė
H1: Aiškinamojo rašto
H2: 1 priedas
B4: 3 lentelė. Klaipėdos miesto savivaldybės 2024–2027 metų 009 Jaunimo ir bendruomenių politikos programos uždaviniai, priemonės, asignavimai ir kitos lėšos (tūkst. eurų)
B5: Programos uždavinio, priemonės kodas ir požymis | C5: Uždavinio, priemonės pavadinimas, finansavimo šaltiniai | D5: Vykdytojas (padalinys / asmuo) | E5: 2024 metų asignavimai ir kitos lėšos | F5: 2025 metų asignavimai ir kitos lėšos | G5: 2026 metų asignavimai ir kitos lėšos | H5: 2027 metų asignavimai ir kitos lėšos | I5: Savivaldybės strateginio plėtros plano priemonės kodas
B6: 1 | C6: 2 | D6: 3 | E6: 4 | F6: 5 | G6: 6 | H6: 7 | I6: 8
B7: 009-01 (T) | C7: Uždavinys: Aktyvinti jaunimo ir su jaunimu dirbančių organizacijų veiklą
B8: 009-01-01 (TP) | C8: Priemonė: Jaunimo ir su jaunimu dirbančių organizacijų bei jų iniciatyvų skatinimаs
B9: 009-01-01-01 | C9: Jaunimo iniciatyvų ir programų dalinis finansavimas | D9: Jaunimo reikalų koordinatorius (patarėjas) | I9: 2.5.2.5.
C10: Savivaldybės biudžeto lėšos (nuosavos, be ankstesnių metų likučio) | E10: 55 | F10: 79 | G10: 79 | H10: 79
B11: 009-01-01-02 | C11: Jaunimo organizacijų stiprinimo ir jaunimo politikos plėtojimo programos dalinis finansavimas | I11: 2.5.2.5.
C12: Savivaldybės biudžeto lėšos (nuosavos, be ankstesnių metų likučio) | E12: 10 | F12: 10 | G12: 15 | H12: 15 | M12: s
B13: 009-01-01-03 | C13: Jaunimo savanoriškos tarnybos įgyvendinimo Klaipėdos mieste programos dalinis finansavimas | I13: 2.5.2.3.
C14: Savivaldybės biudžeto lėšos (nuosavos, be ankstesnių metų likučio) | E14: 7.1 | F14: 11.2 | G14: 13.6 | H14: 16.1
B15: 009-01-01-04 | C15: Atviro darbo su jaunimu Klaipėdos mieste programos dalinis finansavimas | I15: 2.5.1.1.
C16: Savivaldybės biudžeto lėšos (nuosavos, be ankstesnių metų likučio) | E16: 35 | F16: 35 | G16: 70 | H16: 70
B17: 009-01-01-05 | C17: Darbo su jaunimu gatvėje Klaipėdos mieste programos dalinis finansavimas | I17: 2.5.2.4.
C18: Savivaldybės biudžeto lėšos (nuosavos, be ankstesnių metų likučio) | E18: 35 | F18: 35 | G18: 35 | H18: 35
B19: 009-01-01-06 | C19: Nevyriausybinių organizacijų kompetencijų didinimas ir naujų įgūdžių suteikimas | I19: 2.5.2.5.
C20: Savivaldybės biudžeto lėšos (nuosavos, be ankstesnių metų likučio) | E20: =19.5-11 -> 8.5 | F20: 7.6 | G20: 7.6 | H20: 7.6
B21: 009-01-01-07 | C21: Dalininko įnašo formavimas VšĮ Klaipėdos miesto savivaldybės atviro jaunimo centro įkūrimui ir veiklos organizavimui
C22: Savivaldybės biudžeto lėšos (nuosavos, be ankstesnių metų likučio) | E22: 20
C23: Ankstesnių metų likučiai | F23: 20
B24: 009-01-01-08 | C24: VšĮ Klaipėdos miesto savivaldybės atviro jaunimo centro veiklos organizavimas (vykdytojas – VšĮ Klaipėdos miesto savivaldybės atviras jaunimo centras)
C25: Savivaldybės biudžeto lėšos (nuosavos, be ankstesnių metų likučio) | F25: 207.7 | G25: 304.6 | H25: 335
C26: Savivaldybės biudžetas (įskaitant skolintas lėšas) | E26: =SUM(E9:E25) -> 170.6 | F26: =SUM(F9:F25) -> 405.5 | G26: =SUM(G9:G25) -> 524.8 | H26: =SUM(H9:H25) -> 557.7
C27: Iš jo:
C28: Savivaldybės biudžeto lėšos (nuosavos, be ankstesnių metų likučio)' | E28: =SUMIF($C9:$C25,$C10,E9:E25) -> 170.6 | F28: =SUMIF($C9:$C25,$C10,F9:F25) -> 385.5 | G28: =SUMIF($C9:$C25,$C10,G9:G25) -> 524.8 | H28: =SUMIF($C9:$C25,$C10,H9:H25) -> 557.7
C29: Ankstesnių metų likučiai' | E29: =SUMIF($C9:$C25,$C23,E9:E25) -> 0 | F29: =SUMIF($C9:$C25,$C23,F9:F25) -> 20 | G29: =SUMIF($C9:$C25,$C23,G9:G25) -> 0 | H29: =SUMIF($C9:$C25,$C23,H9:H25) -> 0
B30: 009-01-02 (RP) | C30: Priemonė: Atvirų jaunimo erdvių, skirtų mažiau galimybių turintiems jaunuoliams, steigimas (šiaurinėje miesto dalyje) | D30: Projektų skyrius
C31: Savivaldybės biudžetas (įskaitant skolintas lėšas) | G31: =G33+G34 -> 63.8 | H31: =H33 -> 63.8
C32: Iš jo:
C33: Savivaldybės biudžeto lėšos (nuosavos, be ankstesnių metų likučio) | H33: =44.6+19.2 -> 63.8
C34: Skolintos lėšos | G34: 63.8
C35: Kiti šaltiniai | G35: =G37 -> 361.3 | H35: =H37 -> 361.3
C36: Iš jų:
C37: Kiti šaltiniai (Europos Sąjungos paramos lėšos) | G37: =216.8+144.5 -> 361.3 | H37: =252.9+108.4 -> 361.3
B38: 009-01-03 (TP) | C38: Priemonė: Jaunimo pritraukimas į Klaipėdos miestą
C39: Stipendijų skyrimas Klaipėdos aukštųjų mokyklų 1 kurso studentams | D39: Jaunimo reikalų koordinatorius (patarėjas) | I39: 1.1.3.1.
C40: Savivaldybės biudžeto lėšos (nuosavos, be ankstesnių metų likučio) | E40: 27
B41: 009-01-03-01 | C41: Dalyvavimas Vakarų Lietuvos regiono renginyje „Jaunimo vasaros akademija“ | I41: 2.5.2.5.
C42: Savivaldybės biudžeto lėšos (nuosavos, be ankstesnių metų likučio) | E42: =1.1+0.2 -> 1.3 | F42: 1.6 | G42: 1.6 | H42: 1.6
B43: 009-01-03-02 | C43: Klaipėdos miesto kasmetiniai renginiai jaunimui | I43: 2.5.2.5.
C44: Savivaldybės biudžeto lėšos (nuosavos, be ankstesnių metų likučio) | E44: =58.7-0.2 -> 58.5 | F44: 65.3 | G44: 65.3 | H44: 65.3
C45: Savivaldybės biudžetas (įskaitant skolintas lėšas) | E45: =SUM(E39:E44) -> 86.8 | F45: =SUM(F39:F44) -> 66.9 | G45: =SUM(G39:G44) -> 66.9 | H45: =SUM(H39:H44) -> 66.9
C46: Iš jo:
C47: Savivaldybės biudžeto lėšos (nuosavos, be ankstesnių metų likučio)' | E47: =SUMIF($C39:$C44,$C40,E39:E44) -> 86.8 | F47: =SUMIF($C39:$C44,$C40,F39:F44) -> 66.9 | G47: =SUMIF($C39:$C44,$C40,G39:G44) -> 66.9 | H47: =SUMIF($C39:$C44,$C40,H39:H44) -> 66.9
B48: 009-01-04 (TP) | C48: Priemonė: Tarptautinio ir nacionalinio bendradarbiavimo plėtojimas
B49: 009-01-04-01 | C49: Atstovavimas Klaipėdos miestui tarptautiniuose ir nacionaliniuose jaunimo renginiuose | D49: Jaunimo reikalų koordinatorius (patarėjas) | I49: 2.5.2.1.
C50: Savivaldybės biudžeto lėšos (nuosavos, be ankstesnių metų likučio) | E50: 4.1 | F50: 5 | G50: 5 | H50: 5
C51: Tarptautinio Erasmus+ programos projekto „Jaunimo forumas Baltijos šalyse“ („Youth forum in Baltic states“) įgyvendinimas | I51: 2.5.2.1.
C52: Kiti šaltiniai (Europos Sąjungos paramos lėšos) | E52: 9.5
C53: Tarptautinio CERV programos projekto „Mobilizuoti Europą = Įsitraukti kartu“ („MEET“) įgyvendinimas | I53: 2.5.2.1.
C54: Kiti šaltiniai (Europos Sąjungos paramos lėšos) | E54: 6
C55: Tarptautinio Erasmus+ programos projekto „Jaunimo tarybų dalyvavimas Europoje“ (angl. „Youth council participation in Europe“) įgyvendinimas | I55: 2.5.2.1.
C56: Savivaldybės biudžeto lėšos (nuosavos, be ankstesnių metų likučio) | E56: 2.9
C57: Kiti šaltiniai (Europos Sąjungos paramos lėšos) | E57: 7.8
B58: 009-01-04-02 | C58: Tarptautinio Erasmus+ programos projekto „VR ateitis“ (angl. „VR the Futuree“) įgyvendinimas | I58: 2.5.2.1.
C59: Savivaldybės biudžeto lėšos (nuosavos, be ankstesnių metų likučio) | F59: 12.7
C60: Kiti šaltiniai (Europos Sąjungos paramos lėšos) | E60: 30.9 | F60: 19.7
B61: 009-01-04-03 | C61: Tarptautinio URBACT programos projekto „Kita karta – jaunimo darbas“ (angl. „NextGen YouthWork“) įgyvendinimas | I61: 2.5.2.1.
C62: Savivaldybės biudžeto lėšos (nuosavos, be ankstesnių metų likučio) | E62: 29.6 | F62: 35.1 | G62: 1.5
C63: Ankstesnių metų likučiai | F63: 3.5
C64: Savivaldybės biudžetas (įskaitant skolintas lėšas) | E64: =SUM(E66:E66) -> 36.6 | F64: =SUM(F66:F67) -> 56.3 | G64: =SUM(G66:G66) -> 6.5 | H64: =SUM(H66:H66) -> 5
C65: Iš jo:
C66: Savivaldybės biudžeto lėšos (nuosavos, be ankstesnių metų likučio)' | E66: =SUMIF($C49:$C63,$C50,E49:E63) -> 36.6 | F66: =SUMIF($C49:$C63,$C50,F49:F63) -> 52.8 | G66: =SUMIF($C49:$C63,$C50,G49:G63) -> 6.5 | H66: =SUMIF($C49:$C63,$C50,H49:H63) -> 5
C67: Ankstesnių metų likučiai' | F67: =SUMIF($C49:$C63,$C63,F49:F63) -> 3.5
C68: Kiti šaltiniai | E68: =E70 -> 54.2 | F68: =F70 -> 19.7
C69: Iš jų:
C70: Kiti šaltiniai (Europos Sąjungos paramos lėšos)' | E70: =SUMIF($C49:$C62,$C57,E49:E62) -> 54.2 | F70: =SUMIF($C49:$C63,$C57,F49:F63) -> 19.7
B71: 009-01-05 (TP) | C71: Priemonė: Premijų už miestui aktualius ir pritaikomuosius darbus skyrimas Klaipėdos aukštųjų mokyklų absolventams | D71: Jaunimo reikalų koordinatorius (patarėjas) | I71: 1.1.3.1.
C72: Savivaldybės biudžetas (įskaitant skolintas lėšas) | E72: =+E74 -> 7.9 | F72: =+F74 -> 15 | G72: =+G74 -> 15 | H72: =+H74 -> 15
C73: Iš jo:
C74: Savivaldybės biudžeto lėšos (nuosavos, be ankstesnių metų likučio) | E74: 7.9 | F74: 15 | G74: 15 | H74: 15
B75: 009-01-06 (TP) | C75: Priemonė: Mokinių dalyvaujamojo biudžeto iniciatyvos įgyvendinimas | D75: Jaunimo reikalų koordinatorius (patarėjas) | I75: 1.3.2.7.
C76: Savivaldybės biudžetas (įskaitant skolintas lėšas) | F76: =F78 -> 27.6 | G76: =G78 -> 27.6 | H76: =H78 -> 27.6
C77: Iš jo:
C78: Savivaldybės biudžeto lėšos (nuosavos, be ankstesnių metų likučio) | F78: 27.6 | G78: 27.6 | H78: 27.6
B79: 009-01-07 (TP) | C79: Priemonė: Tyrimų, analizių, susijusių su jaunimo politika, bendruomenėmis ar lygių galimybių užtikrinimu, parengimas
B80: 009-01-07-01 | C80: Klaipėdos jaunimo situacijos tyrimo parengimas | D80: Jaunimo reikalų koordinatorius (patarėjas) | I80: 2.5.2.1.
C81: Savivaldybės biudžeto lėšos (nuosavos, be ankstesnių metų likučio) | F81: 8 | H81: 8
C82: Lygių galimybių viešojoje erdvėje įvertinimas | I82: 2.4.3.1.
C83: Savivaldybės biudžeto lėšos (nuosavos, be ankstesnių metų likučio) | E83: 10
C84: Savivaldybės biudžetas (įskaitant skolintas lėšas) | E84: =SUM(E80:E83) -> 10 | F84: =SUM(F80:F83) -> 8 | G84: =SUM(G80:G83) -> 0 | H84: =SUM(H80:H83) -> 8
C85: Iš jo:
C86: Savivaldybės biudžeto lėšos (nuosavos, be ankstesnių metų likučio)' | E86: =SUMIF($C80:$C83,$C83,E80:E83) -> 10 | F86: =SUMIF($C80:$C83,$C83,F80:F83) -> 8 | G86: =SUMIF($C80:$C83,$C83,G80:G83) -> 0 | H86: =SUMIF($C80:$C83,$C83,H80:H83) -> 8
B87: 009-01-08 (TP) | C87: Priemonė: Jaunimo vasaros užimtumo ir integracijos į darbo rinką programos vykdymas | D87: Jaunimo reikalų koordinatorius (patarėjas) | I87: 2.4.3.2.
C88: Savivaldybės biudžetas (įskaitant skolintas lėšas) | E88: =+E90 -> 79.7 | F88: =+F90 -> 98.7 | G88: =+G90 -> 98.7 | H88: =+H90 -> 98.7
C89: Iš jo:
C90: Savivaldybės biudžeto lėšos (nuosavos, be ankstesnių metų likučio) | E90: =89.7-10 -> 79.7 | F90: 98.7 | G90: 98.7 | H90: 98.7
B91: 009-02 (T) | C91: Uždavinys: Aktyvinti bendruomenių veiklą
B92: 009-02-01 (TP) | C92: Priemonė: Vietos bendruomenių savivaldos programos įgyvendinimas | D92: KSTD Sporto, jaunimo ir bendruomeninių reikalų skyrius | I92: 2.6.4.1.
C93: Savivaldybės biudžetas (įskaitant skolintas lėšas) | E93: =E95 -> 112
C94: Iš jo:
C95: Lietuvos Respublikos valstybės biudžeto dotacijos | E95: 112
C96: Kiti šaltiniai | F96: =+F98 -> 112 | G96: =+G98 -> 112 | H96: =+H98 -> 112
C97: Iš jų:
C98: Kiti šaltiniai (valstybės biudžeto lėšos) | F98: 112 | G98: 112 | H98: 112
B99: 009-02-02 (TP) | C99: Priemonė: Dalyvaujamojo biudžeto iniciatyvos įgyvendinimas | D99: KSTD Sporto, jaunimo ir bendruomeninių reikalų skyrius | I99: 2.6.4.3.
C100: Savivaldybės biudžetas (įskaitant skolintas lėšas)
C101: Iš jo:
...

Sheet Lėšų suvestinė 2 lentelė
B1: 2 lentelė. 2024–2027 metų asignavimų ir kitų lėšų pasiskirstymas (tūkst. Eur)
B3: Eil. Nr. | C3: Programos kodas ir pavadinimas | D3: 2024 m. asignavimai ir kitos lėšos | E3: 2025 metų asignavimai ir kitos lėšos | F3: 2026 metų asignavimai ir kitos lėšos | G3: 2027 metų asignavimai ir kitos lėšos
B4: 1 | C4: 2 | D4: 3 | E4: 4 | F4: 5 | G4: 6
B5: 009 Jaunimo ir bendruomenių politikos plėtros programa
B6: 1. | C6: Savivaldybės biudžetas (įskaitant skolintas lėšas) | D6: =SUM(D8:D13) -> 503.6 | E6: =SUM(E8:E13) -> 705.3 | F6: =SUM(F8:F13) -> 863 | G6: =SUM(G8:G13) -> 916.3
C7: Iš jo:
B8: 1.1. | C8: savivaldybės biudžeto lėšos (nuosavos, be ankstesnių metų likučio) | D8: =SUMIF('9 programa 3 lentelė'!$C7:$C108,'9 programa 3 lentelė'!$C10,'9 programa 3 lentelė'!E7:E108) -> 391.6 | E8: =SUMIF('9 programa 3 lentelė'!$C7:$C108,'9 programa 3 lentelė'!$C10,'9 programa 3 lentelė'!F7:F108) -> 681.8 | F8: =SUMIF('9 programa 3 lentelė'!$C7:$C108,'9 programa 3 lentelė'!$C10,'9 programa 3 lentelė'!G7:G108) -> 799.2 | G8: =SUMIF('9 programa 3 lentelė'!$C7:$C108,'9 programa 3 lentelė'!$C10,'9 programa 3 lentelė'!H7:H108) -> 916.3
B9: 1.2. | C9: Lietuvos Respublikos valstybės biudžeto dotacijos | D9: =SUMIF('9 programa 3 lentelė'!$C7:$C108,'9 programa 3 lentelė'!$C95,'9 programa 3 lentelė'!E7:E108) -> 112 | E9: =SUMIF('9 programa 3 lentelė'!$C7:$C108,'9 programa 3 lentelė'!$C95,'9 programa 3 lentelė'!F7:F108) -> 0 | F9: =SUMIF('9 programa 3 lentelė'!$C7:$C108,'9 programa 3 lentelė'!$C95,'9 programa 3 lentelė'!G7:G108) -> 0 | G9: =SUMIF('9 programa 3 lentelė'!$C7:$C108,'9 programa 3 lentelė'!$C95,'9 programa 3 lentelė'!H7:H108) -> 0
B10: 1.3. | C10: pajamų įmokos ir kitos pajamos | D10: {=SUMIF('9 programa 3 lentelė'!$C7:$C108,C00,'9 programa 3 lentelė'!E7:E108)} -> 0 | E10: {=SUMIF('9 programa 3 lentelė'!$C7:$C108,C00,'9 programa 3 lentelė'!F7:F108)} -> 0 | F10: {=SUMIF('9 programa 3 lentelė'!$C7:$C108,C00,'9 programa 3 lentelė'!G7:G108)} -> 0 | G10: {=SUMIF('9 programa 3 lentelė'!$C7:$C108,C00,'9 programa 3 lentelė'!H7:H108)} -> 0
B11: 1.4. | C11: Europos Sąjungos ir kitos tarptautinės finansinės paramos lėšos | D11: {=SUMIF('9 programa 3 lentelė'!$C7:$C108,C00,'9 programa 3 lentelė'!E7:E108)} -> 0 | E11: {=SUMIF('9 programa 3 lentelė'!$C7:$C108,C00,'9 programa 3 lentelė'!F7:F108)} -> 0 | F11: {=SUMIF('9 programa 3 lentelė'!$C7:$C108,C00,'9 programa 3 lentelė'!G7:G108)} -> 0 | G11: {=SUMIF('9 programa 3 lentelė'!$C7:$C108,C00,'9 programa 3 lentelė'!H7:H108)} -> 0
B12: 1.5. | C12: skolintos lėšos | D12: =SUMIF('9 programa 3 lentelė'!$C7:$C109,'9 programa 3 lentelė'!$C34,'9 programa 3 lentelė'!E7:E109) -> 0 | E12: =SUMIF('9 programa 3 lentelė'!$C7:$C109,'9 programa 3 lentelė'!$C34,'9 programa 3 lentelė'!F7:F109) -> 0 | F12: =SUMIF('9 programa 3 lentelė'!$C7:$C109,'9 programa 3 lentelė'!$C34,'9 programa 3 lentelė'!G7:G109) -> 63.8 | G12: =SUMIF('9 programa 3 lentelė'!$C7:$C109,'9 programa 3 lentelė'!$C34,'9 programa 3 lentelė'!H7:H109) -> 0
B13: 1.6. | C13: ankstesnių metų likučiai | D13: {=SUMIF('9 programa 3 lentelė'!$C7:$C108,C00,'9 programa 3 lentelė'!E7:E108)} -> 0 | E13: =SUMIF('9 programa 3 lentelė'!$C7:$C108,'9 programa 3 lentelė'!C63,'9 programa 3 lentelė'!F7:F108) -> 23.5 | F13: {=SUMIF('9 programa 3 lentelė'!$C7:$C108,C00,'9 programa 3 lentelė'!G7:G108)} -> 0 | G13: {=SUMIF('9 programa 3 lentelė'!$C7:$C108,C00,'9 programa 3 lentelė'!H7:H108)} -> 0
B14: 2. | C14: Kiti šaltiniai (Europos Sąjungos finansinė parama projektams įgyvendinti ir kitos teisėtai gautos lėšos, nurodant atskirus šaltinius) | D14: =SUM(D15:D21) -> 54.2 | E14: =SUM(E15:E21) -> 131.7 | F14: =SUM(F15:F21) -> 473.3 | G14: =SUM(G15:G21) -> 473.3
C15: Iš jo:
B16: 2.1. | C16: Europos Sąjungos paramos lėšos | D16: =SUMIF('9 programa 3 lentelė'!$C7:$C108,'9 programa 3 lentelė'!$C60,'9 programa 3 lentelė'!E7:E108) -> 54.2 | E16: =SUMIF('9 programa 3 lentelė'!$C7:$C108,'9 programa 3 lentelė'!$C60,'9 programa 3 lentelė'!F7:F108) -> 19.7 | F16: =SUMIF('9 programa 3 lentelė'!$C7:$C108,'9 programa 3 lentelė'!$C60,'9 programa 3 lentelė'!G7:G108) -> 361.3 | G16: =SUMIF('9 programa 3 lentelė'!$C7:$C108,'9 programa 3 lentelė'!$C60,'9 programa 3 lentelė'!H7:H108) -> 361.3
B17: 2.2. | C17: Privalomojo sveikatos draudimo fondo lėšos | D17: {=SUMIF('9 programa 3 lentelė'!$C7:$C108,'9 programa 3 lentelė'!C00,'9 programa 3 lentelė'!E7:E108)} -> 0 | E17: {=SUMIF('9 programa 3 lentelė'!$C7:$C108,'9 programa 3 lentelė'!C00,'9 programa 3 lentelė'!F7:F108)} -> 0 | F17: {=SUMIF('9 programa 3 lentelė'!$C7:$C108,'9 programa 3 lentelė'!C00,'9 programa 3 lentelė'!G7:G108)} -> 0 | G17: {=SUMIF('9 programa 3 lentelė'!$C7:$C108,'9 programa 3 lentelė'!C00,'9 programa 3 lentelė'!H7:H108)} -> 0
B18: 2.3. | C18: Klaipėdos valstybinio jūrų uosto direkcijos lėšos (KVJUD) | D18: {=SUMIF('9 programa 3 lentelė'!$C7:$C108,'9 programa 3 lentelė'!C00,'9 programa 3 lentelė'!E7:E108)} -> 0 | E18: {=SUMIF('9 programa 3 lentelė'!$C7:$C108,'9 programa 3 lentelė'!C00,'9 programa 3 lentelė'!F7:F108)} -> 0 | F18: {=SUMIF('9 programa 3 lentelė'!$C7:$C108,'9 programa 3 lentelė'!C00,'9 programa 3 lentelė'!G7:G108)} -> 0 | G18: {=SUMIF('9 programa 3 lentelė'!$C7:$C108,'9 programa 3 lentelė'!C00,'9 programa 3 lentelė'!H7:H108)} -> 0
B19: 2.4. | C19: Valstybės biudžeto lėšos (LRVB) | D19: {=SUMIF('9 programa 3 lentelė'!$C7:$C108,'9 programa 3 lentelė'!C00,'9 programa 3 lentelė'!E7:E108)} -> 0 | E19: =SUMIF('9 programa 3 lentelė'!$C7:$C108,'9 programa 3 lentelė'!C98,'9 programa 3 lentelė'!F7:F108) -> 112 | F19: =SUMIF('9 programa 3 lentelė'!$C7:$C108,'9 programa 3 lentelė'!C98,'9 programa 3 lentelė'!G7:G108) -> 112 | G19: =SUMIF('9 programa 3 lentelė'!$C7:$C108,'9 programa 3 lentelė'!C98,'9 programa 3 lentelė'!H7:H108) -> 112
B20: 2.5. | C20: Kiti finansavimo šaltiniai | D20: {=SUMIF('9 programa 3 lentelė'!$C7:$C108,'9 programa 3 lentelė'!C00,'9 programa 3 lentelė'!E7:E108)} -> 0 | E20: {=SUMIF('9 programa 3 lentelė'!$C7:$C108,'9 programa 3 lentelė'!C00,'9 programa 3 lentelė'!F7:F108)} -> 0 | F20: {=SUMIF('9 programa 3 lentelė'!$C7:$C108,'9 programa 3 lentelė'!C00,'9 programa 3 lentelė'!G7:G108)} -> 0 | G20: {=SUMIF('9 programa 3 lentelė'!$C7:$C108,'9 programa 3 lentelė'!C00,'9 programa 3 lentelė'!H7:H108)} -> 0
B21: 2.6. | C21: Kelių priežiūros ir plėtros programos lėšos (KPP) | D21: {=SUMIF('9 programa 3 lentelė'!$C7:$C108,'9 programa 3 lentelė'!C00,'9 programa 3 lentelė'!E7:E108)} -> 0 | E21: {=SUMIF('9 programa 3 lentelė'!$C7:$C108,'9 programa 3 lentelė'!C00,'9 programa 3 lentelė'!F7:F108)} -> 0 | F21: {=SUMIF('9 programa 3 lentelė'!$C7:$C108,'9 programa 3 lentelė'!C00,'9 programa 3 lentelė'!G7:G108)} -> 0 | G21: {=SUMIF('9 programa 3 lentelė'!$C7:$C108,'9 programa 3 lentelė'!C00,'9 programa 3 lentelė'!H7:H108)} -> 0
C22: IŠ VISO programai finansuoti pagal finansavimo šaltinius (1 ir 2 punktai) | D22: =D6+D14 -> 557.8 | E22: =E6+E14 -> 837 | F22: =F6+F14 -> 1336.3 | G22: =G6+G14 -> 1389.6
C23: Iš jų: regioninių pažangos priemonių lėšos | D23: ='9 programa 3 lentelė'!E108 -> 0 | E23: ='9 programa 3 lentelė'!F108 -> 0 | F23: ='9 programa 3 lentelė'!G108 -> 425.1 | G23: ='9 programa 3 lentelė'!H108 -> 425.1
C24: Asignavimų ir kitų lėšų pokytis, palyginti su ankstesnių metų patvirtintų asignavimų ir kitų lėšų planu | E24: =E22-D22 -> 279.2 | F24: =F22-E22 -> 499.3 | G24: =G22-F22 -> 53.3
