Workbook

Sheet 9 programa 3 lentelė
H1: Aiškinamojo rašto
H2: 1 priedas
B4: 3 lentelė. Klaipėdos miesto savivaldybės 2024–2027 metų 009 Jaunimo ir bendruomenių politikos programos uždaviniai, priemonės, asignavimai ir kitos lėšos (tūkst. eurų)
B5: Programos uždavinio, priemonės kodas ir požymis | C5: Uždavinio, priemonės pavadinimas, finansavimo šaltiniai | D5: Vykdytojas (padalinys / asmuo) | E5: 2024 metų asignavimai ir kitos lėšos | F5: 2025 metų asignavimai ir kitos lėšos | G5: 2026 metų asignavimai ir kitos lėšos | H5: 2027 metų asignavimai ir kitos lėšos | I5: Savivaldybės strateginio plėtros plano priemonės kodas
B6: 1 | C6: 2 | D6: 3 | E6: 4 | F6: 5 | G6: 6 | H6: 7 | I6: 8
B7: 009-01 (T) | C7: Uždavinys: Aktyvinti jaunimo ir su jaunimu dirbančių organizacijų veiklą
B8: 009-01-01 (TP) | C8: Priemonė: Jaunimo ir su jaunimu dirbančių organizacijų bei jų iniciatyvų skatinimаs
B9: 009-01-01-01 | C9: Jaunimo iniciatyvų ir programų dalinis finansavimas | D9: Jaunimo reikalų koordinatorius (patarėjas) | I9: 2.5.2.5.
C10: Savivaldybės biudžeto lėšos (nuosavos, be ankstesnių metų likučio) | E10: 55 | F10: 79 | G10: 79 | H10: 79
B11: 009-01-01-02 | C11: Jaunimo organizacijų stiprinimo ir jaunimo politikos plėtojimo programos dalinis finansavimas | I11: 2.5.2.5.
C12: Savivaldybės biudžeto lėšos (nuosavos, be ankstesnių metų likučio) | E12: 10 | F12: 10 | G12: 15 | H12: 15 | M12: s
B13: 009-01-01-03 | C13: Jaunimo savanoriškos tarnybos įgyvendinimo Klaipėdos mieste programos dalinis finansavimas | I13: 2.5.2.3.
C14: Savivaldybės biudžeto lėšos (nuosavos, be ankstesnių metų likučio) | E14: 7.1 | F14: 11.2 | G14: 13.6 | H14: 16.1
B15: 009-01-01-04 | C15: Atviro darbo su jaunimu Klaipėdos mieste programos dalinis finansavimas | I15: 2.5.1.1.
C16: Savivaldybės biudžeto lėšos (nuosavos, be ankstesnių metų likučio) | E16: 35 | F16: 35 | G16: 70 | H16: 70
B17: 009-01-01-05 | C17: Darbo su jaunimu gatvėje Klaipėdos mieste programos dalinis finansavimas | I17: 2.5.2.4.
C18: Savivaldybės biudžeto lėšos (nuosavos, be ankstesnių metų likučio) | E18: 35 | F18: 35 | G18: 35 | H18: 35
B19: 009-01-01-06 | C19: Nevyriausybinių organizacijų kompetencijų didinimas ir naujų įgūdžių suteikimas | I19: 2.5.2.5.
C20: Savivaldybės biudžeto lėšos (nuosavos, be ankstesnių metų likučio) | E20: =19.5-11 -> 8.5 | F20: 7.6 | G20: 7.6 | H20: 7.6
B21: 009-01-01-07 | C21: Dalininko įnašo formavimas VšĮ Klaipėdos miesto savivaldybės atviro jaunimo centro įkūrimui ir veiklos organizavimui
C22: Savivaldybės biudžeto lėšos (nuosavos, be ankstesnių metų likučio) | E22: 20
C23: Ankstesnių metų likučiai | F23: 20
B24: 009-01-01-08 | C24: VšĮ Klaipėdos miesto savivaldybės atviro jaunimo centro veiklos organizavimas (vykdytojas – VšĮ Klaipėdos miesto savivaldybės atviras jaunimo centras)
C25: Savivaldybės biudžeto lėšos (nuosavos, be ankstesnių metų likučio) | F25: 207.7 | G25: 304.6 | H25: 335
C26: Savivaldybės biudžetas (įskaitant skolintas lėšas) | E26: =SUM(E9:E25) -> 170.6 | F26: =SUM(F9:F25) -> 405.5 | G26: =SUM(G9:G25) -> 524.8 | H26: =SUM(H9:H25) -> 557.7
C27: Iš jo:
C28: Savivaldybės biudžeto lėšos (nuosavos, be ankstesnių metų likučio)' | E28: =SUMIF($C9:$C25,$C10,E9:E25) -> 170.6 | F28: =SUMIF($C9:$C25,$C10,F9:F25) -> 385.5 | G28: =SUMIF($C9:$C25,$C10,G9:G25) -> 524.8 | H28: =SUMIF($C9:$C25,$C10,H9:H25) -> 557.7
C29: Ankstesnių metų likučiai' | E29: =SUMIF($C9:$C25,$C23,E9:E25) -> 0 | F29: =SUMIF($C9:$C25,$C23,F9:F25) -> 20 | G29: =SUMIF($C9:$C25,$C23,G9:G25) -> 0 | H29: =SUMIF($C9:$C25,$C23,H9:H25) -> 0
B30: 009-01-02 (RP) | C30: Priemonė: Atvirų jaunimo erdvių, skirtų mažiau galimybių turintiems jaunuoliams, steigimas (šiaurinėje miesto dalyje) | D30: Projektų skyrius
C31: Savivaldybės biudžetas (įskaitant skolintas lėšas) | G31: =G33+G34 -> 63.8 | H31: =H33 -> 63.8
C32: Iš jo:
C33: Savivaldybės biudžeto lėšos (nuosavos, be ankstesnių metų likučio) | H33: =44.6+19.2 -> 63.8
C34: Skolintos lėšos | G34: 63.8
C35: Kiti šaltiniai | G35: =G37 -> 361.3 | H35: =H37 -> 361.3
C36: Iš jų:
C37: Kiti šaltiniai (Europos Sąjungos paramos lėšos) | G37: =216.8+144.5 -> 361.3 | H37: =252.9+108.4 -> 361.3
B38: 009-01-03 (TP) | C38: Priemonė: Jaunimo pritraukimas į Klaipėdos miestą
C39: Stipendijų skyrimas Klaipėdos aukštųjų mokyklų 1 kurso studentams | D39: Jaunimo reikalų koordinatorius (patarėjas) | I39: 1.1.3.1.
C40: Savivaldybės biudžeto lėšos (nuosavos, be ankstesnių metų likučio) | E40: 27
B41: 009-01-03-01 | C41: Dalyvavimas Vakarų Lietuvos regiono renginyje „Jaunimo vasaros akademija“ | I41: 2.5.2.5.
...

Sheet Lėšų suvestinė 2 lentelė
B1: 2 lentelė. 2024–2027 metų asignavimų ir kitų lėšų pasiskirstymas (tūkst. Eur)
B3: Eil. Nr. | C3: Programos kodas ir pavadinimas | D3: 2024 m. asignavimai ir kitos lėšos | E3: 2025 metų asignavimai ir kitos lėšos | F3: 2026 metų asignavimai ir kitos lėšos | G3: 2027 metų asignavimai ir kitos lėšos
B4: 1 | C4: 2 | D4: 3 | E4: 4 | F4: 5 | G4: 6
B5: 009 Jaunimo ir bendruomenių politikos plėtros programa
B6: 1. | C6: Savivaldybės biudžetas (įskaitant skolintas lėšas) | D6: =SUM(D8:D13) -> 503.6 | E6: =SUM(E8:E13) -> 705.3 | F6: =SUM(F8:F13) -> 863 | G6: =SUM(G8:G13) -> 916.3
C7: Iš jo:
B8: 1.1. | C8: savivaldybės biudžeto lėšos (nuosavos, be ankstesnių metų likučio) | D8: =SUMIF('9 programa 3 lentelė'!$C7:$C108,'9 programa 3 lentelė'!$C10,'9 programa 3 lentelė'!E7:E108) -> 391.6 | E8: =SUMIF('9 programa 3 lentelė'!$C7:$C108,'9 programa 3 lentelė'!$C10,'9 programa 3 lentelė'!F7:F108) -> 681.8 | F8: =SUMIF('9 programa 3 lentelė'!$C7:$C108,'9 programa 3 lentelė'!$C10,'9 programa 3 lentelė'!G7:G108) -> 799.2 | G8: =SUMIF('9 programa 3 lentelė'!$C7:$C108,'9 programa 3 lentelė'!$C10,'9 programa 3 lentelė'!H7:H108) -> 916.3
B9: 1.2. | C9: Lietuvos Respublikos valstybės biudžeto dotacijos | D9: =SUMIF('9 programa 3 lentelė'!$C7:$C108,'9 programa 3 lentelė'!$C95,'9 programa 3 lentelė'!E7:E108) -> 112 | E9: =SUMIF('9 programa 3 lentelė'!$C7:$C108,'9 programa 3 lentelė'!$C95,'9 programa 3 lentelė'!F7:F108) -> 0 | F9: =SUMIF('9 programa 3 lentelė'!$C7:$C108,'9 programa 3 lentelė'!$C95,'9 programa 3 lentelė'!G7:G108) -> 0 | G9: =SUMIF('9 programa 3 lentelė'!$C7:$C108,'9 programa 3 lentelė'!$C95,'9 programa 3 lentelė'!H7:H108) -> 0
B10: 1.3. | C10: pajamų įmokos ir kitos pajamos | D10: {=SUMIF('9 programa 3 lentelė'!$C7:$C108,C00,'9 programa 3 lentelė'!E7:E108)} -> 0 | E10: {=SUMIF('9 programa 3 lentelė'!$C7:$C108,C00,'9 programa 3 lentelė'!F7:F108)} -> 0 | F10: {=SUMIF('9 programa 3 lentelė'!$C7:$C108,C00,'9 programa 3 lentelė'!G7:G108)} -> 0 | G10: {=SUMIF('9 programa 3 lentelė'!$C7:$C108,C00,'9 programa 3 lentelė'!H7:H108)} -> 0
B11: 1.4. | C11: Europos Sąjungos ir kitos tarptautinės finansinės paramos lėšos | D11: {=SUMIF('9 programa 3 lentelė'!$C7:$C108,C00,'9 programa 3 lentelė'!E7:E108)} -> 0 | E11: {=SUMIF('9 programa 3 lentelė'!$C7:$C108,C00,'9 programa 3 lentelė'!F7:F108)} -> 0 | F11: {=SUMIF('9 programa 3 lentelė'!$C7:$C108,C00,'9 programa 3 lentelė'!G7:G108)} -> 0 | G11: {=SUMIF('9 programa 3 lentelė'!$C7:$C108,C00,'9 programa 3 lentelė'!H7:H108)} -> 0
B12: 1.5. | C12: skolintos lėšos | D12: =SUMIF('9 programa 3 lentelė'!$C7:$C109,'9 programa 3 lentelė'!$C34,'9 programa 3 lentelė'!E7:E109) -> 0 | E12: =SUMIF('9 programa 3 lentelė'!$C7:$C109,'9 programa 3 lentelė'!$C34,'9 programa 3 lentelė'!F7:F109) -> 0 | F12: =SUMIF('9 programa 3 lentelė'!$C7:$C109,'9 programa 3 lentelė'!$C34,'9 programa 3 lentelė'!G7:G109) -> 63.8 | G12: =SUMIF('9 programa 3 lentelė'!$C7:$C109,'9 programa 3 lentelė'!$C34,'9 programa 3 lentelė'!H7:H109) -> 0
B13: 1.6. | C13: ankstesnių metų likučiai | D13: {=SUMIF('9 programa 3 lentelė'!$C7:$C108,C00,'9 programa 3 lentelė'!E7:E108)} -> 0 | E13: =SUMIF('9 programa 3 lentelė'!$C7:$C108,'9 programa 3 lentelė'!C63,'9 programa 3 lentelė'!F7:F108) -> 23.5 | F13: {=SUMIF('9 programa 3 lentelė'!$C7:$C108,C00,'9 programa 3 lentelė'!G7:G108)} -> 0 | G13: {=SUMIF('9 programa 3 lentelė'!$C7:$C108,C00,'9 programa 3 lentelė'!H7:H108)} -> 0
B14: 2. | C14: Kiti šaltiniai (Europos Sąjungos finansinė parama projektams įgyvendinti ir kitos teisėtai gautos lėšos, nurodant atskirus šaltinius) | D14: =SUM(D15:D21) -> 54.2 | E14: =SUM(E15:E21) -> 131.7 | F14: =SUM(F15:F21) -> 473.3 | G14: =SUM(G15:G21) -> 473.3
C15: Iš jo:
B16: 2.1. | C16: Europos Sąjungos paramos lėšos | D16: =SUMIF('9 programa 3 lentelė'!$C7:$C108,'9 programa 3 lentelė'!$C60,'9 programa 3 lentelė'!E7:E108) -> 54.2 | E16: =SUMIF('9 programa 3 lentelė'!$C7:$C108,'9 programa 3 lentelė'!$C60,'9 programa 3 lentelė'!F7:F108) -> 19.7 | F16: =SUMIF('9 programa 3 lentelė'!$C7:$C108,'9 programa 3 lentelė'!$C60,'9 programa 3 lentelė'!G7:G108) -> 361.3 | G16: =SUMIF('9 programa 3 lentelė'!$C7:$C108,'9 programa 3 lentelė'!$C60,'9 programa 3 lentelė'!H7:H108) -> 361.3
B17: 2.2. | C17: Privalomojo sveikatos draudimo fondo lėšos | D17: {=SUMIF('9 programa 3 lentelė'!$C7:$C108,'9 programa 3 lentelė'!C00,'9 programa 3 lentelė'!E7:E108)} -> 0 | E17: {=SUMIF('9 programa 3 lentelė'!$C7:$C108,'9 programa 3 lentelė'!C00,'9 programa 3 lentelė'!F7:F108)} -> 0 | F17: {=SUMIF('9 programa 3 lentelė'!$C7:$C108,'9 programa 3 lentelė'!C00,'9 programa 3 lentelė'!G7:G108)} -> 0 | G17: {=SUMIF('9 programa 3 lentelė'!$C7:$C108,'9 programa 3 lentelė'!C00,'9 programa 3 lentelė'!H7:H108)} -> 0
B18: 2.3. | C18: Klaipėdos valstybinio jūrų uosto direkcijos lėšos (KVJUD) | D18: {=SUMIF('9 programa 3 lentelė'!$C7:$C108,'9 programa 3 lentelė'!C00,'9 programa 3 lentelė'!E7:E108)} -> 0 | E18: {=SUMIF('9 programa 3 lentelė'!$C7:$C108,'9 programa 3 lentelė'!C00,'9 programa 3 lentelė'!F7:F108)} -> 0 | F18: {=SUMIF('9 programa 3 lentelė'!$C7:$C108,'9 programa 3 lentelė'!C00,'9 programa 3 lentelė'!G7:G108)} -> 0 | G18: {=SUMIF('9 programa 3 lentelė'!$C7:$C108,'9 programa 3 lentelė'!C00,'9 programa 3 lentelė'!H7:H108)} -> 0
B19: 2.4. | C19: Valstybės biudžeto lėšos (LRVB) | D19: {=SUMIF('9 programa 3 lentelė'!$C7:$C108,'9 programa 3 lentelė'!C00,'9 programa 3 lentelė'!E7:E108)} -> 0 | E19: =SUMIF('9 programa 3 lentelė'!$C7:$C108,'9 programa 3 lentelė'!C98,'9 programa 3 lentelė'!F7:F108) -> 112 | F19: =SUMIF('9 programa 3 lentelė'!$C7:$C108,'9 programa 3 lentelė'!C98,'9 programa 3 lentelė'!G7:G108) -> 112 | G19: =SUMIF('9 programa 3 lentelė'!$C7:$C108,'9 programa 3 lentelė'!C98,'9 programa 3 lentelė'!H7:H108) -> 112
B20: 2.5. | C20: Kiti finansavimo šaltiniai | D20: {=SUMIF('9 programa 3 lentelė'!$C7:$C108,'9 programa 3 lentelė'!C00,'9 programa 3 lentelė'!E7:E108)} -> 0 | E20: {=SUMIF('9 programa 3 lentelė'!$C7:$C108,'9 programa 3 lentelė'!C00,'9 programa 3 lentelė'!F7:F108)} -> 0 | F20: {=SUMIF('9 programa 3 lentelė'!$C7:$C108,'9 programa 3 lentelė'!C00,'9 programa 3 lentelė'!G7:G108)} -> 0 | G20: {=SUMIF('9 programa 3 lentelė'!$C7:$C108,'9 programa 3 lentelė'!C00,'9 programa 3 lentelė'!H7:H108)} -> 0
B21: 2.6. | C21: Kelių priežiūros ir plėtros programos lėšos (KPP) | D21: {=SUMIF('9 programa 3 lentelė'!$C7:$C108,'9 programa 3 lentelė'!C00,'9 programa 3 lentelė'!E7:E108)} -> 0 | E21: {=SUMIF('9 programa 3 lentelė'!$C7:$C108,'9 programa 3 lentelė'!C00,'9 programa 3 lentelė'!F7:F108)} -> 0 | F21: {=SUMIF('9 programa 3 lentelė'!$C7:$C108,'9 programa 3 lentelė'!C00,'9 programa 3 lentelė'!G7:G108)} -> 0 | G21: {=SUMIF('9 programa 3 lentelė'!$C7:$C108,'9 programa 3 lentelė'!C00,'9 programa 3 lentelė'!H7:H108)} -> 0
C22: IŠ VISO programai finansuoti pagal finansavimo šaltinius (1 ir 2 punktai) | D22: =D6+D14 -> 557.8 | E22: =E6+E14 -> 837 | F22: =F6+F14 -> 1336.3 | G22: =G6+G14 -> 1389.6
C23: Iš jų: regioninių pažangos priemonių lėšos | D23: ='9 programa 3 lentelė'!E108 -> 0 | E23: ='9 programa 3 lentelė'!F108 -> 0 | F23: ='9 programa 3 lentelė'!G108 -> 425.1 | G23: ='9 programa 3 lentelė'!H108 -> 425.1
C24: Asignavimų ir kitų lėšų pokytis, palyginti su ankstesnių metų patvirtintų asignavimų ir kitų lėšų planu | E24: =E22-D22 -> 279.2 | F24: =F22-E22 -> 499.3 | G24: =G22-F22 -> 53.3
