Workbook

Sheet 002 programa 3 lentelė
H1: Aiškinamojo rašto
H2: 1 priedas
B4: 3 lentelė. Klaipėdos miesto savivaldybės 2024–2027 metų 002 Ekonominės plėtros programos uždaviniai, priemonės, asignavimai ir kitos lėšos (tūkst. eurų)
B5: Programos uždavinio, priemonės kodas ir požymis | C5: Uždavinio, priemonės pavadinimas, finansavimo šaltiniai | D5: Vykdytojas (padalinys / asmuo) | E5: 2024 metų asignavimai ir kitos lėšos | F5: 2025 metų asignavimai ir kitos lėšos | G5: 2026 metų asignavimai ir kitos lėšos | H5: 2027 metų asignavimai ir kitos lėšos | I5: Savivaldybės strateginio plėtros plano priemonės kodas
B6: 1 | C6: 2 | D6: 3 | E6: 4 | F6: 5 | G6: 6 | H6: 7 | I6: 8
B7: 002-01 (T) | C7: Uždavinys: Plėtoti turizmo ir rekreacijos infrastruktūrą bei paslaugas
B8: 002-01-01 (TP) | C8: Priemonė: Klaipėdos miesto turizmo informacinės sistemos plėtojimas
B9: 002-01-01-01 | C9: Atvykstamojo ir vietinio turizmo skatinimo Klaipėdoje programos įgyvendinimas | D9: KSTD Turizmo skyrius | I9: 1.2.2.1. 1.2.2.3.
C10: Savivaldybės biudžeto lėšos (nuosavos, be ankstesnių metų likučio) | E10: =395.7+24.5 -> 420.2 | F10: =421.5+15 -> 436.5 | G10: 409 | H10: 407.7
C11: Klaipėdos turistinių objektų įtraukimas į regioninius turizmo maršrutus, išnaudojant juos miestui pozicionuoti tarptautiniame kontekste | I11: 1.2.1.4.
C12: Savivaldybės biudžeto lėšos (nuosavos, be ankstesnių metų likučio) | E12: 5
B13: 02-01-01-02 | C13: Klaipėdos miesto turizmo plėtros strategijos sukūrimas ir įgyvendinimas
C14: Savivaldybės biudžeto lėšos (nuosavos, be ankstesnių metų likučio) | E14: 12.6
C15: Ankstesnių metų likučiai | F15: 12.6
B16: 002-01-01-03 | C16: Klaipėdos, kaip svetingo, konkurencingo ir išskirtinę vertę kuriančio turizmo traukos centro vystymas | D16: KSTD Turizmo skyrius
C17: Savivaldybės biudžeto lėšos (nuosavos, be ankstesnių metų likučio) | F17: =400+15+30+5 -> 450 | G17: =445-30 -> 415 | H17: =445-30 -> 415
C18: Savivaldybės biudžetas (įskaitant skolintas lėšas) | E18: =+E20 -> 437.8 | F18: =+F20+F21 -> 899.1 | G18: =+G20 -> 824 | H18: =+H20 -> 822.7
C19: Iš jo:
C20: Savivaldybės biudžeto lėšos (nuosavos, be ankstesnių metų likučio)' | E20: =SUMIF($C9:$C17,$C10,E9:E17) -> 437.8 | F20: =SUMIF($C9:$C17,$C10,F9:F17) -> 886.5 | G20: =SUMIF($C9:$C17,$C10,G9:G17) -> 824 | H20: =SUMIF($C9:$C17,$C10,H9:H17) -> 822.7
C21: Ankstesnių metų likučiai' | E21: =SUMIF($C10:$C18,$C11,E10:E18) -> 0 | F21: =SUMIF($C10:$C17,$C15,F10:F17) -> 12.6
B22: 002-01-02 (PP) | C22: Priemonė: Turistų traukos centrų formavimas gerinant rekreacijos infrastruktūrą
B23: 002-01-02-01 | C23: Klaipėdos pilies ir bastionų komplekso restauravimas ir atgaivinimas (II etapas, pilies didžiojo bokšto atkūrimas) | D23: Projektų skyrius | I23: 3.2.3.3.
C24: Savivaldybės biudžeto lėšos (nuosavos, be ankstesnių metų likučio) | F24: =621.9+270+90 -> 981.9
C25: Ankstesnių metų likučiai | E25: 429.1 | F25: 218.6
C26: Skolintos lėšos | E26: =1000+500 -> 1500
B27: 002-01-02-02 | C27: Klaipėdos pilies didžiojo bokšto įveiklinimas ir pritaikymas įvairių grupių poreikiams | D27: Mažosios Lietuvos istorijos muziejus Projektų skyrius
C28: Savivaldybės biudžeto lėšos (nuosavos, be ankstesnių metų likučio) | F28: 29.9 | G28: =105.1-90 -> 15.1 | H28: 105.5
C29: Skolintos lėšos | G29: 90
C30: Kiti šaltiniai (Europos Sąjungos paramos lėšos) | F30: 85.2 | G30: 299.1 | H30: 300.4
B31: 002-01-02-03 | C31: Istorinių krantinių sutvarkymas | D31: Aplinkosaugos ir miesto tvarkymo skyrius | I31: 3.2.3.3.
C32: Savivaldybės biudžeto lėšos (nuosavos, be ankstesnių metų likučio) | F32: 78 | G32: 305 | H32: 305
C33: Savivaldybės biudžetas (įskaitant skolintas lėšas) | E33: =+E35+E36+E37 -> 1929.1 | F33: =F35+F37+F36 -> 1308.4 | G33: =+G35+G36+G37 -> 410.1 | H33: =+H35+H36+H37 -> 410.5
C34: Iš jo:
C35: Savivaldybės biudžeto lėšos (nuosavos, be ankstesnių metų likučio)' | E35: =SUMIF($C23:$C32,$C24,E23:E32) -> 0 | F35: =SUMIF($C23:$C32,$C24,F23:F32) -> 1089.8 | G35: =SUMIF($C23:$C32,$C24,G23:G32) -> 320.1 | H35: =SUMIF($C23:$C32,$C24,H23:H32) -> 410.5
C36: Skolintos lėšos' | E36: =SUMIF($C23:$C32,$C26,E23:E32) -> 1500 | F36: =SUMIF($C23:$C32,$C26,F23:F32) -> 0 | G36: =SUMIF($C23:$C32,$C26,G23:G32) -> 90 | H36: =SUMIF($C23:$C32,$C26,H23:H32) -> 0
C37: Ankstesnių metų likučiai' | E37: =SUMIF($C23:$C32,$C25,E23:E32) -> 429.1 | F37: =SUMIF($C23:$C32,$C25,F23:F32) -> 218.6 | G37: =SUMIF($C23:$C32,$C25,G23:G32) -> 0 | H37: =SUMIF($C23:$C32,$C25,H23:H32) -> 0
C38: Kiti šaltiniai | E38: =+E40 -> 0 | F38: =+F40 -> 85.2 | G38: =+G40 -> 299.1 | H38: =+H40 -> 300.4
C39: Iš jų:
C40: Kiti šaltiniai (Europos Sąjungos paramos lėšos)' | E40: =+E30 -> 0 | F40: =F30 -> 85.2 | G40: =G30 -> 299.1 | H40: =H30 -> 300.4
B41: 002-02 (T) | C41: Uždavinys: Gerinti verslo ir investicinę aplinką Klaipėdos mieste
B42: 002-02-01 (TP) | C42: Priemonė: Klaipėdos miesto verslo paramos ir investicinės aplinkos gerinimo sistemos plėtojimas
C43: Klaipėdos miesto ekonominės plėtros strategijos įgyvendinimo veiksmų plano iki 2030 metų priemonių, susijusių su miesto rinkodara, investuotojų pritraukimu, verslumo skatinimu, įgyvendinimas | D43: KSTD Turizmo skyrius | I43: 1.1.1.1. 1.1.1.4. 1.1.1.6. 1.1.1.7. 1.1.1.8. 1.1.2.2.
C44: Savivaldybės biudžeto lėšos (nuosavos, be ankstesnių metų likučio) | E44: 186.5
B45: 002-02-01-01 | C45: Klaipėdos miesto ekonominės plėtros strategijos iki 2030 m. atnaujinimas | D45: Strateginio planavimo skyrius
C46: Savivaldybės biudžeto lėšos (nuosavos, be ankstesnių metų likučio) | E46: 14.6
C47: Ankstesnių metų likučiai | F47: 8.8
C48: Kūrybinių technologijų (programavimas, 3D modeliavimas, dirbtinis intelektas ir kt.) kompetencijų ugdymas pradinėse mokyklose | D48: ŠSD Švietimo skyrius
C49: Savivaldybės biudžeto lėšos (nuosavos, be ankstesnių metų likučio) | E49: =21+35-35 -> 21
B50: 002-02-01-02 | C50: Viešųjų paslaugų smulkiojo ir vidutinio verslo (SVV) subjektams teikimas verslo inkubatoriuje | D50: KSTD Turizmo skyrius | I50: 1.1.1.7. 1.1.2.2. 1.1.2.3.
C51: Savivaldybės biudžeto lėšos (nuosavos, be ankstesnių metų likučio) | E51: 140.8 | F51: 275 | G51: 275 | H51: 275
C52: Verslo plėtros sąlygų gerinimas | D52: KSTD Turizmo skyrius | I52: 1.1.1.8. 1.1.2.3. 1.1.2.4.
C53: Savivaldybės biudžeto lėšos (nuosavos, be ankstesnių metų likučio) | E53: 102.2 | F53: =37.8-37.8 -> 0 | G53: =48.6-48.6 -> 0 | H53: =54-54 -> 0
B54: 002-02-01-03 | C54: Projekto „Inkubavimo, konsultavimo, mentorystės ir tinklaveikos programų vystymas, skatinant pradedančiųjų smulkiojo ir vidutinio verslo subjektų kūrimąsi ir augimą regionuose“ įgyvendinimas | D54: KSTD Turizmo skyrius
C55: Savivaldybės biudžeto lėšos (nuosavos, be ankstesnių metų likučio) | E55: 4 | F55: 4 | G55: 4
B56: 002-02-01-04 | C56: Klaipėdos regiono pasiekiamumo ir žinomumo didinimas | D56: KSTD Turizmo skyrius
C57: Savivaldybės biudžeto lėšos (nuosavos, be ankstesnių metų likučio) | E57: 61.7 | F57: 61.7 | G57: 61.7
B58: 002-02-01-05 | C58: Klaipėdos miesto savivaldybės rinkodaros priemonių įgyvendinimas | D58: Rinkodaros skyrius
C59: Savivaldybės biudžeto lėšos (nuosavos, be ankstesnių metų likučio) | F59: 195 | G59: 224 | H59: 195
C60: Savivaldybės biudžetas (įskaitant skolintas lėšas) | E60: =+E62+E63 -> 530.8 | F60: =+F62+F63 -> 544.5 | G60: =+G62+G63 -> 564.7 | H60: =+H62+H63 -> 470
C61: Iš jo:
C62: Savivaldybės biudžeto lėšos (nuosavos, be ankstesnių metų likučio)' | E62: =SUMIF($C43:$C59,$C44,E43:E59) -> 530.8 | F62: =SUMIF($C43:$C59,$C44,F43:F59) -> 535.7 | G62: =SUMIF($C43:$C59,$C44,G43:G59) -> 564.7 | H62: =SUMIF($C43:$C59,$C44,H43:H59) -> 470
C63: Ankstesnių metų likučiai' | E63: =SUMIF($C43:$C59,C47,E43:E59) -> 0 | F63: =SUMIF($C44:$C60,$C47,F44:F59) -> 8.8 | G63: {=SUMIF($C43:$C57,C00,G43:G57)} -> 0 | H63: {=SUMIF($C43:$C57,C00,H43:H57)} -> 0
B64: 002-02-02 | C64: Priemonė: Klaipėdos LEZ infrastruktūros išvystymas
B65: 002-02-02-01 | C65: Lypkių g. ir kelio 141 sankryžos I etapo I poetapio nauja statyba (nuovažos į (iš) kelio (-ią) 141 į Lypkių g.) „Valstybinės reikšmės krašto kelio Nr. 141 Kaunas–Jurbarkas–Šilutė–Klaipėda ruožo nuo 227,00 iki 228,64 km rekonstravimo projektas“ | D65: Projektų skyrius, MVPD Statybos skyrius
C66: Kiti šaltiniai (valstybės biudžeto lėšos) | F66: 1607 | G66: 1604 | H66: 1899.6
B67: 002-02-02-02 | C67: Kretainio g. II, III ir IV etapų nauja statyba | D67: Projektų skyrius, MVPD Statybos skyrius
C68: Kiti šaltiniai (valstybės biudžeto lėšos) | F68: 1314.4 | G68: 1774
B69: 002-02-02-03 | C69: Krašto kelio 141 ir sankryžos su Švepelių g. rekonstrukcija (esamos nuovažos iš Švepelių g. į krašto kelią 141 Klaipėda–Jurbarkas–Kaunas rekonstrukcija) | D69: Projektų skyrius, MVPD Statybos skyrius
C70: Kiti šaltiniai (valstybės biudžeto lėšos) | F70: 100 | G70: 1563
B71: 002-02-02-04 | C71: Vandentiekio ir nuotekų tinklų demontavimas buvusiame Lypkių k. | D71: Projektų skyrius, MVPD Statybos skyrius
C72: Kiti šaltiniai (valstybės biudžeto lėšos) | G72: 57
B73: 002-02-02-05 | C73: Pramonės g. II etapo rekonstrukcija „Klaipėdos miesto Pramonės gatvės dalies, Švepelių gatvės dalies ir Aklikelio D2 kapitalinio remonto, lietaus nuotekų tinklų rekonstravimo, Klaipėdos m. sav., projektas“ | D73: Projektų skyrius, MVPD Statybos skyrius
C74: Kiti šaltiniai (valstybės biudžeto lėšos) | G74: 2315 | H74: 2513
B75: 002-02-02-06 | C75: Nuo Antrojo pasaulinio karo likusių sprogmenų pašalinimas iš LEZ teritorijos | D75: Projektų skyrius, MVPD Statybos skyrius
C76: Kiti šaltiniai (valstybės biudžeto lėšos) | G76: 203 | H76: 420
C77: Savivaldybės biudžetas (įskaitant skolintas lėšas)
C78: Iš jo:
C79: Savivaldybės biudžeto lėšos (nuosavos, be ankstesnių metų likučio)'
C80: Ankstesnių metų likučiai'
C81: Kiti šaltiniai | E81: =+E83 -> 0 | F81: =+F83 -> 3021.4 | G81: =G83 -> 7516 | H81: =H83 -> 4832.6
C82: Iš jų:
C83: Kiti šaltiniai (valstybės biudžeto lėšos)' | E83: =SUMIF($C67:$C80,$C68,E67:E80) -> 0 | F83: =SUMIF($C65:$C76,$C68,F65:F76) -> 3021.4 | G83: =SUMIF($C65:$C76,$C68,G65:G76) -> 7516 | H83: =SUMIF($C65:$C76,$C68,H65:H76) -> 4832.6
C84: IŠ VISO programai finansuoti pagal finansavimo šaltinius | E84: =+E18+E33+E60 -> 2897.7 | F84: =+F18+F33+F60+F38+F81 -> 5858.6 | G84: =+G18+G33+G60+G38+G81 -> 9613.9 | H84: =+H18+H33+H60+H38+H81 -> 6836.2
C85: Iš jų: regioninių pažangos priemonių lėšos | E85: 0 | F85: 0 | G85: 0 | H85: 0
C86: Asignavimų ir kitų lėšų pokytis, palyginti su ankstesnių metų patvirtintų asignavimų ir kitų lėšų planu | F86: =+F84-E84 -> 2960.9 | G86: =+G84-F84 -> 3755.3 | H86: =+H84-G84 -> -2777.7
B89: T – tęstinės veiklos uždavinys.
B90: P – pažangos uždavinys.
B91: TP – tęstinės veiklos priemonė.
B92: PP – pažangos priemonė.
B94: KSTD – Kultūros, sporto ir turizmo departamentas.

Sheet Lėšų suvestinė 2 lentelė
B1: 2 lentelė. 2024–2027 metų asignavimų ir kitų lėšų pasiskirstymas (tūkst. Eur)
B3: Eil. Nr. | C3: Programos kodas ir pavadinimas | D3: 2024 m. asignavimai ir kitos lėšos | E3: 2025 m. asignavimai ir kitos lėšos | F3: 2026 m. asignavimai ir kitos lėšos | G3: 2027 m. asignavimai ir kitos lėšos
B4: 1 | C4: 2 | D4: 3 | E4: 4 | F4: 5 | G4: 6
B5: 002 Ekonominės plėtros programa
B6: 1. | C6: Savivaldybės biudžetas (įskaitant skolintas lėšas) | D6: =+D8+D9+D10+D11+D12+D13 -> 2897.7 | E6: =+E8+E9+E10+E11+E12+E13 -> 2752 | F6: =+F8+F9+F10+F11+F12+F13 -> 1798.8 | G6: =+G8+G9+G10+G11+G12+G13 -> 1703.2
C7: Iš jo:
B8: 1.1. | C8: savivaldybės biudžeto lėšos (nuosavos, be ankstesnių metų likučio) | D8: =SUMIF('002 programa 3 lentelė'!$C7:$C86,'002 programa 3 lentelė'!$C10,'002 programa 3 lentelė'!E7:E86) -> 968.6 | E8: =SUMIF('002 programa 3 lentelė'!$C7:$C86,'002 programa 3 lentelė'!$C10,'002 programa 3 lentelė'!F7:F86) -> 2512 | F8: =SUMIF('002 programa 3 lentelė'!$C7:$C86,'002 programa 3 lentelė'!$C10,'002 programa 3 lentelė'!G7:G86) -> 1708.8 | G8: =SUMIF('002 programa 3 lentelė'!$C7:$C86,'002 programa 3 lentelė'!$C10,'002 programa 3 lentelė'!H7:H86) -> 1703.2
B9: 1.2. | C9: Lietuvos Respublikos valstybės biudžeto dotacijos | D9: {=SUMIF('002 programa 3 lentelė'!$C7:$C86,'002 programa 3 lentelė'!C00,'002 programa 3 lentelė'!E7:E86)} -> 0 | E9: {=SUMIF('002 programa 3 lentelė'!$C7:$C86,'002 programa 3 lentelė'!C00,'002 programa 3 lentelė'!F7:F86)} -> 0 | F9: {=SUMIF('002 programa 3 lentelė'!$C7:$C86,'002 programa 3 lentelė'!C00,'002 programa 3 lentelė'!G7:G86)} -> 0 | G9: {=SUMIF('002 programa 3 lentelė'!$C7:$C86,'002 programa 3 lentelė'!C00,'002 programa 3 lentelė'!H7:H86)} -> 0
B10: 1.3. | C10: pajamų įmokos ir kitos pajamos | D10: {=SUMIF('002 programa 3 lentelė'!$C7:$C86,'002 programa 3 lentelė'!C00,'002 programa 3 lentelė'!E7:E86)} -> 0 | E10: {=SUMIF('002 programa 3 lentelė'!$C7:$C86,'002 programa 3 lentelė'!C00,'002 programa 3 lentelė'!F7:F86)} -> 0 | F10: {=SUMIF('002 programa 3 lentelė'!$C7:$C86,'002 programa 3 lentelė'!C00,'002 programa 3 lentelė'!G7:G86)} -> 0 | G10: {=SUMIF('002 programa 3 lentelė'!$C7:$C86,'002 programa 3 lentelė'!C00,'002 programa 3 lentelė'!H7:H86)} -> 0
B11: 1.4. | C11: Europos Sąjungos ir kitos tarptautinės finansinės paramos lėšos | D11: {=SUMIF('002 programa 3 lentelė'!$C7:$C86,'002 programa 3 lentelė'!C00,'002 programa 3 lentelė'!E7:E86)} -> 0 | E11: {=SUMIF('002 programa 3 lentelė'!$C7:$C86,'002 programa 3 lentelė'!C00,'002 programa 3 lentelė'!F7:F86)} -> 0 | F11: {=SUMIF('002 programa 3 lentelė'!$C7:$C86,'002 programa 3 lentelė'!C00,'002 programa 3 lentelė'!G7:G86)} -> 0 | G11: {=SUMIF('002 programa 3 lentelė'!$C7:$C86,'002 programa 3 lentelė'!C00,'002 programa 3 lentelė'!H7:H86)} -> 0
B12: 1.5. | C12: skolintos lėšos | D12: =SUMIF('002 programa 3 lentelė'!$C7:$C86,'002 programa 3 lentelė'!$C26,'002 programa 3 lentelė'!E7:E86) -> 1500 | E12: =SUMIF('002 programa 3 lentelė'!$C7:$C86,'002 programa 3 lentelė'!$C26,'002 programa 3 lentelė'!F7:F86) -> 0 | F12: =SUMIF('002 programa 3 lentelė'!$C7:$C86,'002 programa 3 lentelė'!$C26,'002 programa 3 lentelė'!G7:G86) -> 90 | G12: =SUMIF('002 programa 3 lentelė'!$C7:$C86,'002 programa 3 lentelė'!$C26,'002 programa 3 lentelė'!H7:H86) -> 0
B13: 1.6. | C13: ankstesnių metų likučiai | D13: =SUMIF('002 programa 3 lentelė'!$C7:$C86,'002 programa 3 lentelė'!$C25,'002 programa 3 lentelė'!E7:E86) -> 429.1 | E13: =SUMIF('002 programa 3 lentelė'!$C7:$C86,'002 programa 3 lentelė'!$C25,'002 programa 3 lentelė'!F7:F86) -> 240 | F13: =SUMIF('002 programa 3 lentelė'!$C7:$C86,'002 programa 3 lentelė'!$C25,'002 programa 3 lentelė'!G7:G86) -> 0 | G13: =SUMIF('002 programa 3 lentelė'!$C7:$C86,'002 programa 3 lentelė'!$C25,'002 programa 3 lentelė'!H7:H86) -> 0
B14: 2. | C14: Kiti šaltiniai (Europos Sąjungos finansinė parama projektams įgyvendinti ir kitos teisėtai gautos lėšos, nurodant atskirus šaltinius) | D14: =+D16+D17+D18+D19+D20+D21 -> 0 | E14: =+E16+E17+E18+E19+E20+E21 -> 3106.6 | F14: =+F16+F17+F18+F19+F20+F21 -> 7815.1 | G14: =+G16+G17+G18+G19+G20+G21 -> 5133
C15: Iš jo:
B16: 2.1. | C16: Europos Sąjungos paramos lėšos | D16: {=SUMIF('002 programa 3 lentelė'!$C7:$C86,'002 programa 3 lentelė'!C00,'002 programa 3 lentelė'!E7:E86)} -> 0 | E16: =SUMIF('002 programa 3 lentelė'!$C7:$C86,'002 programa 3 lentelė'!C30,'002 programa 3 lentelė'!F7:F86) -> 85.2 | F16: =SUMIF('002 programa 3 lentelė'!$C7:$C86,'002 programa 3 lentelė'!C30,'002 programa 3 lentelė'!G7:G86) -> 299.1 | G16: =SUMIF('002 programa 3 lentelė'!$C7:$C86,'002 programa 3 lentelė'!C30,'002 programa 3 lentelė'!H7:H86) -> 300.4
B17: 2.2. | C17: Privalomojo sveikatos draudimo fondo lėšos | D17: {=SUMIF('002 programa 3 lentelė'!$C7:$C86,'002 programa 3 lentelė'!C00,'002 programa 3 lentelė'!E7:E86)} -> 0 | E17: {=SUMIF('002 programa 3 lentelė'!$C7:$C86,'002 programa 3 lentelė'!C00,'002 programa 3 lentelė'!F7:F86)} -> 0 | F17: {=SUMIF('002 programa 3 lentelė'!$C7:$C86,'002 programa 3 lentelė'!C00,'002 programa 3 lentelė'!G7:G86)} -> 0 | G17: {=SUMIF('002 programa 3 lentelė'!$C7:$C86,'002 programa 3 lentelė'!C00,'002 programa 3 lentelė'!H7:H86)} -> 0
B18: 2.3. | C18: Klaipėdos valstybinio jūrų uosto direkcijos lėšos (KVJUD) | D18: {=SUMIF('002 programa 3 lentelė'!$C7:$C86,'002 programa 3 lentelė'!C00,'002 programa 3 lentelė'!E7:E86)} -> 0 | E18: {=SUMIF('002 programa 3 lentelė'!$C7:$C86,'002 programa 3 lentelė'!C00,'002 programa 3 lentelė'!F7:F86)} -> 0 | F18: {=SUMIF('002 programa 3 lentelė'!$C7:$C86,'002 programa 3 lentelė'!C00,'002 programa 3 lentelė'!G7:G86)} -> 0 | G18: {=SUMIF('002 programa 3 lentelė'!$C7:$C86,'002 programa 3 lentelė'!C00,'002 programa 3 lentelė'!H7:H86)} -> 0
B19: 2.4. | C19: Valstybės biudžeto lėšos (LRVB) | D19: =SUMIF('002 programa 3 lentelė'!$C7:$C86,'002 programa 3 lentelė'!C74,'002 programa 3 lentelė'!E7:E86) -> 0 | E19: =SUMIF('002 programa 3 lentelė'!$C7:$C86,'002 programa 3 lentelė'!C74,'002 programa 3 lentelė'!F7:F86) -> 3021.4 | F19: =SUMIF('002 programa 3 lentelė'!$C7:$C86,'002 programa 3 lentelė'!C74,'002 programa 3 lentelė'!G7:G86) -> 7516 | G19: =SUMIF('002 programa 3 lentelė'!$C7:$C86,'002 programa 3 lentelė'!C74,'002 programa 3 lentelė'!H7:H86) -> 4832.6
B20: 2.5. | C20: Kiti finansavimo šaltiniai | D20: =SUMIF('002 programa 3 lentelė'!$C7:$C86,'002 programa 3 lentelė'!C74,'002 programa 3 lentelė'!E7:E86) -> 0 | E20: {=SUMIF('002 programa 3 lentelė'!$C7:$C86,'002 programa 3 lentelė'!C00,'002 programa 3 lentelė'!F7:F86)} -> 0 | F20: {=SUMIF('002 programa 3 lentelė'!$C7:$C86,'002 programa 3 lentelė'!C00,'002 programa 3 lentelė'!G7:G86)} -> 0 | G20: {=SUMIF('002 programa 3 lentelė'!$C7:$C86,'002 programa 3 lentelė'!C00,'002 programa 3 lentelė'!H7:H86)} -> 0
B21: 2.6. | C21: Kelių priežiūros ir plėtros programos lėšos (KPP) | D21: {=SUMIF('002 programa 3 lentelė'!$C7:$C86,'002 programa 3 lentelė'!C00,'002 programa 3 lentelė'!E7:E86)} -> 0 | E21: {=SUMIF('002 programa 3 lentelė'!$C7:$C86,'002 programa 3 lentelė'!C00,'002 programa 3 lentelė'!F7:F86)} -> 0 | F21: {=SUMIF('002 programa 3 lentelė'!$C7:$C86,'002 programa 3 lentelė'!C00,'002 programa 3 lentelė'!G7:G86)} -> 0 | G21: {=SUMIF('002 programa 3 lentelė'!$C7:$C86,'002 programa 3 lentelė'!C00,'002 programa 3 lentelė'!H7:H86)} -> 0
C22: IŠ VISO programai finansuoti pagal finansavimo šaltinius (1 ir 2 punktai) | D22: =+D6+D14 -> 2897.7 | E22: =+E6+E14 -> 5858.6 | F22: =+F6+F14 -> 9613.9 | G22: =+G6+G14 -> 6836.2
C23: Iš jų: regioninių pažangos priemonių lėšos | D23: =+'002 programa 3 lentelė'!E85 -> 0 | E23: =+'002 programa 3 lentelė'!F85 -> 0 | F23: =+'002 programa 3 lentelė'!G85 -> 0 | G23: =+'002 programa 3 lentelė'!H85 -> 0
C24: Asignavimų ir kitų lėšų pokytis, palyginti su ankstesnių metų patvirtintų asignavimų ir kitų lėšų planu | E24: =+'002 programa 3 lentelė'!F86 -> 2960.9 | F24: =+'002 programa 3 lentelė'!G86 -> 3755.3 | G24: =+'002 programa 3 lentelė'!H86 -> -2777.7
