Workbook

Sheet 12 programa 3 lentelė
H1: Aiškinamojo rašto
H2: 1 priedas
B4: 3 lentelė. Klaipėdos miesto savivaldybės 2024–2027 metų 012 Socialinės atskirties mažinimo programos uždaviniai, priemonės, asignavimai ir kitos lėšos (tūkst. eurų)
B5: Programos uždavinio, priemonės kodas ir požymis | C5: Uždavinio, priemonės pavadinimas, finansavimo šaltiniai | D5: Vykdytojas (padalinys / asmuo) | E5: 2024 metų asignavimai ir kitos lėšos | F5: 2025 metų asignavimai ir kitos lėšos | G5: 2026 metų asignavimai ir kitos lėšos | H5: 2027 metų asignavimai ir kitos lėšos | I5: Savivaldybės strateginio plėtros plano priemonės kodas
B6: 1 | C6: 2 | D6: 3 | E6: 4 | F6: 5 | G6: 6 | H6: 7 | I6: 8
B7: 012-01 (T) | C7: Uždavinys: Užtikrinti Lietuvos Respublikos įstatymais, Vyriausybės nutarimais ir kitais teisės aktais numatytos socialinės paramos teikimą
B8: 012-01-01 (TP) | C8: Priemonė: Socialinių paslaugų ir kitos socialinės paramos teikimas
B9: 012-01-01-01 | C9: Piniginės socialinės paramos nepasiturinčioms šeimoms ir vieniems gyvenantiems asmenims bei paramos mirties atveju teikimas, išmokant pašalpas ir kompensacijas
C10: Savivaldybės biudžeto lėšos (nuosavos, be ankstesnių metų likučio) | D10: SGD Socialinių išmokų skyriai 1 ir 2 | E10: =4863.5+685.5 -> 5549 | F10: 5023.2 | G10: 5023.2 | H10: 5023.2
C11: Lietuvos Respublikos valstybės biudžeto dotacijos | E11: 1142.7 | F11: =923.7+8.5 -> 932.2 | G11: 932.2 | H11: 932.2
C12: Lietuvos Respublikos valstybės biudžeto dotacijos | D12: SGD Savivaldybės būsto skyrius | E12: 512.9 | F12: 675.7 | G12: 675.7 | H12: 675.7
B13: 012-01-01-02 | C13: Socialinės globos paslaugų teikimas asmenims su sunkia negalia | D13: SGD Socialinių paslaugų skyrius, BĮ Klaipėdos miesto socialinės paramos centras, BĮ Socialinių paslaugų centras „Klaipėdos lakštutė“, BĮ Klaipėdos miesto globos namai, BĮ Klaipėdos socialinių paslaugų centras „Danė“, BĮ Klaipėdos sutrikusio vystymosi kūdikių namai
C14: Lietuvos Respublikos valstybės biudžeto dotacijos | E14: 12325.2 | F14: 14622.7 | G14: 15536.6 | H14: 16450.6
B15: 012-01-01-03 | C15: Pagalbos socialinės rizikos šeimoms teikimas | D15: SGD Socialinių paslaugų skyrius, BĮ Šeimos ir vaiko gerovės centras
C16: Lietuvos Respublikos valstybės biudžeto dotacijos | E16: 1639.4 | F16: 1767.5 | G16: 1767.5 | H16: 1767.5
B17: 012-01-01-04 | C17: Mokinių nemokamo maitinimo ir aprūpinimo mokinio reikmenimis organizavimas | D17: SGD Socialinių išmokų skyriai 1 ir 2 | I17: 2.4.1.9.
C18: Lietuvos Respublikos valstybės biudžeto dotacijos | E18: 2739.3 | F18: 2735.4 | G18: 2735.4 | H18: 2735.4
B19: 012-01-01-05 | C19: Mokinių iš mažas pajamas gaunančių šeimų nemokamo maitinimo gamybos išlaidų padengimas | I19: 2.4.1.9.
C20: Savivaldybės biudžeto lėšos (nuosavos, be ankstesnių metų likučio) | E20: 607.8 | F20: 606.9 | G20: 606.9 | H20: 606.9
B21: 012-01-01-06 | C21: Budinčio ir nuolatinio globotojo veiklos organizavimas | D21: SGD Socialinių paslaugų skyrius, BĮ Šeimos ir vaiko gerovės centras | I21: 2.4.1.2.
C22: Savivaldybės biudžeto lėšos (nuosavos, be ankstesnių metų likučio) | E22: 247.9 | F22: =152.8+150 -> 302.8 | G22: 302.8 | H22: 302.8
B23: 012-01-01-07 | C23: Projekto „Materialinio nepritekliaus mažinimas Lietuvoje“ įgyvendinimas | D23: SGD Socialinių išmokų skyriai 1 ir 2
C24: Kiti šaltiniai (Europos Sąjungos paramos lėšos) | E24: 7.5 | F24: 10.9 | G24: 10.9 | H24: 10.9
B25: 012-01-01-08 | C25: Laikino atokvėpio paslaugos teikimas | D25: SGD Socialinių paslaugų skyrius | I25: 2.4.1.2.
C26: Lietuvos Respublikos valstybės biudžeto dotacijos | E26: 430.7 | F26: 430.7 | G26: 430.7 | H26: 430.7
C27: Savivaldybės biudžeto lėšos (nuosavos, be ankstesnių metų likučio) | F27: 5.5 | G27: 5.5 | H27: 5.5
B28: 012-01-01-09 | C28: Materialinės paramos Klaipėdos miesto savivaldybės gyventojams, atsidūrusiems sunkioje materialinėje padėtyje, teikimas | D28: SGD Socialinių išmokų skyriai 1 ir 2
C29: Savivaldybės biudžeto lėšos (nuosavos, be ankstesnių metų likučio) | F29: 1853.9 | G29: 1853.9 | H29: 1853.9
C30: Savivaldybės biudžetas (įskaitant skolintas lėšas) | E30: =SUM(E31:E33) -> 25194.9 | F30: =SUM(F31:F33) -> 28956.5 | G30: =SUM(G31:G33) -> 29870.4 | H30: =SUM(H31:H33) -> 30784.4
C31: Iš jo:
C32: Savivaldybės biudžeto lėšos (nuosavos, be ankstesnių metų likučio)' | E32: =SUMIF($C9:$C29,$C10,E9:E29) -> 6404.7 | F32: =SUMIF($C9:$C29,$C10,F9:F29) -> 7792.3 | G32: =SUMIF($C9:$C29,$C10,G9:G29) -> 7792.3 | H32: =SUMIF($C9:$C29,$C10,H9:H29) -> 7792.3
C33: Lietuvos Respublikos valstybės biudžeto dotacijos' | E33: =SUMIF($C9:$C29,$C11,E9:E29) -> 18790.2 | F33: =SUMIF($C9:$D29,$C11,F9:F29) -> 21164.2 | G33: =SUMIF($C9:$D29,$C11,G9:G29) -> 22078.1 | H33: =SUMIF($C9:$C29,$C11,H9:H29) -> 22992.1
C34: Kiti šaltiniai | E34: =E36 -> 7.5 | F34: =F36 -> 10.9 | G34: =G36 -> 10.9 | H34: =H36 -> 10.9
C35: Iš jų:
C36: Kiti šaltiniai (Europos Sąjungos paramos lėšos)' | E36: =E24 -> 7.5 | F36: =F24 -> 10.9 | G36: =G24 -> 10.9 | H36: =H24 -> 10.9
B37: 012-01-02 (TP) | C37: Priemonė: Individualios pagalbos teikimo išlaidų kompensacijų skaičiavimas ir mokėjimas, siekiant neįgaliesiems kompensuoti specialiųjų poreikių tenkinimo išlaidas | D37: SGD Socialinių išmokų skyriai 1 ir 2
C38: Kiti šaltiniai | E38: =E40 -> 13167.2 | F38: =F40 -> 12444 | G38: =G40 -> 12444 | H38: =H40 -> 12444
C39: Iš jų:
C40: Kiti šaltiniai (valstybės biudžeto lėšos) | E40: 13167.2 | F40: 12444 | G40: 12444 | H40: 12444
B41: 012-01-03 (TP) | C41: Priemonė: Išmokų vaikams skaičiavimas ir mokėjimas | D41: SGD Socialinių išmokų skyriai 1 ir 2
C42: Kiti šaltiniai | E42: =SUM(E44:E44) -> 42345 | F42: =SUM(F44:F44) -> 42774.2 | G42: =SUM(G44:G44) -> 42774.2 | H42: =SUM(H44:H44) -> 42774.2
C43: Iš jų:
C44: Kiti šaltiniai (valstybės biudžeto lėšos) | E44: 42345 | F44: 42774.2 | G44: 42774.2 | H44: 42774.2
C45: Priemonė: Materialinės paramos Klaipėdos miesto savivaldybės gyventojams, atsidūrusiems sunkioje materialinėje padėtyje, teikimas | D45: SGD Socialinių išmokų skyriai 1 ir 2
C46: Savivaldybės biudžetas (įskaitant skolintas lėšas) | E46: =SUM(E48:E48) -> 1791.6
C47: Iš jo:
C48: Savivaldybės biudžeto lėšos (nuosavos, be ankstesnių metų likučio) | E48: 1791.6
B49: 012-01-04 (TP) | C49: Priemonė: Darbo rinkos politikos priemonių, skirtų socialinę atskirtį patiriantiems asmenims, vykdymas | D49: SGD vyr. specialistas
C50: Savivaldybės biudžetas (įskaitant skolintas lėšas) | E50: =+E52 -> 293.6 | F50: =+F52 -> 395.1 | G50: =+G52 -> 395.1 | H50: =+H52 -> 395.1
C51: Iš jo:
C52: Lietuvos Respublikos valstybės biudžeto dotacijos | E52: 293.6 | F52: 395.1 | G52: 395.1 | H52: 395.1
B53: 012-01-05 (TP) | C53: Priemonė: Akredituotos vaikų dienos socialinės priežiūros organizavimas | D53: SGD Socialinių paslaugų skyrius | I53: 2.4.1.4.
C54: Savivaldybės biudžetas (įskaitant skolintas lėšas) | E54: =E56 -> 101.5 | F54: =F56 -> 101.5 | G54: =G56 -> 101.5 | H54: =H56 -> 101.5
C55: Iš jo:
C56: Lietuvos Respublikos valstybės biudžeto dotacijos | E56: 101.5 | F56: 101.5 | G56: 101.5 | H56: 101.5
B57: 012-01-06 (TP) | C57: Priemonė: Asmeninės pagalbos teikimo organizavimas | D57: SGD Socialinių paslaugų skyrius | I57: 2.4.1.1.
C58: Savivaldybės biudžetas (įskaitant skolintas lėšas) | E58: =E61 -> 733.2 | F58: =F61+F60 -> 910.3 | G58: =G61+G60 -> 910.3 | H58: =H61+H60 -> 910.3
C59: Iš jo:
C60: Savivaldybės biudžeto lėšos (nuosavos, be ankstesnių metų likučio) | F60: 177.1 | G60: 177.1 | H60: 177.1
C61: Lietuvos Respublikos valstybės biudžeto dotacijos | E61: 733.2 | F61: 733.2 | G61: 733.2 | H61: 733.2
B62: 012-01-07 (TP) | C62: Priemonė: Socialinės reabilitacijos neįgaliesiems bendruomenėje organizavimas | D62: SGD Socialinių paslaugų skyrius
C63: Savivaldybės biudžetas (įskaitant skolintas lėšas) | E63: =E65+E66 -> 211.7 | F63: =SUM(F65:F66) -> 232.2 | G63: =SUM(G65:G66) -> 232.2 | H63: =SUM(H65:H66) -> 232.2
C64: Iš jo:
C65: Savivaldybės biudžeto lėšos (nuosavos, be ankstesnių metų likučio) | E65: 90.8 | F65: 92.4 | G65: 92.4 | H65: 92.4
C66: Lietuvos Respublikos valstybės biudžeto dotacijos | E66: 120.9 | F66: 139.8 | G66: 139.8 | H66: 139.8
B67: 012-01-08 (TP) | C67: Priemonė: Prevencinių socialinių paslaugų organizavimas ir teikimas
C68: Potencialių socialinių paslaugų gavėjų paieška | D68: SGD Socialinių paslaugų skyrius
C69: Savivaldybės biudžeto lėšos (nuosavos, be ankstesnių metų likučio) | E69: 7.3
B70: 012-01-08-01 | C70: Kompleksinių paslaugų šeimai teikimas
C71: Lietuvos Respublikos valstybės biudžeto dotacijos | E71: 62.5 | F71: 62.5 | G71: 62.5 | H71: 62.5
C72: Savivaldybės biudžetas (įskaitant skolintas lėšas) | E72: =E75+E74 -> 69.8 | F72: =F75+F74 -> 62.5 | G72: =G75+G74 -> 62.5 | H72: =H75+H74 -> 62.5
C73: Iš jo:
C74: Savivaldybės biudžeto lėšos (nuosavos, be ankstesnių metų likučio)' | E74: =SUMIF($C68:$C71,$C69,E68:E71) -> 7.3 | F74: =SUMIF($C68:$C71,$C69,F68:F71) -> 0 | G74: =SUMIF($C68:$C71,$C69,G68:G71) -> 0 | H74: =SUMIF($C68:$C71,$C69,H68:H71) -> 0
C75: Lietuvos Respublikos valstybės biudžeto dotacijos' | E75: =SUMIF($C68:$C71,$C71,E68:E71) -> 62.5 | F75: =SUMIF($C68:$C71,$C71,F68:F71) -> 62.5 | G75: =SUMIF($C68:$C71,$C71,G68:G71) -> 62.5 | H75: =SUMIF($C68:$C71,$C71,H68:H71) -> 62.5
B76: 012-01-09 | C76: Priemonė: Jaunuolių (nuo 16 m.) palydėjimo paslaugos organizavimas | D76: SGD Socialinių paslaugų skyrius
C77: Savivaldybės biudžetas (įskaitant skolintas lėšas) | F77: =F79 -> 16.8 | G77: =G79 -> 16.8 | H77: =H79 -> 16.8
C78: Iš jo:
C79: Savivaldybės biudžeto lėšos (nuosavos, be ankstesnių metų likučio) | F79: 16.8 | G79: 16.8 | H79: 16.8
C80: Priemonė: Kompensacijų už būsto suteikimą užsieniečiams, pasitraukusiems iš Ukrainos dėl Rusijos Federacijos karinių veiksmų Ukrainoje, mokėjimas | D80: SGD Savivaldybės būsto skyrius
C81: Savivaldybės biudžetas (įskaitant skolintas lėšas) | E81: =E83 -> 78 | F81: =F83 -> 0 | G81: =G83 -> 0 | H81: =H83 -> 0
C82: Iš jo:
C83: Lietuvos Respublikos valstybės biudžeto dotacijos | E83: =75.9+0.2+1.9 -> 78
C84: Priemonė: Vienkartinių išmokų įsikurti gyvenamojoje vietoje savivaldybės teritorijoje ir (ar) mėnesinių kompensacijų vaiko ugdymo pagal ikimokyklinio ir priešmokyklinio ugdymo programą mokėjimas | D84: SGD Socialinių išmokų skyriai 1 ir 2
C85: Savivaldybės biudžetas (įskaitant skolintas lėšas) | E85: =E87 -> 318.1 | F85: =F87 -> 0 | G85: =G87 -> 0 | H85: =H87 -> 0
C86: Iš jo:
C87: Lietuvos Respublikos valstybės biudžeto dotacijos | E87: 318.1
B88: 012-02 (T) | C88: Uždavinys: Teikti visuomenės poreikius atitinkančias socialines paslaugas įvairioms gyventojų grupėms
B89: 012-02-01 (TP) | C89: Priemonė: Socialinių paslaugų teikimas socialinių paslaugų įstaigose
B90: 012-02-01-01 | C90: BĮ Klaipėdos miesto globos namuose | D90: SGD Socialinių paslaugų skyrius, BĮ Klaipėdos miesto globos namai | I90: 2.4.1.3.
C91: Savivaldybės biudžeto lėšos (nuosavos, be ankstesnių metų likučio) | E91: =1005.2-10.2 -> 995 | F91: 1009 | G91: 1009 | H91: 1009
C92: Lietuvos Respublikos valstybės biudžeto dotacijos | E92: 19.2
C93: Pajamų įmokos ir kitos pajamos | E93: 514 | F93: 612 | G93: 690 | H93: 780
C94: Ankstesnių metų likučiai | E94: 13.1
B95: 012-02-01-02 | C95: Projekto „Integruotos jutiklių technologijos, skirtos prevencijai nuo kritimų ir įgalinimui socialinėms-ekonominėms reikmėms globos aplinkoje marginalizuotoms ir specialiųjų poreikių turinčioms bendruomenėms“ įgyvendinimas
C96: Savivaldybės biudžeto lėšos (nuosavos, be ankstesnių metų likučio) | F96: 84 | H96: 4.6
C97: Kiti šaltiniai (Europos Sąjungos paramos lėšos) | F97: 43.4 | G97: 101.7 | H97: 5.7
B98: 012-02-01-03 | C98: BĮ Klaipėdos miesto socialinės paramos centre | D98: SGD Socialinių paslaugų skyrius, BĮ Klaipėdos miesto socialinės paramos centras | I98: 2.4.1.1. 2.4.1.8.
C99: Savivaldybės biudžeto lėšos (nuosavos, be ankstesnių metų likučio) | E99: 1996.8 | F99: 2534.3 | G99: 2513.9 | H99: 2513.9
C100: Lietuvos Respublikos valstybės biudžeto dotacijos | E100: 141.1
C101: Pajamų įmokos ir kitos pajamos | E101: 151.7 | F101: 160.3 | G101: 170 | H101: 175
...

Sheet Lėšų suvestinė 2 lentelė
B1: 2 lentelė. 2024–2027 metų asignavimų ir kitų lėšų pasiskirstymas (tūkst. Eur)
B3: Eil. Nr. | C3: Programos kodas ir pavadinimas | D3: 2024 m. asignavimai ir kitos lėšos | E3: 2025 metų asignavimai ir kitos lėšos | F3: 2026 metų asignavimai ir kitos lėšos | G3: 2027 metų asignavimai ir kitos lėšos
B4: 1 | C4: 2 | D4: 3 | E4: 4 | F4: 5 | G4: 6
B5: 012 Socialinės atskirties mažinimo programa
B6: 1. | C6: Savivaldybės biudžetas (įskaitant skolintas lėšas) | D6: =SUM(D8:D13) -> 52697.9 | E6: =SUM(E8:E13) -> 58340.7 | F6: =SUM(F8:F13) -> 60370.9 | G6: =SUM(G8:G13) -> 59290.9
C7: Iš jo:
B8: 1.1. | C8: savivaldybės biudžeto lėšos (nuosavos, be ankstesnių metų likučio) | D8: =SUMIF('12 programa 3 lentelė'!$C7:$C359,'12 programa 3 lentelė'!$C10,'12 programa 3 lentelė'!E7:E359) -> 26777.8 | E8: =SUMIF('12 programa 3 lentelė'!$C7:$C359,'12 programa 3 lentelė'!$C10,'12 programa 3 lentelė'!F7:F359) -> 30803.3 | F8: =SUMIF('12 programa 3 lentelė'!$C7:$C359,'12 programa 3 lentelė'!$C10,'12 programa 3 lentelė'!G7:G359) -> 31087.3 | G8: =SUMIF('12 programa 3 lentelė'!$C7:$C359,'12 programa 3 lentelė'!$C10,'12 programa 3 lentelė'!H7:H359) -> 31647.2
B9: 1.2. | C9: Lietuvos Respublikos valstybės biudžeto dotacijos | D9: =SUMIF('12 programa 3 lentelė'!$C7:$C359,'12 programa 3 lentelė'!$C11,'12 programa 3 lentelė'!E7:E359) -> 21494.5 | E9: =SUMIF('12 programa 3 lentelė'!$C7:$C359,'12 programa 3 lentelė'!$C11,'12 programa 3 lentelė'!F7:F359) -> 22596.3 | F9: =SUMIF('12 programa 3 lentelė'!$C7:$C359,'12 programa 3 lentelė'!$C11,'12 programa 3 lentelė'!G7:G359) -> 23510.2 | G9: =SUMIF('12 programa 3 lentelė'!$C7:$C359,'12 programa 3 lentelė'!$C11,'12 programa 3 lentelė'!H7:H359) -> 24424.2
B10: 1.3. | C10: pajamų įmokos ir kitos pajamos | D10: =SUMIF('12 programa 3 lentelė'!$C7:$C359,'12 programa 3 lentelė'!$C93,'12 programa 3 lentelė'!E7:E359) -> 2727.4 | E10: =SUMIF('12 programa 3 lentelė'!$C7:$C359,'12 programa 3 lentelė'!$C93,'12 programa 3 lentelė'!F7:F359) -> 2834.1 | F10: =SUMIF('12 programa 3 lentelė'!$C7:$C359,'12 programa 3 lentelė'!$C93,'12 programa 3 lentelė'!G7:G359) -> 2923.3 | G10: =SUMIF('12 programa 3 lentelė'!$C7:$C359,'12 programa 3 lentelė'!$C93,'12 programa 3 lentelė'!H7:H359) -> 3019.1
B11: 1.4. | C11: Europos Sąjungos ir kitos tarptautinės finansinės paramos lėšos | D11: =SUMIF('12 programa 3 lentelė'!$C7:$C359,'12 programa 3 lentelė'!$C117,'12 programa 3 lentelė'!E7:E359) -> 630.2 | E11: =SUMIF('12 programa 3 lentelė'!$C7:$C359,'12 programa 3 lentelė'!$C117,'12 programa 3 lentelė'!F7:F359) -> 253.2 | F11: =SUMIF('12 programa 3 lentelė'!$C7:$C359,'12 programa 3 lentelė'!$C117,'12 programa 3 lentelė'!G7:G359) -> 267.7 | G11: =SUMIF('12 programa 3 lentelė'!$C7:$C359,'12 programa 3 lentelė'!$C117,'12 programa 3 lentelė'!H7:H359) -> 200.4
B12: 1.5. | C12: skolintos lėšos | D12: {=SUMIF('12 programa 3 lentelė'!$C7:$C359,'12 programa 3 lentelė'!C00,'12 programa 3 lentelė'!E7:E359)} -> 0 | E12: {=SUMIF('12 programa 3 lentelė'!$C7:$C359,'12 programa 3 lentelė'!C00,'12 programa 3 lentelė'!F7:F359)} -> 0 | F12: =SUMIF('12 programa 3 lentelė'!$C7:$C359,'12 programa 3 lentelė'!C319,'12 programa 3 lentelė'!G7:G359) -> 1962.8 | G12: {=SUMIF('12 programa 3 lentelė'!$C7:$C359,'12 programa 3 lentelė'!C00,'12 programa 3 lentelė'!H7:H359)} -> 0
B13: 1.6. | C13: ankstesnių metų likučiai | D13: =SUMIF('12 programa 3 lentelė'!$C7:$C359,'12 programa 3 lentelė'!$C94,'12 programa 3 lentelė'!E7:E359) -> 1068 | E13: =SUMIF('12 programa 3 lentelė'!$C7:$C359,'12 programa 3 lentelė'!$C94,'12 programa 3 lentelė'!F7:F359) -> 1853.8 | F13: =SUMIF('12 programa 3 lentelė'!$C7:$C359,'12 programa 3 lentelė'!$C94,'12 programa 3 lentelė'!G7:G359) -> 619.6 | G13: =SUMIF('12 programa 3 lentelė'!$C7:$C359,'12 programa 3 lentelė'!$C94,'12 programa 3 lentelė'!H7:H359) -> 0
B14: 2. | C14: Kiti šaltiniai (Europos Sąjungos finansinė parama projektams įgyvendinti ir kitos teisėtai gautos lėšos, nurodant atskirus šaltinius) | D14: =SUM(D16:D21) -> 55756.8 | E14: =SUM(E16:E21) -> 62848.3 | F14: =SUM(F16:F21) -> 66077.1 | G14: =SUM(G16:G21) -> 58982.3
C15: Iš jo:
B16: 2.1. | C16: Europos Sąjungos paramos lėšos | D16: =SUMIF('12 programa 3 lentelė'!$C7:$C359,'12 programa 3 lentelė'!$C106,'12 programa 3 lentelė'!E7:E359) -> 234.6 | E16: =SUMIF('12 programa 3 lentelė'!$C7:$C359,'12 programa 3 lentelė'!$C106,'12 programa 3 lentelė'!F7:F359) -> 7205.1 | F16: =SUMIF('12 programa 3 lentelė'!$C7:$C359,'12 programa 3 lentelė'!$C106,'12 programa 3 lentelė'!G7:G359) -> 10428.9 | G16: =SUMIF('12 programa 3 lentelė'!$C7:$C359,'12 programa 3 lentelė'!$C106,'12 programa 3 lentelė'!H7:H359) -> 3334.1
B17: 2.2. | C17: Privalomojo sveikatos draudimo fondo lėšos | D17: {=SUMIF('12 programa 3 lentelė'!$C7:$C359,'12 programa 3 lentelė'!C00,'12 programa 3 lentelė'!E7:E359)} -> 0 | E17: {=SUMIF('12 programa 3 lentelė'!$C7:$C359,'12 programa 3 lentelė'!C00,'12 programa 3 lentelė'!F7:F359)} -> 0 | F17: {=SUMIF('12 programa 3 lentelė'!$C7:$C359,'12 programa 3 lentelė'!C00,'12 programa 3 lentelė'!G7:G359)} -> 0 | G17: {=SUMIF('12 programa 3 lentelė'!$C7:$C359,'12 programa 3 lentelė'!C00,'12 programa 3 lentelė'!H7:H359)} -> 0
B18: 2.3. | C18: Klaipėdos valstybinio jūrų uosto direkcijos lėšos (KVJUD) | D18: {=SUMIF('12 programa 3 lentelė'!$C7:$C359,'12 programa 3 lentelė'!C00,'12 programa 3 lentelė'!E7:E359)} -> 0 | E18: {=SUMIF('12 programa 3 lentelė'!$C7:$C359,'12 programa 3 lentelė'!C00,'12 programa 3 lentelė'!F7:F359)} -> 0 | F18: {=SUMIF('12 programa 3 lentelė'!$C7:$C359,'12 programa 3 lentelė'!C00,'12 programa 3 lentelė'!G7:G359)} -> 0 | G18: {=SUMIF('12 programa 3 lentelė'!$C7:$C359,'12 programa 3 lentelė'!C00,'12 programa 3 lentelė'!H7:H359)} -> 0
B19: 2.4. | C19: Valstybės biudžeto lėšos (LRVB) | D19: =SUMIF('12 programa 3 lentelė'!$C7:$C359,'12 programa 3 lentelė'!$C347,'12 programa 3 lentelė'!E7:E359) -> 55522.2 | E19: =SUMIF('12 programa 3 lentelė'!$C7:$C359,'12 programa 3 lentelė'!$C347,'12 programa 3 lentelė'!F7:F359) -> 55643.2 | F19: =SUMIF('12 programa 3 lentelė'!$C7:$C359,'12 programa 3 lentelė'!$C347,'12 programa 3 lentelė'!G7:G359) -> 55648.2 | G19: =SUMIF('12 programa 3 lentelė'!$C7:$C359,'12 programa 3 lentelė'!$C347,'12 programa 3 lentelė'!H7:H359) -> 55648.2
B20: 2.5. | C20: Kiti finansavimo šaltiniai | D20: {=SUMIF('12 programa 3 lentelė'!$C7:$C359,'12 programa 3 lentelė'!C00,'12 programa 3 lentelė'!E7:E359)} -> 0 | E20: {=SUMIF('12 programa 3 lentelė'!$C7:$C359,'12 programa 3 lentelė'!C00,'12 programa 3 lentelė'!F7:F359)} -> 0 | F20: {=SUMIF('12 programa 3 lentelė'!$C7:$C359,'12 programa 3 lentelė'!C00,'12 programa 3 lentelė'!G7:G359)} -> 0 | G20: {=SUMIF('12 programa 3 lentelė'!$C7:$C359,'12 programa 3 lentelė'!C00,'12 programa 3 lentelė'!H7:H359)} -> 0
B21: 2.6. | C21: Kelių priežiūros ir plėtros programos lėšos (KPP) | D21: {=SUMIF('12 programa 3 lentelė'!$C7:$C359,'12 programa 3 lentelė'!C00,'12 programa 3 lentelė'!E7:E359)} -> 0 | E21: {=SUMIF('12 programa 3 lentelė'!$C7:$C359,'12 programa 3 lentelė'!C00,'12 programa 3 lentelė'!F7:F359)} -> 0 | F21: {=SUMIF('12 programa 3 lentelė'!$C7:$C359,'12 programa 3 lentelė'!C00,'12 programa 3 lentelė'!G7:G359)} -> 0 | G21: {=SUMIF('12 programa 3 lentelė'!$C7:$C359,'12 programa 3 lentelė'!C00,'12 programa 3 lentelė'!H7:H359)} -> 0
C22: IŠ VISO programai finansuoti pagal finansavimo šaltinius (1 ir 2 punktai) | D22: =D6+D14 -> 108454.7 | E22: =E6+E14 -> 121189 | F22: =F6+F14 -> 126448 | G22: =G6+G14 -> 118273.2
C23: Iš jų: regioninių pažangos priemonių lėšos | D23: ='12 programa 3 lentelė'!E359 -> 611.6 | E23: ='12 programa 3 lentelė'!F359 -> 8049.6 | F23: ='12 programa 3 lentelė'!G359 -> 10783.3 | G23: ='12 programa 3 lentelė'!H359 -> 5628
C24: Asignavimų ir kitų lėšų pokytis, palyginti su ankstesnių metų patvirtintų asignavimų ir kitų lėšų planu | E24: =E22-D22 -> 12734.3 | F24: =F22-E22 -> 5259 | G24: =G22-F22 -> -8174.8
