Workbook

Sheet 12 programa 3 lentelė
H1: Aiškinamojo rašto
H2: 1 priedas
B4: 3 lentelė. Klaipėdos miesto savivaldybės 2024–2027 metų 012 Socialinės atskirties mažinimo programos uždaviniai, priemonės, asignavimai ir kitos lėšos (tūkst. eurų)
B5: Programos uždavinio, priemonės kodas ir požymis | C5: Uždavinio, priemonės pavadinimas, finansavimo šaltiniai | D5: Vykdytojas (padalinys / asmuo) | E5: 2024 metų asignavimai ir kitos lėšos | F5: 2025 metų asignavimai ir kitos lėšos | G5: 2026 metų asignavimai ir kitos lėšos | H5: 2027 metų asignavimai ir kitos lėšos | I5: Savivaldybės strateginio plėtros plano priemonės kodas
B6: 1 | C6: 2 | D6: 3 | E6: 4 | F6: 5 | G6: 6 | H6: 7 | I6: 8
B7: 012-01 (T) | C7: Uždavinys: Užtikrinti Lietuvos Respublikos įstatymais, Vyriausybės nutarimais ir kitais teisės aktais numatytos socialinės paramos teikimą
B8: 012-01-01 (TP) | C8: Priemonė: Socialinių paslaugų ir kitos socialinės paramos teikimas
B9: 012-01-01-01 | C9: Piniginės socialinės paramos nepasiturinčioms šeimoms ir vieniems gyvenantiems asmenims bei paramos mirties atveju teikimas, išmokant pašalpas ir kompensacijas
C10: Savivaldybės biudžeto lėšos (nuosavos, be ankstesnių metų likučio) | D10: SGD Socialinių išmokų skyriai 1 ir 2 | E10: =4863.5+685.5 -> 5549 | F10: 5023.2 | G10: 5023.2 | H10: 5023.2
C11: Lietuvos Respublikos valstybės biudžeto dotacijos | E11: 1142.7 | F11: =923.7+8.5 -> 932.2 | G11: 932.2 | H11: 932.2
C12: Lietuvos Respublikos valstybės biudžeto dotacijos | D12: SGD Savivaldybės būsto skyrius | E12: 512.9 | F12: 675.7 | G12: 675.7 | H12: 675.7
B13: 012-01-01-02 | C13: Socialinės globos paslaugų teikimas asmenims su sunkia negalia | D13: SGD Socialinių paslaugų skyrius, BĮ Klaipėdos miesto socialinės paramos centras, BĮ Socialinių paslaugų centras „Klaipėdos lakštutė“, BĮ Klaipėdos miesto globos namai, BĮ Klaipėdos socialinių paslaugų centras „Danė“, BĮ Klaipėdos sutrikusio vystymosi kūdikių namai
C14: Lietuvos Respublikos valstybės biudžeto dotacijos | E14: 12325.2 | F14: 14622.7 | G14: 15536.6 | H14: 16450.6
B15: 012-01-01-03 | C15: Pagalbos socialinės rizikos šeimoms teikimas | D15: SGD Socialinių paslaugų skyrius, BĮ Šeimos ir vaiko gerovės centras
C16: Lietuvos Respublikos valstybės biudžeto dotacijos | E16: 1639.4 | F16: 1767.5 | G16: 1767.5 | H16: 1767.5
B17: 012-01-01-04 | C17: Mokinių nemokamo maitinimo ir aprūpinimo mokinio reikmenimis organizavimas | D17: SGD Socialinių išmokų skyriai 1 ir 2 | I17: 2.4.1.9.
C18: Lietuvos Respublikos valstybės biudžeto dotacijos | E18: 2739.3 | F18: 2735.4 | G18: 2735.4 | H18: 2735.4
B19: 012-01-01-05 | C19: Mokinių iš mažas pajamas gaunančių šeimų nemokamo maitinimo gamybos išlaidų padengimas | I19: 2.4.1.9.
C20: Savivaldybės biudžeto lėšos (nuosavos, be ankstesnių metų likučio) | E20: 607.8 | F20: 606.9 | G20: 606.9 | H20: 606.9
B21: 012-01-01-06 | C21: Budinčio ir nuolatinio globotojo veiklos organizavimas | D21: SGD Socialinių paslaugų skyrius, BĮ Šeimos ir vaiko gerovės centras | I21: 2.4.1.2.
C22: Savivaldybės biudžeto lėšos (nuosavos, be ankstesnių metų likučio) | E22: 247.9 | F22: =152.8+150 -> 302.8 | G22: 302.8 | H22: 302.8
B23: 012-01-01-07 | C23: Projekto „Materialinio nepritekliaus mažinimas Lietuvoje“ įgyvendinimas | D23: SGD Socialinių išmokų skyriai 1 ir 2
C24: Kiti šaltiniai (Europos Sąjungos paramos lėšos) | E24: 7.5 | F24: 10.9 | G24: 10.9 | H24: 10.9
B25: 012-01-01-08 | C25: Laikino atokvėpio paslaugos teikimas | D25: SGD Socialinių paslaugų skyrius | I25: 2.4.1.2.
C26: Lietuvos Respublikos valstybės biudžeto dotacijos | E26: 430.7 | F26: 430.7 | G26: 430.7 | H26: 430.7
C27: Savivaldybės biudžeto lėšos (nuosavos, be ankstesnių metų likučio) | F27: 5.5 | G27: 5.5 | H27: 5.5
B28: 012-01-01-09 | C28: Materialinės paramos Klaipėdos miesto savivaldybės gyventojams, atsidūrusiems sunkioje materialinėje padėtyje, teikimas | D28: SGD Socialinių išmokų skyriai 1 ir 2
C29: Savivaldybės biudžeto lėšos (nuosavos, be ankstesnių metų likučio) | F29: 1853.9 | G29: 1853.9 | H29: 1853.9
C30: Savivaldybės biudžetas (įskaitant skolintas lėšas) | E30: =SUM(E31:E33) -> 25194.9 | F30: =SUM(F31:F33) -> 28956.5 | G30: =SUM(G31:G33) -> 29870.4 | H30: =SUM(H31:H33) -> 30784.4
C31: Iš jo:
C32: Savivaldybės biudžeto lėšos (nuosavos, be ankstesnių metų likučio)' | E32: =SUMIF($C9:$C29,$C10,E9:E29) -> 6404.7 | F32: =SUMIF($C9:$C29,$C10,F9:F29) -> 7792.3 | G32: =SUMIF($C9:$C29,$C10,G9:G29) -> 7792.3 | H32: =SUMIF($C9:$C29,$C10,H9:H29) -> 7792.3
C33: Lietuvos Respublikos valstybės biudžeto dotacijos' | E33: =SUMIF($C9:$C29,$C11,E9:E29) -> 18790.2 | F33: =SUMIF($C9:$D29,$C11,F9:F29) -> 21164.2 | G33: =SUMIF($C9:$D29,$C11,G9:G29) -> 22078.1 | H33: =SUMIF($C9:$C29,$C11,H9:H29) -> 22992.1
C34: Kiti šaltiniai | E34: =E36 -> 7.5 | F34: =F36 -> 10.9 | G34: =G36 -> 10.9 | H34: =H36 -> 10.9
C35: Iš jų:
C36: Kiti šaltiniai (Europos Sąjungos paramos lėšos)' | E36: =E24 -> 7.5 | F36: =F24 -> 10.9 | G36: =G24 -> 10.9 | H36: =H24 -> 10.9
B37: 012-01-02 (TP) | C37: Priemonė: Individualios pagalbos teikimo išlaidų kompensacijų skaičiavimas ir mokėjimas, siekiant neįgaliesiems kompensuoti specialiųjų poreikių tenkinimo išlaidas | D37: SGD Socialinių išmokų skyriai 1 ir 2
C38: Kiti šaltiniai | E38: =E40 -> 13167.2 | F38: =F40 -> 12444 | G38: =G40 -> 12444 | H38: =H40 -> 12444
C39: Iš jų:
C40: Kiti šaltiniai (valstybės biudžeto lėšos) | E40: 13167.2 | F40: 12444 | G40: 12444 | H40: 12444
B41: 012-01-03 (TP) | C41: Priemonė: Išmokų vaikams skaičiavimas ir mokėjimas | D41: SGD Socialinių išmokų skyriai 1 ir 2
...

Sheet Lėšų suvestinė 2 lentelė
B1: 2 lentelė. 2024–2027 metų asignavimų ir kitų lėšų pasiskirstymas (tūkst. Eur)
B3: Eil. Nr. | C3: Programos kodas ir pavadinimas | D3: 2024 m. asignavimai ir kitos lėšos | E3: 2025 metų asignavimai ir kitos lėšos | F3: 2026 metų asignavimai ir kitos lėšos | G3: 2027 metų asignavimai ir kitos lėšos
B4: 1 | C4: 2 | D4: 3 | E4: 4 | F4: 5 | G4: 6
B5: 012 Socialinės atskirties mažinimo programa
B6: 1. | C6: Savivaldybės biudžetas (įskaitant skolintas lėšas) | D6: =SUM(D8:D13) -> 52697.9 | E6: =SUM(E8:E13) -> 58340.7 | F6: =SUM(F8:F13) -> 60370.9 | G6: =SUM(G8:G13) -> 59290.9
C7: Iš jo:
B8: 1.1. | C8: savivaldybės biudžeto lėšos (nuosavos, be ankstesnių metų likučio) | D8: =SUMIF('12 programa 3 lentelė'!$C7:$C359,'12 programa 3 lentelė'!$C10,'12 programa 3 lentelė'!E7:E359) -> 26777.8 | E8: =SUMIF('12 programa 3 lentelė'!$C7:$C359,'12 programa 3 lentelė'!$C10,'12 programa 3 lentelė'!F7:F359) -> 30803.3 | F8: =SUMIF('12 programa 3 lentelė'!$C7:$C359,'12 programa 3 lentelė'!$C10,'12 programa 3 lentelė'!G7:G359) -> 31087.3 | G8: =SUMIF('12 programa 3 lentelė'!$C7:$C359,'12 programa 3 lentelė'!$C10,'12 programa 3 lentelė'!H7:H359) -> 31647.2
B9: 1.2. | C9: Lietuvos Respublikos valstybės biudžeto dotacijos | D9: =SUMIF('12 programa 3 lentelė'!$C7:$C359,'12 programa 3 lentelė'!$C11,'12 programa 3 lentelė'!E7:E359) -> 21494.5 | E9: =SUMIF('12 programa 3 lentelė'!$C7:$C359,'12 programa 3 lentelė'!$C11,'12 programa 3 lentelė'!F7:F359) -> 22596.3 | F9: =SUMIF('12 programa 3 lentelė'!$C7:$C359,'12 programa 3 lentelė'!$C11,'12 programa 3 lentelė'!G7:G359) -> 23510.2 | G9: =SUMIF('12 programa 3 lentelė'!$C7:$C359,'12 programa 3 lentelė'!$C11,'12 programa 3 lentelė'!H7:H359) -> 24424.2
B10: 1.3. | C10: pajamų įmokos ir kitos pajamos | D10: =SUMIF('12 programa 3 lentelė'!$C7:$C359,'12 programa 3 lentelė'!$C93,'12 programa 3 lentelė'!E7:E359) -> 2727.4 | E10: =SUMIF('12 programa 3 lentelė'!$C7:$C359,'12 programa 3 lentelė'!$C93,'12 programa 3 lentelė'!F7:F359) -> 2834.1 | F10: =SUMIF('12 programa 3 lentelė'!$C7:$C359,'12 programa 3 lentelė'!$C93,'12 programa 3 lentelė'!G7:G359) -> 2923.3 | G10: =SUMIF('12 programa 3 lentelė'!$C7:$C359,'12 programa 3 lentelė'!$C93,'12 programa 3 lentelė'!H7:H359) -> 3019.1
B11: 1.4. | C11: Europos Sąjungos ir kitos tarptautinės finansinės paramos lėšos | D11: =SUMIF('12 programa 3 lentelė'!$C7:$C359,'12 programa 3 lentelė'!$C117,'12 programa 3 lentelė'!E7:E359) -> 630.2 | E11: =SUMIF('12 programa 3 lentelė'!$C7:$C359,'12 programa 3 lentelė'!$C117,'12 programa 3 lentelė'!F7:F359) -> 253.2 | F11: =SUMIF('12 programa 3 lentelė'!$C7:$C359,'12 programa 3 lentelė'!$C117,'12 programa 3 lentelė'!G7:G359) -> 267.7 | G11: =SUMIF('12 programa 3 lentelė'!$C7:$C359,'12 programa 3 lentelė'!$C117,'12 programa 3 lentelė'!H7:H359) -> 200.4
B12: 1.5. | C12: skolintos lėšos | D12: {=SUMIF('12 programa 3 lentelė'!$C7:$C359,'12 programa 3 lentelė'!C00,'12 programa 3 lentelė'!E7:E359)} -> 0 | E12: {=SUMIF('12 programa 3 lentelė'!$C7:$C359,'12 programa 3 lentelė'!C00,'12 programa 3 lentelė'!F7:F359)} -> 0 | F12: =SUMIF('12 programa 3 lentelė'!$C7:$C359,'12 programa 3 lentelė'!C319,'12 programa 3 lentelė'!G7:G359) -> 1962.8 | G12: {=SUMIF('12 programa 3 lentelė'!$C7:$C359,'12 programa 3 lentelė'!C00,'12 programa 3 lentelė'!H7:H359)} -> 0
B13: 1.6. | C13: ankstesnių metų likučiai | D13: =SUMIF('12 programa 3 lentelė'!$C7:$C359,'12 programa 3 lentelė'!$C94,'12 programa 3 lentelė'!E7:E359) -> 1068 | E13: =SUMIF('12 programa 3 lentelė'!$C7:$C359,'12 programa 3 lentelė'!$C94,'12 programa 3 lentelė'!F7:F359) -> 1853.8 | F13: =SUMIF('12 programa 3 lentelė'!$C7:$C359,'12 programa 3 lentelė'!$C94,'12 programa 3 lentelė'!G7:G359) -> 619.6 | G13: =SUMIF('12 programa 3 lentelė'!$C7:$C359,'12 programa 3 lentelė'!$C94,'12 programa 3 lentelė'!H7:H359) -> 0
B14: 2. | C14: Kiti šaltiniai (Europos Sąjungos finansinė parama projektams įgyvendinti ir kitos teisėtai gautos lėšos, nurodant atskirus šaltinius) | D14: =SUM(D16:D21) -> 55756.8 | E14: =SUM(E16:E21) -> 62848.3 | F14: =SUM(F16:F21) -> 66077.1 | G14: =SUM(G16:G21) -> 58982.3
C15: Iš jo:
B16: 2.1. | C16: Europos Sąjungos paramos lėšos | D16: =SUMIF('12 programa 3 lentelė'!$C7:$C359,'12 programa 3 lentelė'!$C106,'12 programa 3 lentelė'!E7:E359) -> 234.6 | E16: =SUMIF('12 programa 3 lentelė'!$C7:$C359,'12 programa 3 lentelė'!$C106,'12 programa 3 lentelė'!F7:F359) -> 7205.1 | F16: =SUMIF('12 programa 3 lentelė'!$C7:$C359,'12 programa 3 lentelė'!$C106,'12 programa 3 lentelė'!G7:G359) -> 10428.9 | G16: =SUMIF('12 programa 3 lentelė'!$C7:$C359,'12 programa 3 lentelė'!$C106,'12 programa 3 lentelė'!H7:H359) -> 3334.1
B17: 2.2. | C17: Privalomojo sveikatos draudimo fondo lėšos | D17: {=SUMIF('12 programa 3 lentelė'!$C7:$C359,'12 programa 3 lentelė'!C00,'12 programa 3 lentelė'!E7:E359)} -> 0 | E17: {=SUMIF('12 programa 3 lentelė'!$C7:$C359,'12 programa 3 lentelė'!C00,'12 programa 3 lentelė'!F7:F359)} -> 0 | F17: {=SUMIF('12 programa 3 lentelė'!$C7:$C359,'12 programa 3 lentelė'!C00,'12 programa 3 lentelė'!G7:G359)} -> 0 | G17: {=SUMIF('12 programa 3 lentelė'!$C7:$C359,'12 programa 3 lentelė'!C00,'12 programa 3 lentelė'!H7:H359)} -> 0
B18: 2.3. | C18: Klaipėdos valstybinio jūrų uosto direkcijos lėšos (KVJUD) | D18: {=SUMIF('12 programa 3 lentelė'!$C7:$C359,'12 programa 3 lentelė'!C00,'12 programa 3 lentelė'!E7:E359)} -> 0 | E18: {=SUMIF('12 programa 3 lentelė'!$C7:$C359,'12 programa 3 lentelė'!C00,'12 programa 3 lentelė'!F7:F359)} -> 0 | F18: {=SUMIF('12 programa 3 lentelė'!$C7:$C359,'12 programa 3 lentelė'!C00,'12 programa 3 lentelė'!G7:G359)} -> 0 | G18: {=SUMIF('12 programa 3 lentelė'!$C7:$C359,'12 programa 3 lentelė'!C00,'12 programa 3 lentelė'!H7:H359)} -> 0
B19: 2.4. | C19: Valstybės biudžeto lėšos (LRVB) | D19: =SUMIF('12 programa 3 lentelė'!$C7:$C359,'12 programa 3 lentelė'!$C347,'12 programa 3 lentelė'!E7:E359) -> 55522.2 | E19: =SUMIF('12 programa 3 lentelė'!$C7:$C359,'12 programa 3 lentelė'!$C347,'12 programa 3 lentelė'!F7:F359) -> 55643.2 | F19: =SUMIF('12 programa 3 lentelė'!$C7:$C359,'12 programa 3 lentelė'!$C347,'12 programa 3 lentelė'!G7:G359) -> 55648.2 | G19: =SUMIF('12 programa 3 lentelė'!$C7:$C359,'12 programa 3 lentelė'!$C347,'12 programa 3 lentelė'!H7:H359) -> 55648.2
B20: 2.5. | C20: Kiti finansavimo šaltiniai | D20: {=SUMIF('12 programa 3 lentelė'!$C7:$C359,'12 programa 3 lentelė'!C00,'12 programa 3 lentelė'!E7:E359)} -> 0 | E20: {=SUMIF('12 programa 3 lentelė'!$C7:$C359,'12 programa 3 lentelė'!C00,'12 programa 3 lentelė'!F7:F359)} -> 0 | F20: {=SUMIF('12 programa 3 lentelė'!$C7:$C359,'12 programa 3 lentelė'!C00,'12 programa 3 lentelė'!G7:G359)} -> 0 | G20: {=SUMIF('12 programa 3 lentelė'!$C7:$C359,'12 programa 3 lentelė'!C00,'12 programa 3 lentelė'!H7:H359)} -> 0
B21: 2.6. | C21: Kelių priežiūros ir plėtros programos lėšos (KPP) | D21: {=SUMIF('12 programa 3 lentelė'!$C7:$C359,'12 programa 3 lentelė'!C00,'12 programa 3 lentelė'!E7:E359)} -> 0 | E21: {=SUMIF('12 programa 3 lentelė'!$C7:$C359,'12 programa 3 lentelė'!C00,'12 programa 3 lentelė'!F7:F359)} -> 0 | F21: {=SUMIF('12 programa 3 lentelė'!$C7:$C359,'12 programa 3 lentelė'!C00,'12 programa 3 lentelė'!G7:G359)} -> 0 | G21: {=SUMIF('12 programa 3 lentelė'!$C7:$C359,'12 programa 3 lentelė'!C00,'12 programa 3 lentelė'!H7:H359)} -> 0
C22: IŠ VISO programai finansuoti pagal finansavimo šaltinius (1 ir 2 punktai) | D22: =D6+D14 -> 108454.7 | E22: =E6+E14 -> 121189 | F22: =F6+F14 -> 126448 | G22: =G6+G14 -> 118273.2
C23: Iš jų: regioninių pažangos priemonių lėšos | D23: ='12 programa 3 lentelė'!E359 -> 611.6 | E23: ='12 programa 3 lentelė'!F359 -> 8049.6 | F23: ='12 programa 3 lentelė'!G359 -> 10783.3 | G23: ='12 programa 3 lentelė'!H359 -> 5628
C24: Asignavimų ir kitų lėšų pokytis, palyginti su ankstesnių metų patvirtintų asignavimų ir kitų lėšų planu | E24: =E22-D22 -> 12734.3 | F24: =F22-E22 -> 5259 | G24: =G22-F22 -> -8174.8
