Workbook

Sheet 10 programa 3 lentelė
C1: 8 | E1: Aiškinamojo rašto priedas
B2: 3 lentelė. Klaipėdos miesto savivaldybės 2024–2027 metų 010 Ugdymo proceso užtikrinimo programos uždaviniai, priemonės, asignavimai ir kitos lėšos (tūkst. eurų)
B3: Programos uždavinio, priemonės kodas ir požymis | C3: Uždavinio, priemonės pavadinimas, finansavimo šaltiniai | D3: Vykdytojas (skyrius / asmuo) | E3: 2024 metų asignavimai ir kitos lėšos | F3: 2025 metų asignavimai ir kitos lėšos | G3: 2026 metų asignavimai ir kitos lėšos | H3: 2027 metų asignavimai ir kitos lėšos | I3: Savivaldybės strateginio plėtros plano priemonės kodas
B4: 1 | C4: 2 | D4: 3 | E4: 4 | F4: 5 | G4: 6 | H4: 7 | I4: 8
B5: 010-01 (T) | C5: Uždavinys: Sudaryti sąlygas ugdytis ir gerinti ugdymo proceso kokybę
B6: 010-01-01 (TP) | C6: Priemonė: Veiklos organizavimo užtikrinimas švietimo įstaigose
B7: 010-01-01-01 | C7: Ugdymo proceso ir aplinkos užtikrinimas savivaldybės ikimokyklinio ugdymo įstaigose | D7: ŠSD Švietimo skyrius, Biudžetinės švietimo įstaigos | I7: 1.3.2.5.
C8: Savivaldybės biudžeto lėšos (nuosavos, be ankstesnių metų likučio) | E8: =33678.6+17.2-9.3 -> 33686.5 | F8: =36056.4-0.7+0.8 -> 36056.5 | G8: 36055.7 | H8: 35055.7
C9: Lietuvos Respublikos valstybės biudžeto dotacijos | E9: =19190.9+238.3 -> 19429.2 | F9: 19429.2 | G9: 19429.2 | H9: 19429.2
C10: Pajamų įmokos ir kitos pajamos | E10: =5465.1+2.4 -> 5467.5 | F10: 5312.1 | G10: 5312.1 | H10: 5312.1
C11: Ankstesnių metų likučiai | E11: =112.3+222.2 -> 334.5
B12: 010-01-01-02 | C12: Ugdymo proceso užtikrinimas nevalstybinėse ikimokyklinio ugdymo įstaigose | I12: 1.3.2.5.
C13: Lietuvos Respublikos valstybės biudžeto dotacijos | E13: =1476.7+6.5 -> 1483.2 | F13: 1483.2 | G13: 1483.2 | H13: 1483.2
B14: 010-01-01-03 | C14: Mokinio padėjėjų etatų skaičiaus užtikrinimas
C15: Savivaldybės biudžeto lėšos (nuosavos, be ankstesnių metų likučio) | E15: =463+47.3 -> 510.3 | F15: =401+62.2 -> 463.2 | G15: 463.2 | H15: 463.2
B16: 010-01-01-04 | C16: Ugdymo proceso ir aplinkos užtikrinimas savivaldybės pradinėje mokykloje ir mokyklose-darželiuose
C17: Savivaldybės biudžeto lėšos (nuosavos, be ankstesnių metų likučio) | E17: =2312.3+5.2 -> 2317.5 | F17: =2481.8-4.5 -> 2477.3 | G17: 2469.6 | H17: 2469.6
C18: Lietuvos Respublikos valstybės biudžeto dotacijos | E18: =2831.6+6.5 -> 2838.1 | F18: 2838.1 | G18: 2838.1 | H18: 2838.1
C19: Pajamų įmokos ir kitos pajamos | E19: 561.6 | F19: 563.3 | G19: 563.3 | H19: 563.3
C20: Ankstesnių metų likučiai | E20: =19+24.8 -> 43.8
B21: 010-01-01-05 | C21: Ugdymo proceso užtikrinimas nevalstybinėje pradinėje mokykloje ir mokyklose-darželiuose
C22: Lietuvos Respublikos valstybės biudžeto dotacijos | E22: =444.1+0.7 -> 444.8 | F22: 444.8 | G22: 444.8 | H22: 444.8
B23: 010-01-01-06 | C23: Ugdymo proceso ir aplinkos užtikrinimas savivaldybės bendrojo ugdymo mokyklose
C24: Savivaldybės biudžeto lėšos (nuosavos, be ankstesnių metų likučio) | E24: =14795.1+81.8+193.3 -> 15070.2 | F24: =16609-3.2 -> 16605.8 | G24: 16609 | H24: 16609
C25: Lietuvos Respublikos valstybės biudžeto dotacijos | E25: 58260.1 | F25: =58260.1+518.7 -> 58778.8 | G25: =58260.1+518.7 -> 58778.8 | H25: =58260.1+518.7 -> 58778.8
C26: Pajamų įmokos ir kitos pajamos | E26: 1402.6 | F26: 1556.7 | G26: 1556.7 | H26: 1556.7
C27: Ankstesnių metų likučiai | E27: =97.6+19.1 -> 116.7
C28: Projekto „Įdomus faktorius: sužaidybinimas įtraukiajam ugdymui“ įgyvendinimas Litorinos mokykloje
C29: Savivaldybės biudžeto lėšos (nuosavos, be ankstesnių metų likučio) | F29: =24-24 -> 0
C30: Kiti šaltiniai (Europos Sąjungos paramos lėšos) | E30: 96
B31: 010-01-01-07 | C31: Projekto „Erasmus+ akreditacijos KA121 “ įgyvendinimas Gedminų progimnazijos mokykloje
C32: Savivaldybės biudžeto lėšos (nuosavos, be ankstesnių metų likučio) | F32: 5.6
B33: 010-01-01-08 | C33: Projekto „Erasmus+ Informatinis mąstymas ir matematinis problemų sprendimas, analitika grindžiama mokymosi aplinka“ įgyvendinimas Gedminų progimnazijos mokykloje
C34: Savivaldybės biudžeto lėšos (nuosavos, be ankstesnių metų likučio) | F34: 8.4
B35: 010-01-01-09 | C35: Projekto Nordplus Junior „Kurkime ateitį kartu“ įgyvendinimas Gedminų progimnazijos mokykloje
C36: Savivaldybės biudžeto lėšos (nuosavos, be ankstesnių metų likučio) | F36: 6.4
B37: 010-01-01-10 | C37: Projekto Nordplus Junior „Mokytojai netradicinėje aplinkoje" įgyvendinimas Gedminų progimnazijos mokykloje
C38: Savivaldybės biudžeto lėšos (nuosavos, be ankstesnių metų likučio) | F38: =3-0.7 -> 2.3
C39: Karjeros specialistų etatų įvedimas ir didinimas švietimo įstaigose
C40: Lietuvos Respublikos valstybės biudžeto dotacijos | E40: 518.7
...

Sheet Lėšų suvestinė 2 lentelė
B1: 2 lentelė. 2024 metų asignavimų ir kitų lėšų pasiskirstymas (tūkst. Eur)
B3: Eil. Nr. | C3: Programos kodas ir pavadinimas | D3: 2024 m. asignavimai ir kitos lėšos | E3: 2025 metų asignavimai ir kitos lėšos | F3: 2026 metų asignavimai ir kitos lėšos | G3: 2027 metų asignavimai ir kitos lėšos
B4: 1 | C4: 2 | D4: 3 | E4: 4 | F4: 5 | G4: 6
B5: 010 Ugdymo proceso užtikrinimo programa
B6: 1. | C6: Savivaldybės biudžetas (įskaitant skolintas lėšas) | D6: =SUM(D8:D13) -> 189690.7 | E6: =SUM(E8:E13) -> 207243.6 | F6: =SUM(F8:F13) -> 195468.3 | G6: =SUM(G8:G13) -> 192047.3
C7: Iš jo:
B8: 1.1. | C8: savivaldybės biudžeto lėšos (nuosavos, be ankstesnių metų likučio) | D8: =SUMIF('10 programa 3 lentelė'!C5:C392,'10 programa 3 lentelė'!C8,'10 programa 3 lentelė'!E5:E392) -> 77460.8 | E8: =SUMIF('10 programa 3 lentelė'!C5:C392,'10 programa 3 lentelė'!C8,'10 programa 3 lentelė'!F5:F392) -> 93034.4 | F8: =SUMIF('10 programa 3 lentelė'!C5:C392,'10 programa 3 lentelė'!C8,'10 programa 3 lentelė'!G5:G392) -> 92255.5 | G8: =SUMIF('10 programa 3 lentelė'!C5:C392,'10 programa 3 lentelė'!C8,'10 programa 3 lentelė'!H5:H392) -> 91962.7
B9: 1.2. | C9: Lietuvos Respublikos valstybės biudžeto dotacijos | D9: =SUMIF('10 programa 3 lentelė'!C5:C392,'10 programa 3 lentelė'!C9,'10 programa 3 lentelė'!E5:E392) -> 93661.8 | E9: =SUMIF('10 programa 3 lentelė'!C5:C392,'10 programa 3 lentelė'!C9,'10 programa 3 lentelė'!F5:F392) -> 93253 | F9: =SUMIF('10 programa 3 lentelė'!C5:C392,'10 programa 3 lentelė'!C9,'10 programa 3 lentelė'!G5:G392) -> 92121.3 | G9: =SUMIF('10 programa 3 lentelė'!C5:C392,'10 programa 3 lentelė'!C9,'10 programa 3 lentelė'!H5:H392) -> 91715.3
B10: 1.3. | C10: pajamų įmokos ir kitos pajamos | D10: =SUMIF('10 programa 3 lentelė'!C5:C392,'10 programa 3 lentelė'!C10,'10 programa 3 lentelė'!E5:E392) -> 8037.8 | E10: =SUMIF('10 programa 3 lentelė'!C5:C392,'10 programa 3 lentelė'!C10,'10 programa 3 lentelė'!F5:F392) -> 8069.3 | F10: =SUMIF('10 programa 3 lentelė'!C5:C392,'10 programa 3 lentelė'!C10,'10 programa 3 lentelė'!G5:G392) -> 8069.3 | G10: =SUMIF('10 programa 3 lentelė'!C5:C392,'10 programa 3 lentelė'!C10,'10 programa 3 lentelė'!H5:H392) -> 8069.3
B11: 1.4. | C11: Europos Sąjungos ir kitos tarptautinės finansinės paramos lėšos | D11: =SUMIF('10 programa 3 lentelė'!C5:C392,'10 programa 3 lentelė'!C45,'10 programa 3 lentelė'!E5:E392) -> 2350.9 | E11: =SUMIF('10 programa 3 lentelė'!C6:C393,'10 programa 3 lentelė'!C45,'10 programa 3 lentelė'!F6:F393) -> 8317.7 | F11: =SUMIF('10 programa 3 lentelė'!C5:C392,'10 programa 3 lentelė'!C45,'10 programa 3 lentelė'!G5:G392) -> 2763.4 | G11: =SUMIF('10 programa 3 lentelė'!C5:C392,'10 programa 3 lentelė'!C45,'10 programa 3 lentelė'!H5:H392) -> 300
B12: 1.5. | C12: skolintos lėšos | D12: =SUMIF('10 programa 3 lentelė'!C5:C392,'10 programa 3 lentelė'!C204,'10 programa 3 lentelė'!E5:E392) -> 1620.6 | E12: =SUMIF('10 programa 3 lentelė'!C7:C395,'10 programa 3 lentelė'!C204,'10 programa 3 lentelė'!F7:F395) -> 4217.4 | F12: =SUMIF('10 programa 3 lentelė'!C5:C392,'10 programa 3 lentelė'!C204,'10 programa 3 lentelė'!G5:G392) -> 258.8 | G12: =SUMIF('10 programa 3 lentelė'!C5:C392,'10 programa 3 lentelė'!C204,'10 programa 3 lentelė'!H5:H392) -> 0
B13: 1.6. | C13: ankstesnių metų likučiai | D13: =SUMIF('10 programa 3 lentelė'!C5:C392,'10 programa 3 lentelė'!C179,'10 programa 3 lentelė'!E5:E392) -> 6558.8 | E13: =SUMIF('10 programa 3 lentelė'!C8:C396,'10 programa 3 lentelė'!C179,'10 programa 3 lentelė'!F8:F396) -> 351.8 | F13: =SUMIF('10 programa 3 lentelė'!C5:C392,'10 programa 3 lentelė'!C179,'10 programa 3 lentelė'!G5:G392) -> 0 | G13: =SUMIF('10 programa 3 lentelė'!C5:C392,'10 programa 3 lentelė'!C179,'10 programa 3 lentelė'!H5:H392) -> 0
B14: 2. | C14: Kiti šaltiniai (Europos Sąjungos finansinė parama projektams įgyvendinti ir kitos teisėtai gautos lėšos, nurodant atskirus šaltinius) | D14: =SUM(D16:D21) -> 115.6 | E14: =SUM(E16:E21) -> 791.7 | F14: =SUM(F16:F21) -> 3564 | G14: =SUM(G16:G21) -> 3061.4
C15: Iš jo:
B16: 2.1. | C16: Europos Sąjungos paramos lėšos | D16: =SUMIF('10 programa 3 lentelė'!C5:C392,'10 programa 3 lentelė'!C30,'10 programa 3 lentelė'!E5:E392) -> 96 | E16: =SUMIF('10 programa 3 lentelė'!C5:C392,'10 programa 3 lentelė'!C30,'10 programa 3 lentelė'!F5:F392) -> 791.7 | F16: =SUMIF('10 programa 3 lentelė'!C5:C392,'10 programa 3 lentelė'!C30,'10 programa 3 lentelė'!G5:G392) -> 3564 | G16: =SUMIF('10 programa 3 lentelė'!C5:C392,'10 programa 3 lentelė'!C30,'10 programa 3 lentelė'!H5:H392) -> 3061.4
B17: 2.2. | C17: Privalomojo sveikatos draudimo fondo lėšos | D17: {=SUMIF('10 programa 3 lentelė'!C5:C392,'10 programa 3 lentelė'!C00,'10 programa 3 lentelė'!E5:E392)} -> 0 | E17: {=SUMIF('10 programa 3 lentelė'!C5:C392,'10 programa 3 lentelė'!C00,'10 programa 3 lentelė'!F5:F392)} -> 0 | F17: {=SUMIF('10 programa 3 lentelė'!C5:C392,'10 programa 3 lentelė'!C00,'10 programa 3 lentelė'!G5:G392)} -> 0 | G17: {=SUMIF('10 programa 3 lentelė'!C5:C392,'10 programa 3 lentelė'!C00,'10 programa 3 lentelė'!H5:H392)} -> 0
B18: 2.3. | C18: Klaipėdos valstybinio jūrų uosto direkcijos lėšos (KVJUD) | D18: {=SUMIF('10 programa 3 lentelė'!C5:C392,'10 programa 3 lentelė'!C00,'10 programa 3 lentelė'!E5:E392)} -> 0 | E18: {=SUMIF('10 programa 3 lentelė'!C5:C392,'10 programa 3 lentelė'!C00,'10 programa 3 lentelė'!F5:F392)} -> 0 | F18: {=SUMIF('10 programa 3 lentelė'!C5:C392,'10 programa 3 lentelė'!C00,'10 programa 3 lentelė'!G5:G392)} -> 0 | G18: {=SUMIF('10 programa 3 lentelė'!C5:C392,'10 programa 3 lentelė'!C00,'10 programa 3 lentelė'!H5:H392)} -> 0
B19: 2.4. | C19: Valstybės biudžeto lėšos (LRVB) | D19: =SUMIF('10 programa 3 lentelė'!C5:C392,'10 programa 3 lentelė'!C104,'10 programa 3 lentelė'!E5:E392) -> 19.6 | E19: =SUMIF('10 programa 3 lentelė'!C5:C392,'10 programa 3 lentelė'!C104,'10 programa 3 lentelė'!F5:F392) -> 0 | F19: =SUMIF('10 programa 3 lentelė'!C5:C392,'10 programa 3 lentelė'!C104,'10 programa 3 lentelė'!G5:G392) -> 0 | G19: =SUMIF('10 programa 3 lentelė'!C5:C392,'10 programa 3 lentelė'!C104,'10 programa 3 lentelė'!H5:H392) -> 0
B20: 2.5. | C20: Kiti finansavimo šaltiniai | D20: {=SUMIF('10 programa 3 lentelė'!C5:C392,'10 programa 3 lentelė'!C00,'10 programa 3 lentelė'!E5:E392)} -> 0 | E20: {=SUMIF('10 programa 3 lentelė'!C5:C392,'10 programa 3 lentelė'!C00,'10 programa 3 lentelė'!C5:C392)} -> 0 | F20: {=SUMIF('10 programa 3 lentelė'!C5:C392,'10 programa 3 lentelė'!C00,'10 programa 3 lentelė'!G5:G392)} -> 0 | G20: {=SUMIF('10 programa 3 lentelė'!C5:C392,'10 programa 3 lentelė'!C00,'10 programa 3 lentelė'!H5:H392)} -> 0
B21: 2.6. | C21: Kelių priežiūros ir plėtros programos lėšos (KPP) | D21: {=SUMIF('10 programa 3 lentelė'!C5:C392,'10 programa 3 lentelė'!C00,'10 programa 3 lentelė'!E5:E392)} -> 0 | E21: {=SUMIF('10 programa 3 lentelė'!C5:C392,'10 programa 3 lentelė'!C00,'10 programa 3 lentelė'!F5:F392)} -> 0 | F21: {=SUMIF('10 programa 3 lentelė'!C5:C392,'10 programa 3 lentelė'!C00,'10 programa 3 lentelė'!G5:G392)} -> 0 | G21: {=SUMIF('10 programa 3 lentelė'!C5:C392,'10 programa 3 lentelė'!C00,'10 programa 3 lentelė'!H5:H392)} -> 0
C22: IŠ VISO programai finansuoti pagal finansavimo šaltinius (1 ir 2 punktai) | D22: =D6+D14 -> 189806.3 | E22: =E6+E14 -> 208035.3 | F22: =F6+F14 -> 199032.3 | G22: =G6+G14 -> 195108.7
C23: Iš jų: regioninių pažangos priemonių lėšos | D23: ='10 programa 3 lentelė'!E392 -> 0 | E23: ='10 programa 3 lentelė'!F392 -> 263 | F23: =+'10 programa 3 lentelė'!G392 -> 258.9 | G23: ='10 programa 3 lentelė'!H392 -> 425.8
C24: Asignavimų ir kitų lėšų pokytis, palyginti su ankstesnių metų patvirtintų asignavimų ir kitų lėšų planu | E24: =+'10 programa 3 lentelė'!F393 -> 18229 | F24: =+'10 programa 3 lentelė'!G393 -> -9003 | G24: =+'10 programa 3 lentelė'!H393 -> -3923.6
D26: =+D22-'10 programa 3 lentelė'!E391 -> 0 | E26: =+E22-'10 programa 3 lentelė'!F391 -> 0 | F26: =+F22-'10 programa 3 lentelė'!G391 -> 0 | G26: =+G22-'10 programa 3 lentelė'!H391 -> 0
