Workbook

Sheet 10 programa 3 lentelė
C1: 8 | E1: Aiškinamojo rašto priedas
B2: 3 lentelė. Klaipėdos miesto savivaldybės 2024–2027 metų 010 Ugdymo proceso užtikrinimo programos uždaviniai, priemonės, asignavimai ir kitos lėšos (tūkst. eurų)
B3: Programos uždavinio, priemonės kodas ir požymis | C3: Uždavinio, priemonės pavadinimas, finansavimo šaltiniai | D3: Vykdytojas (skyrius / asmuo) | E3: 2024 metų asignavimai ir kitos lėšos | F3: 2025 metų asignavimai ir kitos lėšos | G3: 2026 metų asignavimai ir kitos lėšos | H3: 2027 metų asignavimai ir kitos lėšos | I3: Savivaldybės strateginio plėtros plano priemonės kodas
B4: 1 | C4: 2 | D4: 3 | E4: 4 | F4: 5 | G4: 6 | H4: 7 | I4: 8
B5: 010-01 (T) | C5: Uždavinys: Sudaryti sąlygas ugdytis ir gerinti ugdymo proceso kokybę
B6: 010-01-01 (TP) | C6: Priemonė: Veiklos organizavimo užtikrinimas švietimo įstaigose
B7: 010-01-01-01 | C7: Ugdymo proceso ir aplinkos užtikrinimas savivaldybės ikimokyklinio ugdymo įstaigose | D7: ŠSD Švietimo skyrius, Biudžetinės švietimo įstaigos | I7: 1.3.2.5.
C8: Savivaldybės biudžeto lėšos (nuosavos, be ankstesnių metų likučio) | E8: =33678.6+17.2-9.3 -> 33686.5 | F8: =36056.4-0.7+0.8 -> 36056.5 | G8: 36055.7 | H8: 35055.7
C9: Lietuvos Respublikos valstybės biudžeto dotacijos | E9: =19190.9+238.3 -> 19429.2 | F9: 19429.2 | G9: 19429.2 | H9: 19429.2
C10: Pajamų įmokos ir kitos pajamos | E10: =5465.1+2.4 -> 5467.5 | F10: 5312.1 | G10: 5312.1 | H10: 5312.1
C11: Ankstesnių metų likučiai | E11: =112.3+222.2 -> 334.5
B12: 010-01-01-02 | C12: Ugdymo proceso užtikrinimas nevalstybinėse ikimokyklinio ugdymo įstaigose | I12: 1.3.2.5.
C13: Lietuvos Respublikos valstybės biudžeto dotacijos | E13: =1476.7+6.5 -> 1483.2 | F13: 1483.2 | G13: 1483.2 | H13: 1483.2
B14: 010-01-01-03 | C14: Mokinio padėjėjų etatų skaičiaus užtikrinimas
C15: Savivaldybės biudžeto lėšos (nuosavos, be ankstesnių metų likučio) | E15: =463+47.3 -> 510.3 | F15: =401+62.2 -> 463.2 | G15: 463.2 | H15: 463.2
B16: 010-01-01-04 | C16: Ugdymo proceso ir aplinkos užtikrinimas savivaldybės pradinėje mokykloje ir mokyklose-darželiuose
C17: Savivaldybės biudžeto lėšos (nuosavos, be ankstesnių metų likučio) | E17: =2312.3+5.2 -> 2317.5 | F17: =2481.8-4.5 -> 2477.3 | G17: 2469.6 | H17: 2469.6
C18: Lietuvos Respublikos valstybės biudžeto dotacijos | E18: =2831.6+6.5 -> 2838.1 | F18: 2838.1 | G18: 2838.1 | H18: 2838.1
C19: Pajamų įmokos ir kitos pajamos | E19: 561.6 | F19: 563.3 | G19: 563.3 | H19: 563.3
C20: Ankstesnių metų likučiai | E20: =19+24.8 -> 43.8
B21: 010-01-01-05 | C21: Ugdymo proceso užtikrinimas nevalstybinėje pradinėje mokykloje ir mokyklose-darželiuose
C22: Lietuvos Respublikos valstybės biudžeto dotacijos | E22: =444.1+0.7 -> 444.8 | F22: 444.8 | G22: 444.8 | H22: 444.8
B23: 010-01-01-06 | C23: Ugdymo proceso ir aplinkos užtikrinimas savivaldybės bendrojo ugdymo mokyklose
C24: Savivaldybės biudžeto lėšos (nuosavos, be ankstesnių metų likučio) | E24: =14795.1+81.8+193.3 -> 15070.2 | F24: =16609-3.2 -> 16605.8 | G24: 16609 | H24: 16609
C25: Lietuvos Respublikos valstybės biudžeto dotacijos | E25: 58260.1 | F25: =58260.1+518.7 -> 58778.8 | G25: =58260.1+518.7 -> 58778.8 | H25: =58260.1+518.7 -> 58778.8
C26: Pajamų įmokos ir kitos pajamos | E26: 1402.6 | F26: 1556.7 | G26: 1556.7 | H26: 1556.7
C27: Ankstesnių metų likučiai | E27: =97.6+19.1 -> 116.7
C28: Projekto „Įdomus faktorius: sužaidybinimas įtraukiajam ugdymui“ įgyvendinimas Litorinos mokykloje
C29: Savivaldybės biudžeto lėšos (nuosavos, be ankstesnių metų likučio) | F29: =24-24 -> 0
C30: Kiti šaltiniai (Europos Sąjungos paramos lėšos) | E30: 96
B31: 010-01-01-07 | C31: Projekto „Erasmus+ akreditacijos KA121 “ įgyvendinimas Gedminų progimnazijos mokykloje
C32: Savivaldybės biudžeto lėšos (nuosavos, be ankstesnių metų likučio) | F32: 5.6
B33: 010-01-01-08 | C33: Projekto „Erasmus+ Informatinis mąstymas ir matematinis problemų sprendimas, analitika grindžiama mokymosi aplinka“ įgyvendinimas Gedminų progimnazijos mokykloje
C34: Savivaldybės biudžeto lėšos (nuosavos, be ankstesnių metų likučio) | F34: 8.4
B35: 010-01-01-09 | C35: Projekto Nordplus Junior „Kurkime ateitį kartu“ įgyvendinimas Gedminų progimnazijos mokykloje
C36: Savivaldybės biudžeto lėšos (nuosavos, be ankstesnių metų likučio) | F36: 6.4
B37: 010-01-01-10 | C37: Projekto Nordplus Junior „Mokytojai netradicinėje aplinkoje" įgyvendinimas Gedminų progimnazijos mokykloje
C38: Savivaldybės biudžeto lėšos (nuosavos, be ankstesnių metų likučio) | F38: =3-0.7 -> 2.3
C39: Karjeros specialistų etatų įvedimas ir didinimas švietimo įstaigose
C40: Lietuvos Respublikos valstybės biudžeto dotacijos | E40: 518.7
B41: 010-01-01-11 | C41: „Tūkstantmečio mokyklų“ programos įgyvendinimas | D41: ŠSD Švietimo skyrius, Biudžetinės švietimo įstaigos
C42: Lietuvos Respublikos valstybės biudžeto dotacijos | E42: =421.6+19.3-19.3 -> 421.6 | F42: =1051.4-13 -> 1038.4 | G42: 105
C43: Europos Sąjungos ir kitos tarptautinės finansinės paramos lėšos | E43: =2147.2+145-145 -> 2147.2 | F43: =5437.8-0.1 -> 5437.7 | G43: 500
C44: Lietuvos Respublikos valstybės biudžeto dotacijos | D44: MVPD Statinių administravimo skyrius | E44: 19.3 | F44: 436.6 | G44: 304
C45: Europos Sąjungos ir kitos tarptautinės finansinės paramos lėšos | E45: 91.5 | F45: 2078.6 | G45: 1447.6
C46: Savivaldybės biudžeto lėšos (nuosavos, be ankstesnių metų likučio) | F46: 300
C47: Europos Sąjungos ir kitos tarptautinės finansinės paramos lėšos | D47: Projektų skyrius | E47: 53.5 | F47: 156.2 | G47: 70.6
B48: 010-01-01-12 | C48: Ugdymo proceso užtikrinimas nevalstybinėse bendrojo ugdymo mokyklose | D48: ŠSD Švietimo skyrius, Biudžetinės švietimo įstaigos
C49: Lietuvos Respublikos valstybės biudžeto dotacijos | E49: =4564.9+2.2 -> 4567.1 | F49: 4567.1 | G49: 4567.1 | H49: 4567.1
B50: 010-01-01-13 | C50: Klaipėdos miesto bendrojo ugdymo mokyklų antrųjų klasių mokinių vežimo paslaugos mokyti plaukti užtikrinimas | D50: ŠSD Švietimo skyrius
C51: Savivaldybės biudžeto lėšos (nuosavos, be ankstesnių metų likučio) | E51: 41.3 | F51: 130.2 | G51: 130.2 | H51: 130.2
B52: 010-01-01-14 | C52: Klaipėdos Simono Dacho progimnazijos pradinių klasių mokinių vežiojimo į fizinio ugdymo pamokas užtikrinimas | D52: ŠSD Švietimo skyrius
C53: Savivaldybės biudžeto lėšos (nuosavos, be ankstesnių metų likučio) | E53: 12.6 | F53: 13.3 | G53: 13.3 | H53: 13.3
B54: 010-01-01-15 | C54: Ugdymo proceso ir aplinkos užtikrinimas savivaldybės neformaliojo vaikų švietimo įstaigose
C55: Savivaldybės biudžeto lėšos (nuosavos, be ankstesnių metų likučio) | E55: =10995.6+1 -> 10996.6 | F55: =11709.9+308.7 -> 12018.6 | G55: 12018.6 | H55: 12018.6
C56: Lietuvos Respublikos valstybės biudžeto dotacijos | E56: 160.2 | F56: 160.2 | G56: 160.2 | H56: 160.2
C57: Pajamų įmokos ir kitos pajamos | E57: 488.7 | F57: 522.3 | G57: 522.3 | H57: 522.3
C58: Ankstesnių metų likučiai | E58: 105.9
C59: Neformaliojo ugdymo įstaigų inventoriaus atnaujinimas
C60: Savivaldybės biudžeto lėšos (nuosavos, be ankstesnių metų likučio) | E60: 53.1
B61: 010-01-01-16 | C61: BĮ Klaipėdos pedagoginės psichologinės tarnybos veiklos užtikrinimas | I61: 2.4.3.3.
C62: Savivaldybės biudžeto lėšos (nuosavos, be ankstesnių metų likučio) | E62: 563.5 | F62: =662+9.4-35.6 -> 635.8 | G62: 628.1 | H62: 628.1
C63: Lietuvos Respublikos valstybės biudžeto dotacijos | E63: 1145.3 | F63: 1145.3 | G63: 1145.3 | H63: 1145.3
C64: Pajamų įmokos ir kitos pajamos | E64: 22 | F64: 22 | G64: 22 | H64: 22
C65: Ankstesnių metų likučiai | E65: =3.3+0.6 -> 3.9
B66: 010-01-01-17 | C66: Projekto „Integruota interaktyviųjų viešųjų sodų sistema Baltijos jūros regione „Interactive gardens“ įgyvendinimas
C67: Savivaldybės biudžeto lėšos (nuosavos, be ankstesnių metų likučio) | E67: 97.1 | F67: 97 | G67: 55
B68: 010-01-01-18 | C68: BĮ Klaipėdos regos ugdymo centro veiklos užtikrinimas
C69: Savivaldybės biudžeto lėšos (nuosavos, be ankstesnių metų likučio) | E69: =884.3+0.6 -> 884.9 | F69: =949.9+0.5 -> 950.4 | G69: 950.4 | H69: 950.4
C70: Lietuvos Respublikos valstybės biudžeto dotacijos | E70: =410.6+0.7 -> 411.3 | F70: 411.3 | G70: 411.3 | H70: 411.3
C71: Pajamų įmokos ir kitos pajamos | E71: 60.4 | F71: 57.9 | G71: 57.9 | H71: 57.9
C72: Ankstesnių metų likučiai | E72: =4.8+1.9 -> 6.7
B73: 010-01-01-19 | C73: BĮ Klaipėdos miesto pedagogų švietimo ir kultūros centro veiklos užtikrinimas | I73: 1.1.2.1.
C74: Savivaldybės biudžeto lėšos (nuosavos, be ankstesnių metų likučio) | E74: 517 | F74: =546.8+2.5 -> 549.3 | G74: 549.3 | H74: 549.3
C75: Pajamų įmokos ir kitos pajamos | E75: 35 | F75: 35 | G75: 35 | H75: 35
C76: Ankstesnių metų likučiai | E76: =2.5+1.5 -> 4
B77: 010-01-01-20 | C77: Gamtos mokslų, technologijų, inžinerijos, matematikos mokslų ir kūrybiškumo ugdymo (STEAM) įgyvendinimas | D77: ŠSD Švietimo skyrius | I77: 1.3.1.2.
C78: Savivaldybės biudžeto lėšos (nuosavos, be ankstesnių metų likučio) | E78: 10.4 | F78: 3 | G78: 3 | H78: 3
B79: 010-01-01-21 | C79: Mokinių maitinimo ir pavežėjimo užtikrinimas Klaipėdos „Aukuro“ gimnazijoje (sporto klasėse) | D79: ŠSD Švietimo skyrius, Biudžetinės švietimo įstaigos
C80: Savivaldybės biudžeto lėšos (nuosavos, be ankstesnių metų likučio) | E80: =137-20 -> 117 | F80: 116.2 | G80: 123.3 | H80: 123.3
B81: 010-01-01-22 | C81: Mokinių maitinimo ir pavėžėjimo užtikrinimas Klaipėdos jūrų kadetų mokykloje
C82: Savivaldybės biudžeto lėšos (nuosavos, be ankstesnių metų likučio) | E82: 143.6 | F82: 166 | G82: 184.6 | H82: 192
B83: 010-01-01-23 | C83: Universitetinių klasių veiklos organizavimas (Baltijos, „Žemynos“, Vytauto Didžiojo ir „Vėtrungės“ gimnazijose) | I83: 1.3.2.4.
C84: Savivaldybės biudžeto lėšos (nuosavos, be ankstesnių metų likučio) | E84: 400.1 | F84: 337 | G84: 337 | H84: 337
B85: 010-01-01-24 | C85: Ugdymo prieinamumo ir ugdymo formų įvairovės užtikrinimas | D85: ŠSD Švietimo skyrius
C86: Savivaldybės biudžeto lėšos (nuosavos, be ankstesnių metų likučio) | E86: =92.8+101.6 -> 194.4 | F86: =471.3-59.3 -> 412 | G86: 412 | H86: 412
C87: Ankstesnių metų likučiai | E87: 395.2
C88: Lietuvos Respublikos valstybės biudžeto dotacijos | E88: =593.6+1370.6 -> 1964.2 | F88: 593.6 | G88: 593.6 | H88: 593.6
B89: 010-01-01-25 | C89: Ugdymo prieinamumo užtikrinimas nevalstybinėse bendrojo ugdymo mokyklose besimokantiems mokiniams, atvykusiems į Lietuvos Respubliką iš Ukrainos dėl Rusijos Federacijos karinių veiksmų
C90: Savivaldybės biudžeto lėšos (nuosavos, be ankstesnių metų likučio) | E90: =132.4-5.7 -> 126.7 | F90: =107.5+21.3 -> 128.8 | G90: 128.8 | H90: 128.8
C91: Lietuvos Respublikos valstybės biudžeto dotacijos | E91: 5 | F91: 5 | G91: 5 | H91: 5
B92: 010-01-01-26 | C92: I–II dalies valstybinių brandos egzaminų administravimas
C93: Lietuvos Respublikos valstybės biudžeto dotacijos | E93: 137 | F93: 135 | G93: 135 | H93: 135
B94: 010-01-01-27 | C94: Maitinimo paslaugų kompensavimas | D94: ŠSD Švietimo skyrius, Biudžetinės švietimo įstaigos
C95: Savivaldybės biudžeto lėšos (nuosavos, be ankstesnių metų likučio) | E95: =632.2-54 -> 578.2 | F95: 588.9 | G95: 588.9 | H95: 588.9
B96: 010-01-01-28 | C96: Elektroninio mokinio pažymėjimo diegimas ir naudojimo užtikrinimas savivaldybės bendrojo ugdymo mokyklose | D96: ŠSD Švietimo skyrius
C97: Savivaldybės biudžeto lėšos (nuosavos, be ankstesnių metų likučio) | E97: 48.8 | F97: 78 | G97: 56.2 | H97: 56.2
B98: 010-01-01-29 | C98: Pedagogų pritraukimas ir išlaikymas Klaipėdos biudžetinėse švietimo įstaigose | D98: ŠSD Švietimo skyriu, Biudžetinės švietimo įstaigos | I98: 1.1.2.1.
C99: Savivaldybės biudžeto lėšos (nuosavos, be ankstesnių metų likučio) | E99: =455.7+2.2 -> 457.9 | F99: =282.2+62.6 -> 344.8 | G99: =282.2+62.6 -> 344.8 | H99: 344.8
C100: Lietuvos Respublikos valstybės biudžeto dotacijos | E100: =5.1+64.8 -> 69.9
...

Sheet Lėšų suvestinė 2 lentelė
B1: 2 lentelė. 2024 metų asignavimų ir kitų lėšų pasiskirstymas (tūkst. Eur)
B3: Eil. Nr. | C3: Programos kodas ir pavadinimas | D3: 2024 m. asignavimai ir kitos lėšos | E3: 2025 metų asignavimai ir kitos lėšos | F3: 2026 metų asignavimai ir kitos lėšos | G3: 2027 metų asignavimai ir kitos lėšos
B4: 1 | C4: 2 | D4: 3 | E4: 4 | F4: 5 | G4: 6
B5: 010 Ugdymo proceso užtikrinimo programa
B6: 1. | C6: Savivaldybės biudžetas (įskaitant skolintas lėšas) | D6: =SUM(D8:D13) -> 189690.7 | E6: =SUM(E8:E13) -> 207243.6 | F6: =SUM(F8:F13) -> 195468.3 | G6: =SUM(G8:G13) -> 192047.3
C7: Iš jo:
B8: 1.1. | C8: savivaldybės biudžeto lėšos (nuosavos, be ankstesnių metų likučio) | D8: =SUMIF('10 programa 3 lentelė'!C5:C392,'10 programa 3 lentelė'!C8,'10 programa 3 lentelė'!E5:E392) -> 77460.8 | E8: =SUMIF('10 programa 3 lentelė'!C5:C392,'10 programa 3 lentelė'!C8,'10 programa 3 lentelė'!F5:F392) -> 93034.4 | F8: =SUMIF('10 programa 3 lentelė'!C5:C392,'10 programa 3 lentelė'!C8,'10 programa 3 lentelė'!G5:G392) -> 92255.5 | G8: =SUMIF('10 programa 3 lentelė'!C5:C392,'10 programa 3 lentelė'!C8,'10 programa 3 lentelė'!H5:H392) -> 91962.7
B9: 1.2. | C9: Lietuvos Respublikos valstybės biudžeto dotacijos | D9: =SUMIF('10 programa 3 lentelė'!C5:C392,'10 programa 3 lentelė'!C9,'10 programa 3 lentelė'!E5:E392) -> 93661.8 | E9: =SUMIF('10 programa 3 lentelė'!C5:C392,'10 programa 3 lentelė'!C9,'10 programa 3 lentelė'!F5:F392) -> 93253 | F9: =SUMIF('10 programa 3 lentelė'!C5:C392,'10 programa 3 lentelė'!C9,'10 programa 3 lentelė'!G5:G392) -> 92121.3 | G9: =SUMIF('10 programa 3 lentelė'!C5:C392,'10 programa 3 lentelė'!C9,'10 programa 3 lentelė'!H5:H392) -> 91715.3
B10: 1.3. | C10: pajamų įmokos ir kitos pajamos | D10: =SUMIF('10 programa 3 lentelė'!C5:C392,'10 programa 3 lentelė'!C10,'10 programa 3 lentelė'!E5:E392) -> 8037.8 | E10: =SUMIF('10 programa 3 lentelė'!C5:C392,'10 programa 3 lentelė'!C10,'10 programa 3 lentelė'!F5:F392) -> 8069.3 | F10: =SUMIF('10 programa 3 lentelė'!C5:C392,'10 programa 3 lentelė'!C10,'10 programa 3 lentelė'!G5:G392) -> 8069.3 | G10: =SUMIF('10 programa 3 lentelė'!C5:C392,'10 programa 3 lentelė'!C10,'10 programa 3 lentelė'!H5:H392) -> 8069.3
B11: 1.4. | C11: Europos Sąjungos ir kitos tarptautinės finansinės paramos lėšos | D11: =SUMIF('10 programa 3 lentelė'!C5:C392,'10 programa 3 lentelė'!C45,'10 programa 3 lentelė'!E5:E392) -> 2350.9 | E11: =SUMIF('10 programa 3 lentelė'!C6:C393,'10 programa 3 lentelė'!C45,'10 programa 3 lentelė'!F6:F393) -> 8317.7 | F11: =SUMIF('10 programa 3 lentelė'!C5:C392,'10 programa 3 lentelė'!C45,'10 programa 3 lentelė'!G5:G392) -> 2763.4 | G11: =SUMIF('10 programa 3 lentelė'!C5:C392,'10 programa 3 lentelė'!C45,'10 programa 3 lentelė'!H5:H392) -> 300
B12: 1.5. | C12: skolintos lėšos | D12: =SUMIF('10 programa 3 lentelė'!C5:C392,'10 programa 3 lentelė'!C204,'10 programa 3 lentelė'!E5:E392) -> 1620.6 | E12: =SUMIF('10 programa 3 lentelė'!C7:C395,'10 programa 3 lentelė'!C204,'10 programa 3 lentelė'!F7:F395) -> 4217.4 | F12: =SUMIF('10 programa 3 lentelė'!C5:C392,'10 programa 3 lentelė'!C204,'10 programa 3 lentelė'!G5:G392) -> 258.8 | G12: =SUMIF('10 programa 3 lentelė'!C5:C392,'10 programa 3 lentelė'!C204,'10 programa 3 lentelė'!H5:H392) -> 0
B13: 1.6. | C13: ankstesnių metų likučiai | D13: =SUMIF('10 programa 3 lentelė'!C5:C392,'10 programa 3 lentelė'!C179,'10 programa 3 lentelė'!E5:E392) -> 6558.8 | E13: =SUMIF('10 programa 3 lentelė'!C8:C396,'10 programa 3 lentelė'!C179,'10 programa 3 lentelė'!F8:F396) -> 351.8 | F13: =SUMIF('10 programa 3 lentelė'!C5:C392,'10 programa 3 lentelė'!C179,'10 programa 3 lentelė'!G5:G392) -> 0 | G13: =SUMIF('10 programa 3 lentelė'!C5:C392,'10 programa 3 lentelė'!C179,'10 programa 3 lentelė'!H5:H392) -> 0
B14: 2. | C14: Kiti šaltiniai (Europos Sąjungos finansinė parama projektams įgyvendinti ir kitos teisėtai gautos lėšos, nurodant atskirus šaltinius) | D14: =SUM(D16:D21) -> 115.6 | E14: =SUM(E16:E21) -> 791.7 | F14: =SUM(F16:F21) -> 3564 | G14: =SUM(G16:G21) -> 3061.4
C15: Iš jo:
B16: 2.1. | C16: Europos Sąjungos paramos lėšos | D16: =SUMIF('10 programa 3 lentelė'!C5:C392,'10 programa 3 lentelė'!C30,'10 programa 3 lentelė'!E5:E392) -> 96 | E16: =SUMIF('10 programa 3 lentelė'!C5:C392,'10 programa 3 lentelė'!C30,'10 programa 3 lentelė'!F5:F392) -> 791.7 | F16: =SUMIF('10 programa 3 lentelė'!C5:C392,'10 programa 3 lentelė'!C30,'10 programa 3 lentelė'!G5:G392) -> 3564 | G16: =SUMIF('10 programa 3 lentelė'!C5:C392,'10 programa 3 lentelė'!C30,'10 programa 3 lentelė'!H5:H392) -> 3061.4
B17: 2.2. | C17: Privalomojo sveikatos draudimo fondo lėšos | D17: {=SUMIF('10 programa 3 lentelė'!C5:C392,'10 programa 3 lentelė'!C00,'10 programa 3 lentelė'!E5:E392)} -> 0 | E17: {=SUMIF('10 programa 3 lentelė'!C5:C392,'10 programa 3 lentelė'!C00,'10 programa 3 lentelė'!F5:F392)} -> 0 | F17: {=SUMIF('10 programa 3 lentelė'!C5:C392,'10 programa 3 lentelė'!C00,'10 programa 3 lentelė'!G5:G392)} -> 0 | G17: {=SUMIF('10 programa 3 lentelė'!C5:C392,'10 programa 3 lentelė'!C00,'10 programa 3 lentelė'!H5:H392)} -> 0
B18: 2.3. | C18: Klaipėdos valstybinio jūrų uosto direkcijos lėšos (KVJUD) | D18: {=SUMIF('10 programa 3 lentelė'!C5:C392,'10 programa 3 lentelė'!C00,'10 programa 3 lentelė'!E5:E392)} -> 0 | E18: {=SUMIF('10 programa 3 lentelė'!C5:C392,'10 programa 3 lentelė'!C00,'10 programa 3 lentelė'!F5:F392)} -> 0 | F18: {=SUMIF('10 programa 3 lentelė'!C5:C392,'10 programa 3 lentelė'!C00,'10 programa 3 lentelė'!G5:G392)} -> 0 | G18: {=SUMIF('10 programa 3 lentelė'!C5:C392,'10 programa 3 lentelė'!C00,'10 programa 3 lentelė'!H5:H392)} -> 0
B19: 2.4. | C19: Valstybės biudžeto lėšos (LRVB) | D19: =SUMIF('10 programa 3 lentelė'!C5:C392,'10 programa 3 lentelė'!C104,'10 programa 3 lentelė'!E5:E392) -> 19.6 | E19: =SUMIF('10 programa 3 lentelė'!C5:C392,'10 programa 3 lentelė'!C104,'10 programa 3 lentelė'!F5:F392) -> 0 | F19: =SUMIF('10 programa 3 lentelė'!C5:C392,'10 programa 3 lentelė'!C104,'10 programa 3 lentelė'!G5:G392) -> 0 | G19: =SUMIF('10 programa 3 lentelė'!C5:C392,'10 programa 3 lentelė'!C104,'10 programa 3 lentelė'!H5:H392) -> 0
B20: 2.5. | C20: Kiti finansavimo šaltiniai | D20: {=SUMIF('10 programa 3 lentelė'!C5:C392,'10 programa 3 lentelė'!C00,'10 programa 3 lentelė'!E5:E392)} -> 0 | E20: {=SUMIF('10 programa 3 lentelė'!C5:C392,'10 programa 3 lentelė'!C00,'10 programa 3 lentelė'!C5:C392)} -> 0 | F20: {=SUMIF('10 programa 3 lentelė'!C5:C392,'10 programa 3 lentelė'!C00,'10 programa 3 lentelė'!G5:G392)} -> 0 | G20: {=SUMIF('10 programa 3 lentelė'!C5:C392,'10 programa 3 lentelė'!C00,'10 programa 3 lentelė'!H5:H392)} -> 0
B21: 2.6. | C21: Kelių priežiūros ir plėtros programos lėšos (KPP) | D21: {=SUMIF('10 programa 3 lentelė'!C5:C392,'10 programa 3 lentelė'!C00,'10 programa 3 lentelė'!E5:E392)} -> 0 | E21: {=SUMIF('10 programa 3 lentelė'!C5:C392,'10 programa 3 lentelė'!C00,'10 programa 3 lentelė'!F5:F392)} -> 0 | F21: {=SUMIF('10 programa 3 lentelė'!C5:C392,'10 programa 3 lentelė'!C00,'10 programa 3 lentelė'!G5:G392)} -> 0 | G21: {=SUMIF('10 programa 3 lentelė'!C5:C392,'10 programa 3 lentelė'!C00,'10 programa 3 lentelė'!H5:H392)} -> 0
C22: IŠ VISO programai finansuoti pagal finansavimo šaltinius (1 ir 2 punktai) | D22: =D6+D14 -> 189806.3 | E22: =E6+E14 -> 208035.3 | F22: =F6+F14 -> 199032.3 | G22: =G6+G14 -> 195108.7
C23: Iš jų: regioninių pažangos priemonių lėšos | D23: ='10 programa 3 lentelė'!E392 -> 0 | E23: ='10 programa 3 lentelė'!F392 -> 263 | F23: =+'10 programa 3 lentelė'!G392 -> 258.9 | G23: ='10 programa 3 lentelė'!H392 -> 425.8
C24: Asignavimų ir kitų lėšų pokytis, palyginti su ankstesnių metų patvirtintų asignavimų ir kitų lėšų planu | E24: =+'10 programa 3 lentelė'!F393 -> 18229 | F24: =+'10 programa 3 lentelė'!G393 -> -9003 | G24: =+'10 programa 3 lentelė'!H393 -> -3923.6
D26: =+D22-'10 programa 3 lentelė'!E391 -> 0 | E26: =+E22-'10 programa 3 lentelė'!F391 -> 0 | F26: =+F22-'10 programa 3 lentelė'!G391 -> 0 | G26: =+G22-'10 programa 3 lentelė'!H391 -> 0
